BEGIN:VCALENDAR
VERSION:2.0
PRODID:-//Foro Shakespeare - ECPv6.15.16.1//NONSGML v1.0//EN
CALSCALE:GREGORIAN
METHOD:PUBLISH
X-WR-CALNAME:Foro Shakespeare
X-ORIGINAL-URL:https://foroshakespeare.com
X-WR-CALDESC:Eventos para Foro Shakespeare
REFRESH-INTERVAL;VALUE=DURATION:PT1H
X-Robots-Tag:noindex
X-PUBLISHED-TTL:PT1H
BEGIN:VTIMEZONE
TZID:America/Mexico_City
BEGIN:STANDARD
TZOFFSETFROM:-0600
TZOFFSETTO:-0600
TZNAME:CST
DTSTART:20250101T000000
END:STANDARD
END:VTIMEZONE
BEGIN:VEVENT
DTSTART;TZID=America/Mexico_City:20260305T203000
DTEND;TZID=America/Mexico_City:20260305T213000
DTSTAMP:20260424T161346
CREATED:20260203T195137Z
LAST-MODIFIED:20260203T231910Z
UID:38479-1772742600-1772746200@foroshakespeare.com
SUMMARY:Cabo Sunset
DESCRIPTION:Entre Risas yPecados\, Espectáculo de Cabaret				\n				\n				\n				\n									Del 4 de abril al 2 de mayosábados 20hEspacio Urgente 2 / $350Entrada generalCompañía – La Escuela de la Noche Un espectáculo de cabaret donde las confesiones\, las risas y los pecados nos llevan a la diversión. Con personajes que podemos encontrar en nuestra vida cotidiana\, que invitan al público a sumergirse en un viaje\, irreverente\, divertido y provocador\, en donde estos mismos son espejo de la humanidad. Bajo la dirección de Viridiana Monteagudo\, esta puesta en escena mezcla teatro\, drag\, burlesque\, música y sátira política en un formato cabaretero que te hará reír… y pensar.  								\n				\n				\n						\n					\n			\n						\n				\n									Elenco – Yentl Benezra / La Nena AlcocerYoali López / Miss XimeMariana Tovalín / Giacomo CasanovaGioconda Córdoba / Cris en CrisisManuel Castillo / Norita BanquellsLola Love / Dra. Dolores AmoresAndrew Flatgard / Dora la GentrificadoraMoy Vaz / Federico García LópezMax Snufkin / RossoGabriel Xelestiall / RushNicolas Gómez Palau / Joaquín Galante MasculanteHost – Viridiana Monteagudo / Lucrecia Dirección – Viridiana MonteagudoAutoría – Egresados de la 5ta Generación del taller de cabaret de la Escuela de la NocheAsistente de dirección – Sofía Damiz Diseño\, realización de Iluminación – Miguel Ángel Velázquez “El Güero”Diseño Gráfico – Edgar UscangaFotografías – Danaí García y Christian Medina Duración: 120 minutos aprox.Recomendada para jóvenes [+14] y adultos [No se admite la entrada con alimentos\, únicamente bebidas que estén dentro de nuestro menú de intercambio]  								\n				\n				\n				\n							\n			\n		\n						\n				\n					\n		\n				\n			\n						\n				\n							\n			\n		\n						\n				\n				\n				\n									\n					\n						\n									Comprar
URL:https://foroshakespeare.com/evento/cabo-sunset/
LOCATION:Foro Shakespeare\, Zamora 7\, Colonia Condesa\, Cuauhtémoc\, Ciudad de México.\, México
CATEGORIES:Cabaret,Comedia,Evento,Lectura dramatizada
ATTACH;FMTTYPE=image/png:https://foroshakespeare.com/wp-content/uploads/2026/02/CaboSunsetFrontBanner.png
END:VEVENT
BEGIN:VEVENT
DTSTART;TZID=America/Mexico_City:20260312T203000
DTEND;TZID=America/Mexico_City:20260312T213000
DTSTAMP:20260424T161346
CREATED:20260304T074515Z
LAST-MODIFIED:20260309T081010Z
UID:39059-1773347400-1773351000@foroshakespeare.com
SUMMARY:Cabo Sunset
DESCRIPTION:Entre Risas yPecados\, Espectáculo de Cabaret				\n				\n				\n				\n									Del 4 de abril al 2 de mayosábados 20hEspacio Urgente 2 / $350Entrada generalCompañía – La Escuela de la Noche Un espectáculo de cabaret donde las confesiones\, las risas y los pecados nos llevan a la diversión. Con personajes que podemos encontrar en nuestra vida cotidiana\, que invitan al público a sumergirse en un viaje\, irreverente\, divertido y provocador\, en donde estos mismos son espejo de la humanidad. Bajo la dirección de Viridiana Monteagudo\, esta puesta en escena mezcla teatro\, drag\, burlesque\, música y sátira política en un formato cabaretero que te hará reír… y pensar.  								\n				\n				\n						\n					\n			\n						\n				\n									Elenco – Yentl Benezra / La Nena AlcocerYoali López / Miss XimeMariana Tovalín / Giacomo CasanovaGioconda Córdoba / Cris en CrisisManuel Castillo / Norita BanquellsLola Love / Dra. Dolores AmoresAndrew Flatgard / Dora la GentrificadoraMoy Vaz / Federico García LópezMax Snufkin / RossoGabriel Xelestiall / RushNicolas Gómez Palau / Joaquín Galante MasculanteHost – Viridiana Monteagudo / Lucrecia Dirección – Viridiana MonteagudoAutoría – Egresados de la 5ta Generación del taller de cabaret de la Escuela de la NocheAsistente de dirección – Sofía Damiz Diseño\, realización de Iluminación – Miguel Ángel Velázquez “El Güero”Diseño Gráfico – Edgar UscangaFotografías – Danaí García y Christian Medina Duración: 120 minutos aprox.Recomendada para jóvenes [+14] y adultos [No se admite la entrada con alimentos\, únicamente bebidas que estén dentro de nuestro menú de intercambio]  								\n				\n				\n				\n							\n			\n		\n						\n				\n					\n		\n				\n			\n						\n				\n							\n			\n		\n						\n				\n				\n				\n									\n					\n						\n									Comprar
URL:https://foroshakespeare.com/evento/cabo-sunset-2/
LOCATION:Foro Shakespeare\, Zamora 7\, Colonia Condesa\, Cuauhtémoc\, Ciudad de México.\, México
CATEGORIES:Cabaret,Comedia,Evento,Lectura dramatizada
ATTACH;FMTTYPE=image/png:https://foroshakespeare.com/wp-content/uploads/2026/02/CaboSunsetFrontBanner.png
END:VEVENT
BEGIN:VEVENT
DTSTART;TZID=America/Mexico_City:20260319T203000
DTEND;TZID=America/Mexico_City:20260319T213000
DTSTAMP:20260424T161346
CREATED:20260304T074559Z
LAST-MODIFIED:20260320T001025Z
UID:39060-1773952200-1773955800@foroshakespeare.com
SUMMARY:Cabo Sunset
DESCRIPTION:Entre Risas yPecados\, Espectáculo de Cabaret				\n				\n				\n				\n									Del 4 de abril al 2 de mayosábados 20hEspacio Urgente 2 / $350Entrada generalCompañía – La Escuela de la Noche Un espectáculo de cabaret donde las confesiones\, las risas y los pecados nos llevan a la diversión. Con personajes que podemos encontrar en nuestra vida cotidiana\, que invitan al público a sumergirse en un viaje\, irreverente\, divertido y provocador\, en donde estos mismos son espejo de la humanidad. Bajo la dirección de Viridiana Monteagudo\, esta puesta en escena mezcla teatro\, drag\, burlesque\, música y sátira política en un formato cabaretero que te hará reír… y pensar.  								\n				\n				\n						\n					\n			\n						\n				\n									Elenco – Yentl Benezra / La Nena AlcocerYoali López / Miss XimeMariana Tovalín / Giacomo CasanovaGioconda Córdoba / Cris en CrisisManuel Castillo / Norita BanquellsLola Love / Dra. Dolores AmoresAndrew Flatgard / Dora la GentrificadoraMoy Vaz / Federico García LópezMax Snufkin / RossoGabriel Xelestiall / RushNicolas Gómez Palau / Joaquín Galante MasculanteHost – Viridiana Monteagudo / Lucrecia Dirección – Viridiana MonteagudoAutoría – Egresados de la 5ta Generación del taller de cabaret de la Escuela de la NocheAsistente de dirección – Sofía Damiz Diseño\, realización de Iluminación – Miguel Ángel Velázquez “El Güero”Diseño Gráfico – Edgar UscangaFotografías – Danaí García y Christian Medina Duración: 120 minutos aprox.Recomendada para jóvenes [+14] y adultos [No se admite la entrada con alimentos\, únicamente bebidas que estén dentro de nuestro menú de intercambio]  								\n				\n				\n				\n							\n			\n		\n						\n				\n					\n		\n				\n			\n						\n				\n							\n			\n		\n						\n				\n				\n				\n									\n					\n						\n									Comprar
URL:https://foroshakespeare.com/evento/cabo-sunset-3/
LOCATION:Foro Shakespeare\, Zamora 7\, Colonia Condesa\, Cuauhtémoc\, Ciudad de México.\, México
CATEGORIES:Cabaret,Comedia,Evento,Lectura dramatizada
ATTACH;FMTTYPE=image/png:https://foroshakespeare.com/wp-content/uploads/2026/02/CaboSunsetFrontBanner.png
END:VEVENT
BEGIN:VEVENT
DTSTART;TZID=America/Mexico_City:20260323T203000
DTEND;TZID=America/Mexico_City:20260323T220000
DTSTAMP:20260424T161346
CREATED:20260207T074935Z
LAST-MODIFIED:20260320T001549Z
UID:38585-1774297800-1774303200@foroshakespeare.com
SUMMARY:Obra negra\, mecánica del poder
DESCRIPTION:Entre Risas yPecados\, Espectáculo de Cabaret				\n				\n				\n				\n									Del 4 de abril al 2 de mayosábados 20hEspacio Urgente 2 / $350Entrada generalCompañía – La Escuela de la Noche Un espectáculo de cabaret donde las confesiones\, las risas y los pecados nos llevan a la diversión. Con personajes que podemos encontrar en nuestra vida cotidiana\, que invitan al público a sumergirse en un viaje\, irreverente\, divertido y provocador\, en donde estos mismos son espejo de la humanidad. Bajo la dirección de Viridiana Monteagudo\, esta puesta en escena mezcla teatro\, drag\, burlesque\, música y sátira política en un formato cabaretero que te hará reír… y pensar.  								\n				\n				\n						\n					\n			\n						\n				\n									Elenco – Yentl Benezra / La Nena AlcocerYoali López / Miss XimeMariana Tovalín / Giacomo CasanovaGioconda Córdoba / Cris en CrisisManuel Castillo / Norita BanquellsLola Love / Dra. Dolores AmoresAndrew Flatgard / Dora la GentrificadoraMoy Vaz / Federico García LópezMax Snufkin / RossoGabriel Xelestiall / RushNicolas Gómez Palau / Joaquín Galante MasculanteHost – Viridiana Monteagudo / Lucrecia Dirección – Viridiana MonteagudoAutoría – Egresados de la 5ta Generación del taller de cabaret de la Escuela de la NocheAsistente de dirección – Sofía Damiz Diseño\, realización de Iluminación – Miguel Ángel Velázquez “El Güero”Diseño Gráfico – Edgar UscangaFotografías – Danaí García y Christian Medina Duración: 120 minutos aprox.Recomendada para jóvenes [+14] y adultos [No se admite la entrada con alimentos\, únicamente bebidas que estén dentro de nuestro menú de intercambio]  								\n				\n				\n				\n							\n			\n		\n						\n				\n					\n		\n				\n			\n						\n				\n							\n			\n		\n						\n				\n				\n				\n									\n					\n						\n									Comprar
URL:https://foroshakespeare.com/evento/obra-negra-mecanica-del-poder/
LOCATION:Foro Shakespeare\, Zamora 7\, Colonia Condesa\, Cuauhtémoc\, Ciudad de México.\, México
CATEGORIES:Cabaret,Comedia,Drama
ATTACH;FMTTYPE=image/png:https://foroshakespeare.com/wp-content/uploads/2026/02/Evento-ObraNegra-FrontBanner-1-1.png
END:VEVENT
BEGIN:VEVENT
DTSTART;TZID=America/Mexico_City:20260326T203000
DTEND;TZID=America/Mexico_City:20260326T213000
DTSTAMP:20260424T161346
CREATED:20260304T074633Z
LAST-MODIFIED:20260304T074633Z
UID:39061-1774557000-1774560600@foroshakespeare.com
SUMMARY:Cabo Sunset
DESCRIPTION:Entre Risas yPecados\, Espectáculo de Cabaret				\n				\n				\n				\n									Del 4 de abril al 2 de mayosábados 20hEspacio Urgente 2 / $350Entrada generalCompañía – La Escuela de la Noche Un espectáculo de cabaret donde las confesiones\, las risas y los pecados nos llevan a la diversión. Con personajes que podemos encontrar en nuestra vida cotidiana\, que invitan al público a sumergirse en un viaje\, irreverente\, divertido y provocador\, en donde estos mismos son espejo de la humanidad. Bajo la dirección de Viridiana Monteagudo\, esta puesta en escena mezcla teatro\, drag\, burlesque\, música y sátira política en un formato cabaretero que te hará reír… y pensar.  								\n				\n				\n						\n					\n			\n						\n				\n									Elenco – Yentl Benezra / La Nena AlcocerYoali López / Miss XimeMariana Tovalín / Giacomo CasanovaGioconda Córdoba / Cris en CrisisManuel Castillo / Norita BanquellsLola Love / Dra. Dolores AmoresAndrew Flatgard / Dora la GentrificadoraMoy Vaz / Federico García LópezMax Snufkin / RossoGabriel Xelestiall / RushNicolas Gómez Palau / Joaquín Galante MasculanteHost – Viridiana Monteagudo / Lucrecia Dirección – Viridiana MonteagudoAutoría – Egresados de la 5ta Generación del taller de cabaret de la Escuela de la NocheAsistente de dirección – Sofía Damiz Diseño\, realización de Iluminación – Miguel Ángel Velázquez “El Güero”Diseño Gráfico – Edgar UscangaFotografías – Danaí García y Christian Medina Duración: 120 minutos aprox.Recomendada para jóvenes [+14] y adultos [No se admite la entrada con alimentos\, únicamente bebidas que estén dentro de nuestro menú de intercambio]  								\n				\n				\n				\n							\n			\n		\n						\n				\n					\n		\n				\n			\n						\n				\n							\n			\n		\n						\n				\n				\n				\n									\n					\n						\n									Comprar
URL:https://foroshakespeare.com/evento/cabo-sunset-4/
LOCATION:Foro Shakespeare\, Zamora 7\, Colonia Condesa\, Cuauhtémoc\, Ciudad de México.\, México
CATEGORIES:Cabaret,Comedia,Lectura dramatizada
ATTACH;FMTTYPE=image/png:https://foroshakespeare.com/wp-content/uploads/2026/02/CaboSunsetFrontBanner.png
END:VEVENT
BEGIN:VEVENT
DTSTART;TZID=America/Mexico_City:20260330T203000
DTEND;TZID=America/Mexico_City:20260330T220000
DTSTAMP:20260424T161346
CREATED:20260304T083033Z
LAST-MODIFIED:20260331T060337Z
UID:39084-1774902600-1774908000@foroshakespeare.com
SUMMARY:Obra negra\, mecánica del poder
DESCRIPTION:Entre Risas yPecados\, Espectáculo de Cabaret				\n				\n				\n				\n									Del 4 de abril al 2 de mayosábados 20hEspacio Urgente 2 / $350Entrada generalCompañía – La Escuela de la Noche Un espectáculo de cabaret donde las confesiones\, las risas y los pecados nos llevan a la diversión. Con personajes que podemos encontrar en nuestra vida cotidiana\, que invitan al público a sumergirse en un viaje\, irreverente\, divertido y provocador\, en donde estos mismos son espejo de la humanidad. Bajo la dirección de Viridiana Monteagudo\, esta puesta en escena mezcla teatro\, drag\, burlesque\, música y sátira política en un formato cabaretero que te hará reír… y pensar.  								\n				\n				\n						\n					\n			\n						\n				\n									Elenco – Yentl Benezra / La Nena AlcocerYoali López / Miss XimeMariana Tovalín / Giacomo CasanovaGioconda Córdoba / Cris en CrisisManuel Castillo / Norita BanquellsLola Love / Dra. Dolores AmoresAndrew Flatgard / Dora la GentrificadoraMoy Vaz / Federico García LópezMax Snufkin / RossoGabriel Xelestiall / RushNicolas Gómez Palau / Joaquín Galante MasculanteHost – Viridiana Monteagudo / Lucrecia Dirección – Viridiana MonteagudoAutoría – Egresados de la 5ta Generación del taller de cabaret de la Escuela de la NocheAsistente de dirección – Sofía Damiz Diseño\, realización de Iluminación – Miguel Ángel Velázquez “El Güero”Diseño Gráfico – Edgar UscangaFotografías – Danaí García y Christian Medina Duración: 120 minutos aprox.Recomendada para jóvenes [+14] y adultos [No se admite la entrada con alimentos\, únicamente bebidas que estén dentro de nuestro menú de intercambio]  								\n				\n				\n				\n							\n			\n		\n						\n				\n					\n		\n				\n			\n						\n				\n							\n			\n		\n						\n				\n				\n				\n									\n					\n						\n									Comprar
URL:https://foroshakespeare.com/evento/obra-negra-mecanica-del-poder-2/
LOCATION:Foro Shakespeare\, Zamora 7\, Colonia Condesa\, Cuauhtémoc\, Ciudad de México.\, México
CATEGORIES:Cabaret,Comedia,Drama,Evento
ATTACH;FMTTYPE=image/png:https://foroshakespeare.com/wp-content/uploads/2026/02/Evento-ObraNegra-FrontBanner-1-1.png
END:VEVENT
END:VCALENDAR