BEGIN:VCALENDAR
VERSION:2.0
PRODID:-//Foro Shakespeare - ECPv6.15.16.1//NONSGML v1.0//EN
CALSCALE:GREGORIAN
METHOD:PUBLISH
X-ORIGINAL-URL:https://foroshakespeare.com
X-WR-CALDESC:Eventos para Foro Shakespeare
REFRESH-INTERVAL;VALUE=DURATION:PT1H
X-Robots-Tag:noindex
X-PUBLISHED-TTL:PT1H
BEGIN:VTIMEZONE
TZID:America/Mexico_City
BEGIN:STANDARD
TZOFFSETFROM:-0600
TZOFFSETTO:-0600
TZNAME:CST
DTSTART:20250101T000000
END:STANDARD
END:VTIMEZONE
BEGIN:VEVENT
DTSTART;TZID=America/Mexico_City:20260502T200000
DTEND;TZID=America/Mexico_City:20260502T220000
DTSTAMP:20260424T161501
CREATED:20260417T173813Z
LAST-MODIFIED:20260417T174033Z
UID:39881-1777752000-1777759200@foroshakespeare.com
SUMMARY:Entre Risas y Pecados\, Espectáculo de Cabaret
DESCRIPTION:Entre Risas yPecados\, Espectáculo de Cabaret				\n				\n				\n				\n									Del 4 de abril al 2 de mayosábados 20hEspacio Urgente 2 / $350Entrada generalCompañía – La Escuela de la Noche Un espectáculo de cabaret donde las confesiones\, las risas y los pecados nos llevan a la diversión. Con personajes que podemos encontrar en nuestra vida cotidiana\, que invitan al público a sumergirse en un viaje\, irreverente\, divertido y provocador\, en donde estos mismos son espejo de la humanidad. Bajo la dirección de Viridiana Monteagudo\, esta puesta en escena mezcla teatro\, drag\, burlesque\, música y sátira política en un formato cabaretero que te hará reír… y pensar.  								\n				\n				\n						\n					\n			\n						\n				\n									Elenco – Yentl Benezra / La Nena AlcocerYoali López / Miss XimeMariana Tovalín / Giacomo CasanovaGioconda Córdoba / Cris en CrisisManuel Castillo / Norita BanquellsLola Love / Dra. Dolores AmoresAndrew Flatgard / Dora la GentrificadoraMoy Vaz / Federico García LópezMax Snufkin / RossoGabriel Xelestiall / RushNicolas Gómez Palau / Joaquín Galante MasculanteHost – Viridiana Monteagudo / Lucrecia Dirección – Viridiana MonteagudoAutoría – Egresados de la 5ta Generación del taller de cabaret de la Escuela de la NocheAsistente de dirección – Sofía Damiz Diseño\, realización de Iluminación – Miguel Ángel Velázquez “El Güero”Diseño Gráfico – Edgar UscangaFotografías – Danaí García y Christian Medina Duración: 120 minutos aprox.Recomendada para jóvenes [+14] y adultos [No se admite la entrada con alimentos\, únicamente bebidas que estén dentro de nuestro menú de intercambio]  								\n				\n				\n				\n							\n			\n		\n						\n				\n					\n		\n				\n			\n						\n				\n							\n			\n		\n						\n				\n				\n				\n									\n					\n						\n									Comprar
URL:https://foroshakespeare.com/evento/entre-risas-y-pecados-espectaculo-de-cabaret-5/
LOCATION:Foro Shakespeare\, Zamora 7\, Colonia Condesa\, Cuauhtémoc\, Ciudad de México.\, México
CATEGORIES:Cabaret
ATTACH;FMTTYPE=image/jpeg:https://foroshakespeare.com/wp-content/uploads/2025/12/vf-ENTRE-RISAS-Y-PECADOS-1440X9001-1.jpg
END:VEVENT
BEGIN:VEVENT
DTSTART;TZID=America/Mexico_City:20260504T203000
DTEND;TZID=America/Mexico_City:20260504T220000
DTSTAMP:20260424T161501
CREATED:20260304T083536Z
LAST-MODIFIED:20260304T083536Z
UID:39089-1777926600-1777932000@foroshakespeare.com
SUMMARY:Obra negra\, mecánica del poder
DESCRIPTION:Entre Risas yPecados\, Espectáculo de Cabaret				\n				\n				\n				\n									Del 4 de abril al 2 de mayosábados 20hEspacio Urgente 2 / $350Entrada generalCompañía – La Escuela de la Noche Un espectáculo de cabaret donde las confesiones\, las risas y los pecados nos llevan a la diversión. Con personajes que podemos encontrar en nuestra vida cotidiana\, que invitan al público a sumergirse en un viaje\, irreverente\, divertido y provocador\, en donde estos mismos son espejo de la humanidad. Bajo la dirección de Viridiana Monteagudo\, esta puesta en escena mezcla teatro\, drag\, burlesque\, música y sátira política en un formato cabaretero que te hará reír… y pensar.  								\n				\n				\n						\n					\n			\n						\n				\n									Elenco – Yentl Benezra / La Nena AlcocerYoali López / Miss XimeMariana Tovalín / Giacomo CasanovaGioconda Córdoba / Cris en CrisisManuel Castillo / Norita BanquellsLola Love / Dra. Dolores AmoresAndrew Flatgard / Dora la GentrificadoraMoy Vaz / Federico García LópezMax Snufkin / RossoGabriel Xelestiall / RushNicolas Gómez Palau / Joaquín Galante MasculanteHost – Viridiana Monteagudo / Lucrecia Dirección – Viridiana MonteagudoAutoría – Egresados de la 5ta Generación del taller de cabaret de la Escuela de la NocheAsistente de dirección – Sofía Damiz Diseño\, realización de Iluminación – Miguel Ángel Velázquez “El Güero”Diseño Gráfico – Edgar UscangaFotografías – Danaí García y Christian Medina Duración: 120 minutos aprox.Recomendada para jóvenes [+14] y adultos [No se admite la entrada con alimentos\, únicamente bebidas que estén dentro de nuestro menú de intercambio]  								\n				\n				\n				\n							\n			\n		\n						\n				\n					\n		\n				\n			\n						\n				\n							\n			\n		\n						\n				\n				\n				\n									\n					\n						\n									Comprar
URL:https://foroshakespeare.com/evento/obra-negra-mecanica-del-poder-7/
LOCATION:Foro Shakespeare\, Zamora 7\, Colonia Condesa\, Cuauhtémoc\, Ciudad de México.\, México
CATEGORIES:Cabaret,Comedia,Drama
ATTACH;FMTTYPE=image/png:https://foroshakespeare.com/wp-content/uploads/2026/02/Evento-ObraNegra-FrontBanner-1-1.png
END:VEVENT
BEGIN:VEVENT
DTSTART;TZID=America/Mexico_City:20260505T203000
DTEND;TZID=America/Mexico_City:20260505T215000
DTSTAMP:20260424T161501
CREATED:20260407T103720Z
LAST-MODIFIED:20260407T152903Z
UID:39756-1778013000-1778017800@foroshakespeare.com
SUMMARY:Las crónicas del Diablo
DESCRIPTION:Entre Risas yPecados\, Espectáculo de Cabaret				\n				\n				\n				\n									Del 4 de abril al 2 de mayosábados 20hEspacio Urgente 2 / $350Entrada generalCompañía – La Escuela de la Noche Un espectáculo de cabaret donde las confesiones\, las risas y los pecados nos llevan a la diversión. Con personajes que podemos encontrar en nuestra vida cotidiana\, que invitan al público a sumergirse en un viaje\, irreverente\, divertido y provocador\, en donde estos mismos son espejo de la humanidad. Bajo la dirección de Viridiana Monteagudo\, esta puesta en escena mezcla teatro\, drag\, burlesque\, música y sátira política en un formato cabaretero que te hará reír… y pensar.  								\n				\n				\n						\n					\n			\n						\n				\n									Elenco – Yentl Benezra / La Nena AlcocerYoali López / Miss XimeMariana Tovalín / Giacomo CasanovaGioconda Córdoba / Cris en CrisisManuel Castillo / Norita BanquellsLola Love / Dra. Dolores AmoresAndrew Flatgard / Dora la GentrificadoraMoy Vaz / Federico García LópezMax Snufkin / RossoGabriel Xelestiall / RushNicolas Gómez Palau / Joaquín Galante MasculanteHost – Viridiana Monteagudo / Lucrecia Dirección – Viridiana MonteagudoAutoría – Egresados de la 5ta Generación del taller de cabaret de la Escuela de la NocheAsistente de dirección – Sofía Damiz Diseño\, realización de Iluminación – Miguel Ángel Velázquez “El Güero”Diseño Gráfico – Edgar UscangaFotografías – Danaí García y Christian Medina Duración: 120 minutos aprox.Recomendada para jóvenes [+14] y adultos [No se admite la entrada con alimentos\, únicamente bebidas que estén dentro de nuestro menú de intercambio]  								\n				\n				\n				\n							\n			\n		\n						\n				\n					\n		\n				\n			\n						\n				\n							\n			\n		\n						\n				\n				\n				\n									\n					\n						\n									Comprar
URL:https://foroshakespeare.com/evento/las-cronicas-del-diablo/
LOCATION:Foro Shakespeare\, Zamora 7\, Colonia Condesa\, Cuauhtémoc\, Ciudad de México.\, México
CATEGORIES:Cabaret,Comedia,Evento,Interdisciplina
ATTACH;FMTTYPE=image/png:https://foroshakespeare.com/wp-content/uploads/2026/04/Evento-Las-cronicas-del-Diablo-front-banner-1440-x-900-px-2.png
END:VEVENT
BEGIN:VEVENT
DTSTART;TZID=America/Mexico_City:20260509T170000
DTEND;TZID=America/Mexico_City:20260509T193000
DTSTAMP:20260424T161501
CREATED:20260330T173033Z
LAST-MODIFIED:20260401T083301Z
UID:39482-1778346000-1778355000@foroshakespeare.com
SUMMARY:Cómo deconstruirse del patriarcado sin morir en el intento
DESCRIPTION:Entre Risas yPecados\, Espectáculo de Cabaret				\n				\n				\n				\n									Del 4 de abril al 2 de mayosábados 20hEspacio Urgente 2 / $350Entrada generalCompañía – La Escuela de la Noche Un espectáculo de cabaret donde las confesiones\, las risas y los pecados nos llevan a la diversión. Con personajes que podemos encontrar en nuestra vida cotidiana\, que invitan al público a sumergirse en un viaje\, irreverente\, divertido y provocador\, en donde estos mismos son espejo de la humanidad. Bajo la dirección de Viridiana Monteagudo\, esta puesta en escena mezcla teatro\, drag\, burlesque\, música y sátira política en un formato cabaretero que te hará reír… y pensar.  								\n				\n				\n						\n					\n			\n						\n				\n									Elenco – Yentl Benezra / La Nena AlcocerYoali López / Miss XimeMariana Tovalín / Giacomo CasanovaGioconda Córdoba / Cris en CrisisManuel Castillo / Norita BanquellsLola Love / Dra. Dolores AmoresAndrew Flatgard / Dora la GentrificadoraMoy Vaz / Federico García LópezMax Snufkin / RossoGabriel Xelestiall / RushNicolas Gómez Palau / Joaquín Galante MasculanteHost – Viridiana Monteagudo / Lucrecia Dirección – Viridiana MonteagudoAutoría – Egresados de la 5ta Generación del taller de cabaret de la Escuela de la NocheAsistente de dirección – Sofía Damiz Diseño\, realización de Iluminación – Miguel Ángel Velázquez “El Güero”Diseño Gráfico – Edgar UscangaFotografías – Danaí García y Christian Medina Duración: 120 minutos aprox.Recomendada para jóvenes [+14] y adultos [No se admite la entrada con alimentos\, únicamente bebidas que estén dentro de nuestro menú de intercambio]  								\n				\n				\n				\n							\n			\n		\n						\n				\n					\n		\n				\n			\n						\n				\n							\n			\n		\n						\n				\n				\n				\n									\n					\n						\n									Comprar
URL:https://foroshakespeare.com/evento/como-deconstruirse-del-patriarcado-sin-morir-en-el-intento-5/
LOCATION:Foro Shakespeare\, Zamora 7\, Colonia Condesa\, Cuauhtémoc\, Ciudad de México.\, México
CATEGORIES:Cabaret,Comedia,Drama,Musical,Tragicomedia
ATTACH;FMTTYPE=image/png:https://foroshakespeare.com/wp-content/uploads/2026/03/evento-como-deconstruirse-front-banner.png
END:VEVENT
BEGIN:VEVENT
DTSTART;TZID=America/Mexico_City:20260511T203000
DTEND;TZID=America/Mexico_City:20260511T220000
DTSTAMP:20260424T161501
CREATED:20260304T083607Z
LAST-MODIFIED:20260304T083607Z
UID:39090-1778531400-1778536800@foroshakespeare.com
SUMMARY:Obra negra\, mecánica del poder
DESCRIPTION:Entre Risas yPecados\, Espectáculo de Cabaret				\n				\n				\n				\n									Del 4 de abril al 2 de mayosábados 20hEspacio Urgente 2 / $350Entrada generalCompañía – La Escuela de la Noche Un espectáculo de cabaret donde las confesiones\, las risas y los pecados nos llevan a la diversión. Con personajes que podemos encontrar en nuestra vida cotidiana\, que invitan al público a sumergirse en un viaje\, irreverente\, divertido y provocador\, en donde estos mismos son espejo de la humanidad. Bajo la dirección de Viridiana Monteagudo\, esta puesta en escena mezcla teatro\, drag\, burlesque\, música y sátira política en un formato cabaretero que te hará reír… y pensar.  								\n				\n				\n						\n					\n			\n						\n				\n									Elenco – Yentl Benezra / La Nena AlcocerYoali López / Miss XimeMariana Tovalín / Giacomo CasanovaGioconda Córdoba / Cris en CrisisManuel Castillo / Norita BanquellsLola Love / Dra. Dolores AmoresAndrew Flatgard / Dora la GentrificadoraMoy Vaz / Federico García LópezMax Snufkin / RossoGabriel Xelestiall / RushNicolas Gómez Palau / Joaquín Galante MasculanteHost – Viridiana Monteagudo / Lucrecia Dirección – Viridiana MonteagudoAutoría – Egresados de la 5ta Generación del taller de cabaret de la Escuela de la NocheAsistente de dirección – Sofía Damiz Diseño\, realización de Iluminación – Miguel Ángel Velázquez “El Güero”Diseño Gráfico – Edgar UscangaFotografías – Danaí García y Christian Medina Duración: 120 minutos aprox.Recomendada para jóvenes [+14] y adultos [No se admite la entrada con alimentos\, únicamente bebidas que estén dentro de nuestro menú de intercambio]  								\n				\n				\n				\n							\n			\n		\n						\n				\n					\n		\n				\n			\n						\n				\n							\n			\n		\n						\n				\n				\n				\n									\n					\n						\n									Comprar
URL:https://foroshakespeare.com/evento/obra-negra-mecanica-del-poder-8/
LOCATION:Foro Shakespeare\, Zamora 7\, Colonia Condesa\, Cuauhtémoc\, Ciudad de México.\, México
CATEGORIES:Cabaret,Comedia,Drama
ATTACH;FMTTYPE=image/png:https://foroshakespeare.com/wp-content/uploads/2026/02/Evento-ObraNegra-FrontBanner-1-1.png
END:VEVENT
BEGIN:VEVENT
DTSTART;TZID=America/Mexico_City:20260516T170000
DTEND;TZID=America/Mexico_City:20260516T193000
DTSTAMP:20260424T161501
CREATED:20260330T173102Z
LAST-MODIFIED:20260401T083326Z
UID:39484-1778950800-1778959800@foroshakespeare.com
SUMMARY:Cómo deconstruirse del patriarcado sin morir en el intento
DESCRIPTION:Entre Risas yPecados\, Espectáculo de Cabaret				\n				\n				\n				\n									Del 4 de abril al 2 de mayosábados 20hEspacio Urgente 2 / $350Entrada generalCompañía – La Escuela de la Noche Un espectáculo de cabaret donde las confesiones\, las risas y los pecados nos llevan a la diversión. Con personajes que podemos encontrar en nuestra vida cotidiana\, que invitan al público a sumergirse en un viaje\, irreverente\, divertido y provocador\, en donde estos mismos son espejo de la humanidad. Bajo la dirección de Viridiana Monteagudo\, esta puesta en escena mezcla teatro\, drag\, burlesque\, música y sátira política en un formato cabaretero que te hará reír… y pensar.  								\n				\n				\n						\n					\n			\n						\n				\n									Elenco – Yentl Benezra / La Nena AlcocerYoali López / Miss XimeMariana Tovalín / Giacomo CasanovaGioconda Córdoba / Cris en CrisisManuel Castillo / Norita BanquellsLola Love / Dra. Dolores AmoresAndrew Flatgard / Dora la GentrificadoraMoy Vaz / Federico García LópezMax Snufkin / RossoGabriel Xelestiall / RushNicolas Gómez Palau / Joaquín Galante MasculanteHost – Viridiana Monteagudo / Lucrecia Dirección – Viridiana MonteagudoAutoría – Egresados de la 5ta Generación del taller de cabaret de la Escuela de la NocheAsistente de dirección – Sofía Damiz Diseño\, realización de Iluminación – Miguel Ángel Velázquez “El Güero”Diseño Gráfico – Edgar UscangaFotografías – Danaí García y Christian Medina Duración: 120 minutos aprox.Recomendada para jóvenes [+14] y adultos [No se admite la entrada con alimentos\, únicamente bebidas que estén dentro de nuestro menú de intercambio]  								\n				\n				\n				\n							\n			\n		\n						\n				\n					\n		\n				\n			\n						\n				\n							\n			\n		\n						\n				\n				\n				\n									\n					\n						\n									Comprar
URL:https://foroshakespeare.com/evento/como-deconstruirse-del-patriarcado-sin-morir-en-el-intento-6/
LOCATION:Foro Shakespeare\, Zamora 7\, Colonia Condesa\, Cuauhtémoc\, Ciudad de México.\, México
CATEGORIES:Cabaret,Comedia,Drama,Musical,Tragicomedia
ATTACH;FMTTYPE=image/png:https://foroshakespeare.com/wp-content/uploads/2026/03/evento-como-deconstruirse-front-banner.png
END:VEVENT
BEGIN:VEVENT
DTSTART;TZID=America/Mexico_City:20260523T170000
DTEND;TZID=America/Mexico_City:20260523T193000
DTSTAMP:20260424T161501
CREATED:20260330T173132Z
LAST-MODIFIED:20260401T083346Z
UID:39486-1779555600-1779564600@foroshakespeare.com
SUMMARY:Cómo deconstruirse del patriarcado sin morir en el intento
DESCRIPTION:Entre Risas yPecados\, Espectáculo de Cabaret				\n				\n				\n				\n									Del 4 de abril al 2 de mayosábados 20hEspacio Urgente 2 / $350Entrada generalCompañía – La Escuela de la Noche Un espectáculo de cabaret donde las confesiones\, las risas y los pecados nos llevan a la diversión. Con personajes que podemos encontrar en nuestra vida cotidiana\, que invitan al público a sumergirse en un viaje\, irreverente\, divertido y provocador\, en donde estos mismos son espejo de la humanidad. Bajo la dirección de Viridiana Monteagudo\, esta puesta en escena mezcla teatro\, drag\, burlesque\, música y sátira política en un formato cabaretero que te hará reír… y pensar.  								\n				\n				\n						\n					\n			\n						\n				\n									Elenco – Yentl Benezra / La Nena AlcocerYoali López / Miss XimeMariana Tovalín / Giacomo CasanovaGioconda Córdoba / Cris en CrisisManuel Castillo / Norita BanquellsLola Love / Dra. Dolores AmoresAndrew Flatgard / Dora la GentrificadoraMoy Vaz / Federico García LópezMax Snufkin / RossoGabriel Xelestiall / RushNicolas Gómez Palau / Joaquín Galante MasculanteHost – Viridiana Monteagudo / Lucrecia Dirección – Viridiana MonteagudoAutoría – Egresados de la 5ta Generación del taller de cabaret de la Escuela de la NocheAsistente de dirección – Sofía Damiz Diseño\, realización de Iluminación – Miguel Ángel Velázquez “El Güero”Diseño Gráfico – Edgar UscangaFotografías – Danaí García y Christian Medina Duración: 120 minutos aprox.Recomendada para jóvenes [+14] y adultos [No se admite la entrada con alimentos\, únicamente bebidas que estén dentro de nuestro menú de intercambio]  								\n				\n				\n				\n							\n			\n		\n						\n				\n					\n		\n				\n			\n						\n				\n							\n			\n		\n						\n				\n				\n				\n									\n					\n						\n									Comprar
URL:https://foroshakespeare.com/evento/como-deconstruirse-del-patriarcado-sin-morir-en-el-intento-7/
LOCATION:Foro Shakespeare\, Zamora 7\, Colonia Condesa\, Cuauhtémoc\, Ciudad de México.\, México
CATEGORIES:Cabaret,Comedia,Drama,Musical,Tragicomedia
ATTACH;FMTTYPE=image/png:https://foroshakespeare.com/wp-content/uploads/2026/03/evento-como-deconstruirse-front-banner.png
END:VEVENT
BEGIN:VEVENT
DTSTART;TZID=America/Mexico_City:20260525T203000
DTEND;TZID=America/Mexico_City:20260525T220000
DTSTAMP:20260424T161501
CREATED:20260304T083634Z
LAST-MODIFIED:20260304T083634Z
UID:39091-1779741000-1779746400@foroshakespeare.com
SUMMARY:Obra negra\, mecánica del poder
DESCRIPTION:Entre Risas yPecados\, Espectáculo de Cabaret				\n				\n				\n				\n									Del 4 de abril al 2 de mayosábados 20hEspacio Urgente 2 / $350Entrada generalCompañía – La Escuela de la Noche Un espectáculo de cabaret donde las confesiones\, las risas y los pecados nos llevan a la diversión. Con personajes que podemos encontrar en nuestra vida cotidiana\, que invitan al público a sumergirse en un viaje\, irreverente\, divertido y provocador\, en donde estos mismos son espejo de la humanidad. Bajo la dirección de Viridiana Monteagudo\, esta puesta en escena mezcla teatro\, drag\, burlesque\, música y sátira política en un formato cabaretero que te hará reír… y pensar.  								\n				\n				\n						\n					\n			\n						\n				\n									Elenco – Yentl Benezra / La Nena AlcocerYoali López / Miss XimeMariana Tovalín / Giacomo CasanovaGioconda Córdoba / Cris en CrisisManuel Castillo / Norita BanquellsLola Love / Dra. Dolores AmoresAndrew Flatgard / Dora la GentrificadoraMoy Vaz / Federico García LópezMax Snufkin / RossoGabriel Xelestiall / RushNicolas Gómez Palau / Joaquín Galante MasculanteHost – Viridiana Monteagudo / Lucrecia Dirección – Viridiana MonteagudoAutoría – Egresados de la 5ta Generación del taller de cabaret de la Escuela de la NocheAsistente de dirección – Sofía Damiz Diseño\, realización de Iluminación – Miguel Ángel Velázquez “El Güero”Diseño Gráfico – Edgar UscangaFotografías – Danaí García y Christian Medina Duración: 120 minutos aprox.Recomendada para jóvenes [+14] y adultos [No se admite la entrada con alimentos\, únicamente bebidas que estén dentro de nuestro menú de intercambio]  								\n				\n				\n				\n							\n			\n		\n						\n				\n					\n		\n				\n			\n						\n				\n							\n			\n		\n						\n				\n				\n				\n									\n					\n						\n									Comprar
URL:https://foroshakespeare.com/evento/obra-negra-mecanica-del-poder-9/
LOCATION:Foro Shakespeare\, Zamora 7\, Colonia Condesa\, Cuauhtémoc\, Ciudad de México.\, México
CATEGORIES:Cabaret,Comedia,Drama
ATTACH;FMTTYPE=image/png:https://foroshakespeare.com/wp-content/uploads/2026/02/Evento-ObraNegra-FrontBanner-1-1.png
END:VEVENT
BEGIN:VEVENT
DTSTART;TZID=America/Mexico_City:20260530T170000
DTEND;TZID=America/Mexico_City:20260530T193000
DTSTAMP:20260424T161501
CREATED:20260330T173151Z
LAST-MODIFIED:20260401T083418Z
UID:39488-1780160400-1780169400@foroshakespeare.com
SUMMARY:Cómo deconstruirse del patriarcado sin morir en el intento
DESCRIPTION:Entre Risas yPecados\, Espectáculo de Cabaret				\n				\n				\n				\n									Del 4 de abril al 2 de mayosábados 20hEspacio Urgente 2 / $350Entrada generalCompañía – La Escuela de la Noche Un espectáculo de cabaret donde las confesiones\, las risas y los pecados nos llevan a la diversión. Con personajes que podemos encontrar en nuestra vida cotidiana\, que invitan al público a sumergirse en un viaje\, irreverente\, divertido y provocador\, en donde estos mismos son espejo de la humanidad. Bajo la dirección de Viridiana Monteagudo\, esta puesta en escena mezcla teatro\, drag\, burlesque\, música y sátira política en un formato cabaretero que te hará reír… y pensar.  								\n				\n				\n						\n					\n			\n						\n				\n									Elenco – Yentl Benezra / La Nena AlcocerYoali López / Miss XimeMariana Tovalín / Giacomo CasanovaGioconda Córdoba / Cris en CrisisManuel Castillo / Norita BanquellsLola Love / Dra. Dolores AmoresAndrew Flatgard / Dora la GentrificadoraMoy Vaz / Federico García LópezMax Snufkin / RossoGabriel Xelestiall / RushNicolas Gómez Palau / Joaquín Galante MasculanteHost – Viridiana Monteagudo / Lucrecia Dirección – Viridiana MonteagudoAutoría – Egresados de la 5ta Generación del taller de cabaret de la Escuela de la NocheAsistente de dirección – Sofía Damiz Diseño\, realización de Iluminación – Miguel Ángel Velázquez “El Güero”Diseño Gráfico – Edgar UscangaFotografías – Danaí García y Christian Medina Duración: 120 minutos aprox.Recomendada para jóvenes [+14] y adultos [No se admite la entrada con alimentos\, únicamente bebidas que estén dentro de nuestro menú de intercambio]  								\n				\n				\n				\n							\n			\n		\n						\n				\n					\n		\n				\n			\n						\n				\n							\n			\n		\n						\n				\n				\n				\n									\n					\n						\n									Comprar
URL:https://foroshakespeare.com/evento/como-deconstruirse-del-patriarcado-sin-morir-en-el-intento-8/
LOCATION:Foro Shakespeare\, Zamora 7\, Colonia Condesa\, Cuauhtémoc\, Ciudad de México.\, México
CATEGORIES:Cabaret,Comedia,Drama,Musical,Tragicomedia
ATTACH;FMTTYPE=image/png:https://foroshakespeare.com/wp-content/uploads/2026/03/evento-como-deconstruirse-front-banner.png
END:VEVENT
END:VCALENDAR