BEGIN:VCALENDAR
VERSION:2.0
PRODID:-//Foro Shakespeare - ECPv6.15.16.1//NONSGML v1.0//EN
CALSCALE:GREGORIAN
METHOD:PUBLISH
X-WR-CALNAME:Foro Shakespeare
X-ORIGINAL-URL:https://foroshakespeare.com
X-WR-CALDESC:Eventos para Foro Shakespeare
REFRESH-INTERVAL;VALUE=DURATION:PT1H
X-Robots-Tag:noindex
X-PUBLISHED-TTL:PT1H
BEGIN:VTIMEZONE
TZID:America/Mexico_City
BEGIN:STANDARD
TZOFFSETFROM:-0600
TZOFFSETTO:-0600
TZNAME:CST
DTSTART:20250101T000000
END:STANDARD
END:VTIMEZONE
BEGIN:VEVENT
DTSTART;TZID=America/Mexico_City:20260301T180000
DTEND;TZID=America/Mexico_City:20260301T191500
DTSTAMP:20260423T144343
CREATED:20260202T192923Z
LAST-MODIFIED:20260208T080059Z
UID:38276-1772388000-1772392500@foroshakespeare.com
SUMMARY:Random stand up comedy
DESCRIPTION:Cuestión de método				\n				\n				\n				\n									Del 8 de abril al 24 de juniomiércoles 20:30hEspacio Urgente 2 / $250Entrada generalCompañía – PROYECTO PROVISIONAL/LA JAMAICA Las últimas cuatro aspirantes a conseguir un cargo ejecutivo en una multinacional se someten a la prueba final del proceso de selección\, lo que no saben es que se trata de una prueba no convencional que podría sacar lo peor de cada una de ellas.  								\n				\n				\n						\n					\n			\n						\n				\n									Elenco – María Hajnal\, Juliana De La Mora\, Sylvia Caballero\, Andrea Hernandez Dirección – Jimena GalaDramaturgia – Jimena Gala\, Jordi Galcerán Creativxs – Oscar Muro\, Iván Sotelo Duración: 70 minutos aprox.Recomendada para adolescentes [+12] y adultos [No se admite la entrada con alimentos\, únicamente bebidas que estén dentro de nuestro menú de intercambio]  								\n				\n				\n				\n							\n			\n		\n						\n				\n					\n		\n				\n			\n						\n				\n							\n			\n		\n						\n				\n				\n				\n									\n					\n						\n									Comprar
URL:https://foroshakespeare.com/evento/random-stand-up-comedy-8/
LOCATION:Foro Shakespeare\, Zamora 7\, Colonia Condesa\, Cuauhtémoc\, Ciudad de México.\, México
CATEGORIES:Comedia,Impro,Monólogo,Stand up,Unipersonal
ATTACH;FMTTYPE=image/jpeg:https://foroshakespeare.com/wp-content/uploads/2026/02/Random-front-banner.jpg
END:VEVENT
BEGIN:VEVENT
DTSTART;TZID=America/Mexico_City:20260301T180000
DTEND;TZID=America/Mexico_City:20260301T192000
DTSTAMP:20260423T144343
CREATED:20260203T112218Z
LAST-MODIFIED:20260203T112218Z
UID:38439-1772388000-1772392800@foroshakespeare.com
SUMMARY:Soundtrack
DESCRIPTION:Cuestión de método				\n				\n				\n				\n									Del 8 de abril al 24 de juniomiércoles 20:30hEspacio Urgente 2 / $250Entrada generalCompañía – PROYECTO PROVISIONAL/LA JAMAICA Las últimas cuatro aspirantes a conseguir un cargo ejecutivo en una multinacional se someten a la prueba final del proceso de selección\, lo que no saben es que se trata de una prueba no convencional que podría sacar lo peor de cada una de ellas.  								\n				\n				\n						\n					\n			\n						\n				\n									Elenco – María Hajnal\, Juliana De La Mora\, Sylvia Caballero\, Andrea Hernandez Dirección – Jimena GalaDramaturgia – Jimena Gala\, Jordi Galcerán Creativxs – Oscar Muro\, Iván Sotelo Duración: 70 minutos aprox.Recomendada para adolescentes [+12] y adultos [No se admite la entrada con alimentos\, únicamente bebidas que estén dentro de nuestro menú de intercambio]  								\n				\n				\n				\n							\n			\n		\n						\n				\n					\n		\n				\n			\n						\n				\n							\n			\n		\n						\n				\n				\n				\n									\n					\n						\n									Comprar
URL:https://foroshakespeare.com/evento/soundtrack-4/
LOCATION:Foro Shakespeare\, Zamora 7\, Colonia Condesa\, Cuauhtémoc\, Ciudad de México.\, México
CATEGORIES:Comedia,Drama
ATTACH;FMTTYPE=image/jpeg:https://foroshakespeare.com/wp-content/uploads/2026/01/FrontBannerSoundtrack.jpg
END:VEVENT
END:VCALENDAR