BEGIN:VCALENDAR
VERSION:2.0
PRODID:-//Foro Shakespeare - ECPv6.15.16.1//NONSGML v1.0//EN
CALSCALE:GREGORIAN
METHOD:PUBLISH
X-ORIGINAL-URL:https://foroshakespeare.com
X-WR-CALDESC:Eventos para Foro Shakespeare
REFRESH-INTERVAL;VALUE=DURATION:PT1H
X-Robots-Tag:noindex
X-PUBLISHED-TTL:PT1H
BEGIN:VTIMEZONE
TZID:America/Mexico_City
BEGIN:STANDARD
TZOFFSETFROM:-0600
TZOFFSETTO:-0600
TZNAME:CST
DTSTART:20250101T000000
END:STANDARD
END:VTIMEZONE
BEGIN:VEVENT
DTSTART;TZID=America/Mexico_City:20260404T130000
DTEND;TZID=America/Mexico_City:20260404T141000
DTSTAMP:20260423T131655
CREATED:20260302T082001Z
LAST-MODIFIED:20260401T080221Z
UID:38911-1775307600-1775311800@foroshakespeare.com
SUMMARY:Aníbal y Melquiades
DESCRIPTION:Cuestión de método				\n				\n				\n				\n									Del 8 de abril al 24 de juniomiércoles 20:30hEspacio Urgente 2 / $250Entrada generalCompañía – PROYECTO PROVISIONAL/LA JAMAICA Las últimas cuatro aspirantes a conseguir un cargo ejecutivo en una multinacional se someten a la prueba final del proceso de selección\, lo que no saben es que se trata de una prueba no convencional que podría sacar lo peor de cada una de ellas.  								\n				\n				\n						\n					\n			\n						\n				\n									Elenco – María Hajnal\, Juliana De La Mora\, Sylvia Caballero\, Andrea Hernandez Dirección – Jimena GalaDramaturgia – Jimena Gala\, Jordi Galcerán Creativxs – Oscar Muro\, Iván Sotelo Duración: 70 minutos aprox.Recomendada para adolescentes [+12] y adultos [No se admite la entrada con alimentos\, únicamente bebidas que estén dentro de nuestro menú de intercambio]  								\n				\n				\n				\n							\n			\n		\n						\n				\n					\n		\n				\n			\n						\n				\n							\n			\n		\n						\n				\n				\n				\n									\n					\n						\n									Comprar
URL:https://foroshakespeare.com/evento/anibal-y-melquiades-6/
LOCATION:Foro Shakespeare\, Zamora 7\, Colonia Condesa\, Cuauhtémoc\, Ciudad de México.\, México
CATEGORIES:Comedia,Evento,Infantil,Musical,Títeres
ATTACH;FMTTYPE=image/png:https://foroshakespeare.com/wp-content/uploads/2026/02/Anibal-y-Melquiades-1440-x-900-1.png
END:VEVENT
BEGIN:VEVENT
DTSTART;TZID=America/Mexico_City:20260404T130000
DTEND;TZID=America/Mexico_City:20260404T143000
DTSTAMP:20260423T131655
CREATED:20260203T120414Z
LAST-MODIFIED:20260331T060434Z
UID:38471-1775307600-1775313000@foroshakespeare.com
SUMMARY:El maleficio de la mariposa
DESCRIPTION:Cuestión de método				\n				\n				\n				\n									Del 8 de abril al 24 de juniomiércoles 20:30hEspacio Urgente 2 / $250Entrada generalCompañía – PROYECTO PROVISIONAL/LA JAMAICA Las últimas cuatro aspirantes a conseguir un cargo ejecutivo en una multinacional se someten a la prueba final del proceso de selección\, lo que no saben es que se trata de una prueba no convencional que podría sacar lo peor de cada una de ellas.  								\n				\n				\n						\n					\n			\n						\n				\n									Elenco – María Hajnal\, Juliana De La Mora\, Sylvia Caballero\, Andrea Hernandez Dirección – Jimena GalaDramaturgia – Jimena Gala\, Jordi Galcerán Creativxs – Oscar Muro\, Iván Sotelo Duración: 70 minutos aprox.Recomendada para adolescentes [+12] y adultos [No se admite la entrada con alimentos\, únicamente bebidas que estén dentro de nuestro menú de intercambio]  								\n				\n				\n				\n							\n			\n		\n						\n				\n					\n		\n				\n			\n						\n				\n							\n			\n		\n						\n				\n				\n				\n									\n					\n						\n									Comprar
URL:https://foroshakespeare.com/evento/el-maleficio-de-la-mariposa-7/
LOCATION:Foro Shakespeare\, Zamora 7\, Colonia Condesa\, Cuauhtémoc\, Ciudad de México.\, México
CATEGORIES:Comedia,Evento,Infantil,Tragicomedia
ATTACH;FMTTYPE=image/png:https://foroshakespeare.com/wp-content/uploads/2025/04/maleficiomariposa-frontbanner-1.png
END:VEVENT
BEGIN:VEVENT
DTSTART;TZID=America/Mexico_City:20260404T170000
DTEND;TZID=America/Mexico_City:20260404T183000
DTSTAMP:20260423T131655
CREATED:20260330T174212Z
LAST-MODIFIED:20260330T174259Z
UID:39497-1775322000-1775327400@foroshakespeare.com
SUMMARY:Julieta minutos antes de Romeo
DESCRIPTION:Cuestión de método				\n				\n				\n				\n									Del 8 de abril al 24 de juniomiércoles 20:30hEspacio Urgente 2 / $250Entrada generalCompañía – PROYECTO PROVISIONAL/LA JAMAICA Las últimas cuatro aspirantes a conseguir un cargo ejecutivo en una multinacional se someten a la prueba final del proceso de selección\, lo que no saben es que se trata de una prueba no convencional que podría sacar lo peor de cada una de ellas.  								\n				\n				\n						\n					\n			\n						\n				\n									Elenco – María Hajnal\, Juliana De La Mora\, Sylvia Caballero\, Andrea Hernandez Dirección – Jimena GalaDramaturgia – Jimena Gala\, Jordi Galcerán Creativxs – Oscar Muro\, Iván Sotelo Duración: 70 minutos aprox.Recomendada para adolescentes [+12] y adultos [No se admite la entrada con alimentos\, únicamente bebidas que estén dentro de nuestro menú de intercambio]  								\n				\n				\n				\n							\n			\n		\n						\n				\n					\n		\n				\n			\n						\n				\n							\n			\n		\n						\n				\n				\n				\n									\n					\n						\n									Comprar
URL:https://foroshakespeare.com/evento/julieta-minutos-antes-de-romeo/
LOCATION:Foro Shakespeare\, Zamora 7\, Colonia Condesa\, Cuauhtémoc\, Ciudad de México.\, México
CATEGORIES:Comedia,Drama,Evento,Interdisciplina,Monólogo,Tragedia
ATTACH;FMTTYPE=image/png:https://foroshakespeare.com/wp-content/uploads/2025/12/Julietas-front-banner-1.png
END:VEVENT
BEGIN:VEVENT
DTSTART;TZID=America/Mexico_City:20260404T170000
DTEND;TZID=America/Mexico_City:20260404T193000
DTSTAMP:20260423T131655
CREATED:20260308T072416Z
LAST-MODIFIED:20260401T080920Z
UID:39161-1775322000-1775331000@foroshakespeare.com
SUMMARY:Cómo deconstruirse del patriarcado sin morir en el intento
DESCRIPTION:Cuestión de método				\n				\n				\n				\n									Del 8 de abril al 24 de juniomiércoles 20:30hEspacio Urgente 2 / $250Entrada generalCompañía – PROYECTO PROVISIONAL/LA JAMAICA Las últimas cuatro aspirantes a conseguir un cargo ejecutivo en una multinacional se someten a la prueba final del proceso de selección\, lo que no saben es que se trata de una prueba no convencional que podría sacar lo peor de cada una de ellas.  								\n				\n				\n						\n					\n			\n						\n				\n									Elenco – María Hajnal\, Juliana De La Mora\, Sylvia Caballero\, Andrea Hernandez Dirección – Jimena GalaDramaturgia – Jimena Gala\, Jordi Galcerán Creativxs – Oscar Muro\, Iván Sotelo Duración: 70 minutos aprox.Recomendada para adolescentes [+12] y adultos [No se admite la entrada con alimentos\, únicamente bebidas que estén dentro de nuestro menú de intercambio]  								\n				\n				\n				\n							\n			\n		\n						\n				\n					\n		\n				\n			\n						\n				\n							\n			\n		\n						\n				\n				\n				\n									\n					\n						\n									Comprar
URL:https://foroshakespeare.com/evento/como-deconstruirse-del-patriarcado-sin-morir-en-el-intento/
LOCATION:Foro Shakespeare\, Zamora 7\, Colonia Condesa\, Cuauhtémoc\, Ciudad de México.\, México
CATEGORIES:Cabaret,Comedia,Drama,Evento,Musical,Tragicomedia
ATTACH;FMTTYPE=image/png:https://foroshakespeare.com/wp-content/uploads/2026/03/evento-como-deconstruirse-front-banner.png
END:VEVENT
BEGIN:VEVENT
DTSTART;TZID=America/Mexico_City:20260404T190000
DTEND;TZID=America/Mexico_City:20260404T194000
DTSTAMP:20260423T131655
CREATED:20260226T195813Z
LAST-MODIFIED:20260331T060443Z
UID:38890-1775329200-1775331600@foroshakespeare.com
SUMMARY:Tiempo
DESCRIPTION:Cuestión de método				\n				\n				\n				\n									Del 8 de abril al 24 de juniomiércoles 20:30hEspacio Urgente 2 / $250Entrada generalCompañía – PROYECTO PROVISIONAL/LA JAMAICA Las últimas cuatro aspirantes a conseguir un cargo ejecutivo en una multinacional se someten a la prueba final del proceso de selección\, lo que no saben es que se trata de una prueba no convencional que podría sacar lo peor de cada una de ellas.  								\n				\n				\n						\n					\n			\n						\n				\n									Elenco – María Hajnal\, Juliana De La Mora\, Sylvia Caballero\, Andrea Hernandez Dirección – Jimena GalaDramaturgia – Jimena Gala\, Jordi Galcerán Creativxs – Oscar Muro\, Iván Sotelo Duración: 70 minutos aprox.Recomendada para adolescentes [+12] y adultos [No se admite la entrada con alimentos\, únicamente bebidas que estén dentro de nuestro menú de intercambio]  								\n				\n				\n				\n							\n			\n		\n						\n				\n					\n		\n				\n			\n						\n				\n							\n			\n		\n						\n				\n				\n				\n									\n					\n						\n									Comprar
URL:https://foroshakespeare.com/evento/tiempo-4/
LOCATION:Foro Shakespeare\, Zamora 7\, Colonia Condesa\, Cuauhtémoc\, Ciudad de México.\, México
CATEGORIES:Comedia,Drama,Evento,Unipersonal
ATTACH;FMTTYPE=image/png:https://foroshakespeare.com/wp-content/uploads/2026/02/Tiempo_Front-Banner-1.png
END:VEVENT
BEGIN:VEVENT
DTSTART;TZID=America/Mexico_City:20260404T200000
DTEND;TZID=America/Mexico_City:20260404T213000
DTSTAMP:20260423T131655
CREATED:20260203T103752Z
LAST-MODIFIED:20260331T060445Z
UID:38423-1775332800-1775338200@foroshakespeare.com
SUMMARY:Risas a granel
DESCRIPTION:Cuestión de método				\n				\n				\n				\n									Del 8 de abril al 24 de juniomiércoles 20:30hEspacio Urgente 2 / $250Entrada generalCompañía – PROYECTO PROVISIONAL/LA JAMAICA Las últimas cuatro aspirantes a conseguir un cargo ejecutivo en una multinacional se someten a la prueba final del proceso de selección\, lo que no saben es que se trata de una prueba no convencional que podría sacar lo peor de cada una de ellas.  								\n				\n				\n						\n					\n			\n						\n				\n									Elenco – María Hajnal\, Juliana De La Mora\, Sylvia Caballero\, Andrea Hernandez Dirección – Jimena GalaDramaturgia – Jimena Gala\, Jordi Galcerán Creativxs – Oscar Muro\, Iván Sotelo Duración: 70 minutos aprox.Recomendada para adolescentes [+12] y adultos [No se admite la entrada con alimentos\, únicamente bebidas que estén dentro de nuestro menú de intercambio]  								\n				\n				\n				\n							\n			\n		\n						\n				\n					\n		\n				\n			\n						\n				\n							\n			\n		\n						\n				\n				\n				\n									\n					\n						\n									Comprar
URL:https://foroshakespeare.com/evento/risas-a-granel-9/
LOCATION:Foro Shakespeare\, Zamora 7\, Colonia Condesa\, Cuauhtémoc\, Ciudad de México.\, México
CATEGORIES:Comedia,Evento,Monólogo,Stand up
ATTACH;FMTTYPE=image/jpeg:https://foroshakespeare.com/wp-content/uploads/2022/10/evento-risas-a-granel-2022-front-banner.jpg
END:VEVENT
BEGIN:VEVENT
DTSTART;TZID=America/Mexico_City:20260404T203000
DTEND;TZID=America/Mexico_City:20260404T214000
DTSTAMP:20260423T131655
CREATED:20260301T000024Z
LAST-MODIFIED:20260301T200215Z
UID:38944-1775334600-1775338800@foroshakespeare.com
SUMMARY:Temporada de ciervos
DESCRIPTION:Cuestión de método				\n				\n				\n				\n									Del 8 de abril al 24 de juniomiércoles 20:30hEspacio Urgente 2 / $250Entrada generalCompañía – PROYECTO PROVISIONAL/LA JAMAICA Las últimas cuatro aspirantes a conseguir un cargo ejecutivo en una multinacional se someten a la prueba final del proceso de selección\, lo que no saben es que se trata de una prueba no convencional que podría sacar lo peor de cada una de ellas.  								\n				\n				\n						\n					\n			\n						\n				\n									Elenco – María Hajnal\, Juliana De La Mora\, Sylvia Caballero\, Andrea Hernandez Dirección – Jimena GalaDramaturgia – Jimena Gala\, Jordi Galcerán Creativxs – Oscar Muro\, Iván Sotelo Duración: 70 minutos aprox.Recomendada para adolescentes [+12] y adultos [No se admite la entrada con alimentos\, únicamente bebidas que estén dentro de nuestro menú de intercambio]  								\n				\n				\n				\n							\n			\n		\n						\n				\n					\n		\n				\n			\n						\n				\n							\n			\n		\n						\n				\n				\n				\n									\n					\n						\n									Comprar
URL:https://foroshakespeare.com/evento/temporada-de-ciervos/
LOCATION:Foro Shakespeare\, Zamora 7\, Colonia Condesa\, Cuauhtémoc\, Ciudad de México.\, México
CATEGORIES:Comedia,Drama,Evento
ATTACH;FMTTYPE=image/jpeg:https://foroshakespeare.com/wp-content/uploads/2026/02/TemporadaDeCiervos-front-banner.jpg
END:VEVENT
BEGIN:VEVENT
DTSTART;TZID=America/Mexico_City:20260404T203000
DTEND;TZID=America/Mexico_City:20260404T220000
DTSTAMP:20260423T131655
CREATED:20260309T075941Z
LAST-MODIFIED:20260331T004355Z
UID:39222-1775334600-1775340000@foroshakespeare.com
SUMMARY:Stand up Bar Comedy
DESCRIPTION:Cuestión de método				\n				\n				\n				\n									Del 8 de abril al 24 de juniomiércoles 20:30hEspacio Urgente 2 / $250Entrada generalCompañía – PROYECTO PROVISIONAL/LA JAMAICA Las últimas cuatro aspirantes a conseguir un cargo ejecutivo en una multinacional se someten a la prueba final del proceso de selección\, lo que no saben es que se trata de una prueba no convencional que podría sacar lo peor de cada una de ellas.  								\n				\n				\n						\n					\n			\n						\n				\n									Elenco – María Hajnal\, Juliana De La Mora\, Sylvia Caballero\, Andrea Hernandez Dirección – Jimena GalaDramaturgia – Jimena Gala\, Jordi Galcerán Creativxs – Oscar Muro\, Iván Sotelo Duración: 70 minutos aprox.Recomendada para adolescentes [+12] y adultos [No se admite la entrada con alimentos\, únicamente bebidas que estén dentro de nuestro menú de intercambio]  								\n				\n				\n				\n							\n			\n		\n						\n				\n					\n		\n				\n			\n						\n				\n							\n			\n		\n						\n				\n				\n				\n									\n					\n						\n									Comprar
URL:https://foroshakespeare.com/evento/stand-up-bar-comedy-19/
LOCATION:Foro Shakespeare\, Zamora 7\, Colonia Condesa\, Cuauhtémoc\, Ciudad de México.\, México
CATEGORIES:Comedia,Evento,Monólogo,Stand up
ATTACH;FMTTYPE=image/jpeg:https://foroshakespeare.com/wp-content/uploads/2023/02/evento-stand-up-bar-comedy-front-banner.jpg
END:VEVENT
BEGIN:VEVENT
DTSTART;TZID=America/Mexico_City:20260404T203000
DTEND;TZID=America/Mexico_City:20260404T220000
DTSTAMP:20260423T131655
CREATED:20260330T182252Z
LAST-MODIFIED:20260330T182252Z
UID:39567-1775334600-1775340000@foroshakespeare.com
SUMMARY:Risa & Tonic
DESCRIPTION:Cuestión de método				\n				\n				\n				\n									Del 8 de abril al 24 de juniomiércoles 20:30hEspacio Urgente 2 / $250Entrada generalCompañía – PROYECTO PROVISIONAL/LA JAMAICA Las últimas cuatro aspirantes a conseguir un cargo ejecutivo en una multinacional se someten a la prueba final del proceso de selección\, lo que no saben es que se trata de una prueba no convencional que podría sacar lo peor de cada una de ellas.  								\n				\n				\n						\n					\n			\n						\n				\n									Elenco – María Hajnal\, Juliana De La Mora\, Sylvia Caballero\, Andrea Hernandez Dirección – Jimena GalaDramaturgia – Jimena Gala\, Jordi Galcerán Creativxs – Oscar Muro\, Iván Sotelo Duración: 70 minutos aprox.Recomendada para adolescentes [+12] y adultos [No se admite la entrada con alimentos\, únicamente bebidas que estén dentro de nuestro menú de intercambio]  								\n				\n				\n				\n							\n			\n		\n						\n				\n					\n		\n				\n			\n						\n				\n							\n			\n		\n						\n				\n				\n				\n									\n					\n						\n									Comprar
URL:https://foroshakespeare.com/evento/risa-tonic/
LOCATION:Foro Shakespeare\, Zamora 7\, Colonia Condesa\, Cuauhtémoc\, Ciudad de México.\, México
CATEGORIES:Comedia,Evento,Monólogo,Stand up
ATTACH;FMTTYPE=image/jpeg:https://foroshakespeare.com/wp-content/uploads/2026/03/evento_risaandtonic_frontbanner-2.jpg
END:VEVENT
BEGIN:VEVENT
DTSTART;TZID=America/Mexico_City:20260404T220000
DTEND;TZID=America/Mexico_City:20260404T235900
DTSTAMP:20260423T131655
CREATED:20260203T093819Z
LAST-MODIFIED:20260330T175328Z
UID:38354-1775340000-1775347140@foroshakespeare.com
SUMMARY:Late Night Comedy
DESCRIPTION:Cuestión de método				\n				\n				\n				\n									Del 8 de abril al 24 de juniomiércoles 20:30hEspacio Urgente 2 / $250Entrada generalCompañía – PROYECTO PROVISIONAL/LA JAMAICA Las últimas cuatro aspirantes a conseguir un cargo ejecutivo en una multinacional se someten a la prueba final del proceso de selección\, lo que no saben es que se trata de una prueba no convencional que podría sacar lo peor de cada una de ellas.  								\n				\n				\n						\n					\n			\n						\n				\n									Elenco – María Hajnal\, Juliana De La Mora\, Sylvia Caballero\, Andrea Hernandez Dirección – Jimena GalaDramaturgia – Jimena Gala\, Jordi Galcerán Creativxs – Oscar Muro\, Iván Sotelo Duración: 70 minutos aprox.Recomendada para adolescentes [+12] y adultos [No se admite la entrada con alimentos\, únicamente bebidas que estén dentro de nuestro menú de intercambio]  								\n				\n				\n				\n							\n			\n		\n						\n				\n					\n		\n				\n			\n						\n				\n							\n			\n		\n						\n				\n				\n				\n									\n					\n						\n									Comprar
URL:https://foroshakespeare.com/evento/late-night-comedy/
LOCATION:Foro Shakespeare\, Zamora 7\, Colonia Condesa\, Cuauhtémoc\, Ciudad de México.\, México
CATEGORIES:Comedia,Evento,Stand up
ATTACH;FMTTYPE=image/jpeg:https://foroshakespeare.com/wp-content/uploads/2024/05/late-night-comedy-front-banner.jpg
END:VEVENT
BEGIN:VEVENT
DTSTART;TZID=America/Mexico_City:20260404T223000
DTEND;TZID=America/Mexico_City:20260404T235900
DTSTAMP:20260423T131655
CREATED:20260309T075955Z
LAST-MODIFIED:20260331T004422Z
UID:39223-1775341800-1775347140@foroshakespeare.com
SUMMARY:Stand up Bar Comedy
DESCRIPTION:Cuestión de método				\n				\n				\n				\n									Del 8 de abril al 24 de juniomiércoles 20:30hEspacio Urgente 2 / $250Entrada generalCompañía – PROYECTO PROVISIONAL/LA JAMAICA Las últimas cuatro aspirantes a conseguir un cargo ejecutivo en una multinacional se someten a la prueba final del proceso de selección\, lo que no saben es que se trata de una prueba no convencional que podría sacar lo peor de cada una de ellas.  								\n				\n				\n						\n					\n			\n						\n				\n									Elenco – María Hajnal\, Juliana De La Mora\, Sylvia Caballero\, Andrea Hernandez Dirección – Jimena GalaDramaturgia – Jimena Gala\, Jordi Galcerán Creativxs – Oscar Muro\, Iván Sotelo Duración: 70 minutos aprox.Recomendada para adolescentes [+12] y adultos [No se admite la entrada con alimentos\, únicamente bebidas que estén dentro de nuestro menú de intercambio]  								\n				\n				\n				\n							\n			\n		\n						\n				\n					\n		\n				\n			\n						\n				\n							\n			\n		\n						\n				\n				\n				\n									\n					\n						\n									Comprar
URL:https://foroshakespeare.com/evento/stand-up-bar-comedy-20/
LOCATION:Foro Shakespeare\, Zamora 7\, Colonia Condesa\, Cuauhtémoc\, Ciudad de México.\, México
CATEGORIES:Comedia,Evento,Monólogo,Stand up
ATTACH;FMTTYPE=image/jpeg:https://foroshakespeare.com/wp-content/uploads/2023/02/evento-stand-up-bar-comedy-front-banner.jpg
END:VEVENT
BEGIN:VEVENT
DTSTART;TZID=America/Mexico_City:20260404T223000
DTEND;TZID=America/Mexico_City:20260404T235900
DTSTAMP:20260423T131655
CREATED:20260330T182253Z
LAST-MODIFIED:20260330T182253Z
UID:39568-1775341800-1775347140@foroshakespeare.com
SUMMARY:Risa & Tonic
DESCRIPTION:Cuestión de método				\n				\n				\n				\n									Del 8 de abril al 24 de juniomiércoles 20:30hEspacio Urgente 2 / $250Entrada generalCompañía – PROYECTO PROVISIONAL/LA JAMAICA Las últimas cuatro aspirantes a conseguir un cargo ejecutivo en una multinacional se someten a la prueba final del proceso de selección\, lo que no saben es que se trata de una prueba no convencional que podría sacar lo peor de cada una de ellas.  								\n				\n				\n						\n					\n			\n						\n				\n									Elenco – María Hajnal\, Juliana De La Mora\, Sylvia Caballero\, Andrea Hernandez Dirección – Jimena GalaDramaturgia – Jimena Gala\, Jordi Galcerán Creativxs – Oscar Muro\, Iván Sotelo Duración: 70 minutos aprox.Recomendada para adolescentes [+12] y adultos [No se admite la entrada con alimentos\, únicamente bebidas que estén dentro de nuestro menú de intercambio]  								\n				\n				\n				\n							\n			\n		\n						\n				\n					\n		\n				\n			\n						\n				\n							\n			\n		\n						\n				\n				\n				\n									\n					\n						\n									Comprar
URL:https://foroshakespeare.com/evento/risa-tonic-2/
LOCATION:Foro Shakespeare\, Zamora 7\, Colonia Condesa\, Cuauhtémoc\, Ciudad de México.\, México
CATEGORIES:Comedia,Evento,Monólogo,Stand up
ATTACH;FMTTYPE=image/jpeg:https://foroshakespeare.com/wp-content/uploads/2026/03/evento_risaandtonic_frontbanner-2.jpg
END:VEVENT
END:VCALENDAR