BEGIN:VCALENDAR
VERSION:2.0
PRODID:-//Foro Shakespeare - ECPv6.15.16.1//NONSGML v1.0//EN
CALSCALE:GREGORIAN
METHOD:PUBLISH
X-WR-CALNAME:Foro Shakespeare
X-ORIGINAL-URL:https://foroshakespeare.com
X-WR-CALDESC:Eventos para Foro Shakespeare
REFRESH-INTERVAL;VALUE=DURATION:PT1H
X-Robots-Tag:noindex
X-PUBLISHED-TTL:PT1H
BEGIN:VTIMEZONE
TZID:America/Mexico_City
BEGIN:STANDARD
TZOFFSETFROM:-0600
TZOFFSETTO:-0600
TZNAME:CST
DTSTART:20250101T000000
END:STANDARD
END:VTIMEZONE
BEGIN:VEVENT
DTSTART;TZID=America/Mexico_City:20260429T203000
DTEND;TZID=America/Mexico_City:20260429T214000
DTSTAMP:20260423T130917
CREATED:20260409T121012Z
LAST-MODIFIED:20260409T121012Z
UID:39847-1777494600-1777498800@foroshakespeare.com
SUMMARY:Cuestión de método
DESCRIPTION:Cuestión de método				\n				\n				\n				\n									Del 8 de abril al 24 de juniomiércoles 20:30hEspacio Urgente 2 / $250Entrada generalCompañía – PROYECTO PROVISIONAL/LA JAMAICA Las últimas cuatro aspirantes a conseguir un cargo ejecutivo en una multinacional se someten a la prueba final del proceso de selección\, lo que no saben es que se trata de una prueba no convencional que podría sacar lo peor de cada una de ellas.  								\n				\n				\n						\n					\n			\n						\n				\n									Elenco – María Hajnal\, Juliana De La Mora\, Sylvia Caballero\, Andrea Hernandez Dirección – Jimena GalaDramaturgia – Jimena Gala\, Jordi Galcerán Creativxs – Oscar Muro\, Iván Sotelo Duración: 70 minutos aprox.Recomendada para adolescentes [+12] y adultos [No se admite la entrada con alimentos\, únicamente bebidas que estén dentro de nuestro menú de intercambio]  								\n				\n				\n				\n							\n			\n		\n						\n				\n					\n		\n				\n			\n						\n				\n							\n			\n		\n						\n				\n				\n				\n									\n					\n						\n									Comprar
URL:https://foroshakespeare.com/evento/cuestion-de-metodo-3/
LOCATION:Foro Shakespeare\, Zamora 7\, Colonia Condesa\, Cuauhtémoc\, Ciudad de México.\, México
CATEGORIES:Comedia
ATTACH;FMTTYPE=image/jpeg:https://foroshakespeare.com/wp-content/uploads/2026/04/evento-cuestiondemetodo-frontbanner.jpg
END:VEVENT
BEGIN:VEVENT
DTSTART;TZID=America/Mexico_City:20260429T203000
DTEND;TZID=America/Mexico_City:20260429T223000
DTSTAMP:20260423T130917
CREATED:20260316T185504Z
LAST-MODIFIED:20260330T174534Z
UID:39304-1777494600-1777501800@foroshakespeare.com
SUMMARY:LA IMPRO LUCHA - Campeonato Internacional
DESCRIPTION:Cuestión de método				\n				\n				\n				\n									Del 8 de abril al 24 de juniomiércoles 20:30hEspacio Urgente 2 / $250Entrada generalCompañía – PROYECTO PROVISIONAL/LA JAMAICA Las últimas cuatro aspirantes a conseguir un cargo ejecutivo en una multinacional se someten a la prueba final del proceso de selección\, lo que no saben es que se trata de una prueba no convencional que podría sacar lo peor de cada una de ellas.  								\n				\n				\n						\n					\n			\n						\n				\n									Elenco – María Hajnal\, Juliana De La Mora\, Sylvia Caballero\, Andrea Hernandez Dirección – Jimena GalaDramaturgia – Jimena Gala\, Jordi Galcerán Creativxs – Oscar Muro\, Iván Sotelo Duración: 70 minutos aprox.Recomendada para adolescentes [+12] y adultos [No se admite la entrada con alimentos\, únicamente bebidas que estén dentro de nuestro menú de intercambio]  								\n				\n				\n				\n							\n			\n		\n						\n				\n					\n		\n				\n			\n						\n				\n							\n			\n		\n						\n				\n				\n				\n									\n					\n						\n									Comprar
URL:https://foroshakespeare.com/evento/la-impro-lucha-campeonato-internacional/
LOCATION:Foro Shakespeare\, Zamora 7\, Colonia Condesa\, Cuauhtémoc\, Ciudad de México.\, México
CATEGORIES:Comedia,Evento,Impro
ATTACH;FMTTYPE=image/jpeg:https://foroshakespeare.com/wp-content/uploads/2026/03/front-banner-GENERAL-.jpg.jpeg
END:VEVENT
END:VCALENDAR