BEGIN:VCALENDAR
VERSION:2.0
PRODID:-//Foro Shakespeare - ECPv6.15.16.1//NONSGML v1.0//EN
CALSCALE:GREGORIAN
METHOD:PUBLISH
X-WR-CALNAME:Foro Shakespeare
X-ORIGINAL-URL:https://foroshakespeare.com
X-WR-CALDESC:Eventos para Foro Shakespeare
REFRESH-INTERVAL;VALUE=DURATION:PT1H
X-Robots-Tag:noindex
X-PUBLISHED-TTL:PT1H
BEGIN:VTIMEZONE
TZID:America/Mexico_City
BEGIN:STANDARD
TZOFFSETFROM:-0600
TZOFFSETTO:-0600
TZNAME:CST
DTSTART:20250101T000000
END:STANDARD
END:VTIMEZONE
BEGIN:VEVENT
DTSTART;TZID=America/Mexico_City:20260506T203000
DTEND;TZID=America/Mexico_City:20260506T214000
DTSTAMP:20260423T144116
CREATED:20260421T235912Z
LAST-MODIFIED:20260421T235912Z
UID:39929-1778099400-1778103600@foroshakespeare.com
SUMMARY:Cuestión de método
DESCRIPTION:Cuestión de método				\n				\n				\n				\n									Del 8 de abril al 24 de juniomiércoles 20:30hEspacio Urgente 2 / $250Entrada generalCompañía – PROYECTO PROVISIONAL/LA JAMAICA Las últimas cuatro aspirantes a conseguir un cargo ejecutivo en una multinacional se someten a la prueba final del proceso de selección\, lo que no saben es que se trata de una prueba no convencional que podría sacar lo peor de cada una de ellas.  								\n				\n				\n						\n					\n			\n						\n				\n									Elenco – María Hajnal\, Juliana De La Mora\, Sylvia Caballero\, Andrea Hernandez Dirección – Jimena GalaDramaturgia – Jimena Gala\, Jordi Galcerán Creativxs – Oscar Muro\, Iván Sotelo Duración: 70 minutos aprox.Recomendada para adolescentes [+12] y adultos [No se admite la entrada con alimentos\, únicamente bebidas que estén dentro de nuestro menú de intercambio]  								\n				\n				\n				\n							\n			\n		\n						\n				\n					\n		\n				\n			\n						\n				\n							\n			\n		\n						\n				\n				\n				\n									\n					\n						\n									Comprar
URL:https://foroshakespeare.com/evento/cuestion-de-metodo-4/
LOCATION:Foro Shakespeare\, Zamora 7\, Colonia Condesa\, Cuauhtémoc\, Ciudad de México.\, México
CATEGORIES:Comedia
ATTACH;FMTTYPE=image/jpeg:https://foroshakespeare.com/wp-content/uploads/2026/04/evento-cuestiondemetodo-frontbanner.jpg
END:VEVENT
BEGIN:VEVENT
DTSTART;TZID=America/Mexico_City:20260506T203000
DTEND;TZID=America/Mexico_City:20260506T220000
DTSTAMP:20260423T144116
CREATED:20260331T063233Z
LAST-MODIFIED:20260402T085708Z
UID:39661-1778099400-1778104800@foroshakespeare.com
SUMMARY:Nunca he estado en Dublín
DESCRIPTION:Cuestión de método				\n				\n				\n				\n									Del 8 de abril al 24 de juniomiércoles 20:30hEspacio Urgente 2 / $250Entrada generalCompañía – PROYECTO PROVISIONAL/LA JAMAICA Las últimas cuatro aspirantes a conseguir un cargo ejecutivo en una multinacional se someten a la prueba final del proceso de selección\, lo que no saben es que se trata de una prueba no convencional que podría sacar lo peor de cada una de ellas.  								\n				\n				\n						\n					\n			\n						\n				\n									Elenco – María Hajnal\, Juliana De La Mora\, Sylvia Caballero\, Andrea Hernandez Dirección – Jimena GalaDramaturgia – Jimena Gala\, Jordi Galcerán Creativxs – Oscar Muro\, Iván Sotelo Duración: 70 minutos aprox.Recomendada para adolescentes [+12] y adultos [No se admite la entrada con alimentos\, únicamente bebidas que estén dentro de nuestro menú de intercambio]  								\n				\n				\n				\n							\n			\n		\n						\n				\n					\n		\n				\n			\n						\n				\n							\n			\n		\n						\n				\n				\n				\n									\n					\n						\n									Comprar
URL:https://foroshakespeare.com/evento/nunca-he-estado-en-dublin/
LOCATION:Foro Shakespeare\, Zamora 7\, Colonia Condesa\, Cuauhtémoc\, Ciudad de México.\, México
CATEGORIES:Comedia,Evento
ATTACH;FMTTYPE=image/png:https://foroshakespeare.com/wp-content/uploads/2026/03/Nunca-he-estado-en-Dublin-front-banner1440-x-900-px.png
END:VEVENT
END:VCALENDAR