BEGIN:VCALENDAR
VERSION:2.0
PRODID:-//Foro Shakespeare - ECPv6.15.16.1//NONSGML v1.0//EN
CALSCALE:GREGORIAN
METHOD:PUBLISH
X-WR-CALNAME:Foro Shakespeare
X-ORIGINAL-URL:https://foroshakespeare.com
X-WR-CALDESC:Eventos para Foro Shakespeare
REFRESH-INTERVAL;VALUE=DURATION:PT1H
X-Robots-Tag:noindex
X-PUBLISHED-TTL:PT1H
BEGIN:VTIMEZONE
TZID:America/Mexico_City
BEGIN:STANDARD
TZOFFSETFROM:-0600
TZOFFSETTO:-0600
TZNAME:CST
DTSTART:20250101T000000
END:STANDARD
END:VTIMEZONE
BEGIN:VEVENT
DTSTART;TZID=America/Mexico_City:20260523T130000
DTEND;TZID=America/Mexico_City:20260523T144000
DTSTAMP:20260423T144343
CREATED:20260331T051158Z
LAST-MODIFIED:20260331T051158Z
UID:39601-1779541200-1779547200@foroshakespeare.com
SUMMARY:Un show de idiotas
DESCRIPTION:Cuestión de método				\n				\n				\n				\n									Del 8 de abril al 24 de juniomiércoles 20:30hEspacio Urgente 2 / $250Entrada generalCompañía – PROYECTO PROVISIONAL/LA JAMAICA Las últimas cuatro aspirantes a conseguir un cargo ejecutivo en una multinacional se someten a la prueba final del proceso de selección\, lo que no saben es que se trata de una prueba no convencional que podría sacar lo peor de cada una de ellas.  								\n				\n				\n						\n					\n			\n						\n				\n									Elenco – María Hajnal\, Juliana De La Mora\, Sylvia Caballero\, Andrea Hernandez Dirección – Jimena GalaDramaturgia – Jimena Gala\, Jordi Galcerán Creativxs – Oscar Muro\, Iván Sotelo Duración: 70 minutos aprox.Recomendada para adolescentes [+12] y adultos [No se admite la entrada con alimentos\, únicamente bebidas que estén dentro de nuestro menú de intercambio]  								\n				\n				\n				\n							\n			\n		\n						\n				\n					\n		\n				\n			\n						\n				\n							\n			\n		\n						\n				\n				\n				\n									\n					\n						\n									Comprar
URL:https://foroshakespeare.com/evento/un-show-de-idiotas-3/
LOCATION:Foro Shakespeare\, Zamora 7\, Colonia Condesa\, Cuauhtémoc\, Ciudad de México.\, México
CATEGORIES:Comedia
ATTACH;FMTTYPE=image/jpeg:https://foroshakespeare.com/wp-content/uploads/2026/03/evento-un-show-de-idiotas-front-banner-1-scaled.jpg
END:VEVENT
BEGIN:VEVENT
DTSTART;TZID=America/Mexico_City:20260523T170000
DTEND;TZID=America/Mexico_City:20260523T183000
DTSTAMP:20260423T144343
CREATED:20260226T194152Z
LAST-MODIFIED:20260409T113417Z
UID:38873-1779555600-1779561000@foroshakespeare.com
SUMMARY:El chiste en la vida
DESCRIPTION:Cuestión de método				\n				\n				\n				\n									Del 8 de abril al 24 de juniomiércoles 20:30hEspacio Urgente 2 / $250Entrada generalCompañía – PROYECTO PROVISIONAL/LA JAMAICA Las últimas cuatro aspirantes a conseguir un cargo ejecutivo en una multinacional se someten a la prueba final del proceso de selección\, lo que no saben es que se trata de una prueba no convencional que podría sacar lo peor de cada una de ellas.  								\n				\n				\n						\n					\n			\n						\n				\n									Elenco – María Hajnal\, Juliana De La Mora\, Sylvia Caballero\, Andrea Hernandez Dirección – Jimena GalaDramaturgia – Jimena Gala\, Jordi Galcerán Creativxs – Oscar Muro\, Iván Sotelo Duración: 70 minutos aprox.Recomendada para adolescentes [+12] y adultos [No se admite la entrada con alimentos\, únicamente bebidas que estén dentro de nuestro menú de intercambio]  								\n				\n				\n				\n							\n			\n		\n						\n				\n					\n		\n				\n			\n						\n				\n							\n			\n		\n						\n				\n				\n				\n									\n					\n						\n									Comprar
URL:https://foroshakespeare.com/evento/el-chiste-en-la-vida-11/
LOCATION:Foro Shakespeare\, Zamora 7\, Colonia Condesa\, Cuauhtémoc\, Ciudad de México.\, México
CATEGORIES:Comedia,Impro,Tragedia
ATTACH;FMTTYPE=image/jpeg:https://foroshakespeare.com/wp-content/uploads/2026/02/el-chiste-en-la-vida-front-banner-1.jpg
END:VEVENT
BEGIN:VEVENT
DTSTART;TZID=America/Mexico_City:20260523T170000
DTEND;TZID=America/Mexico_City:20260523T193000
DTSTAMP:20260423T144343
CREATED:20260330T173132Z
LAST-MODIFIED:20260401T083346Z
UID:39486-1779555600-1779564600@foroshakespeare.com
SUMMARY:Cómo deconstruirse del patriarcado sin morir en el intento
DESCRIPTION:Cuestión de método				\n				\n				\n				\n									Del 8 de abril al 24 de juniomiércoles 20:30hEspacio Urgente 2 / $250Entrada generalCompañía – PROYECTO PROVISIONAL/LA JAMAICA Las últimas cuatro aspirantes a conseguir un cargo ejecutivo en una multinacional se someten a la prueba final del proceso de selección\, lo que no saben es que se trata de una prueba no convencional que podría sacar lo peor de cada una de ellas.  								\n				\n				\n						\n					\n			\n						\n				\n									Elenco – María Hajnal\, Juliana De La Mora\, Sylvia Caballero\, Andrea Hernandez Dirección – Jimena GalaDramaturgia – Jimena Gala\, Jordi Galcerán Creativxs – Oscar Muro\, Iván Sotelo Duración: 70 minutos aprox.Recomendada para adolescentes [+12] y adultos [No se admite la entrada con alimentos\, únicamente bebidas que estén dentro de nuestro menú de intercambio]  								\n				\n				\n				\n							\n			\n		\n						\n				\n					\n		\n				\n			\n						\n				\n							\n			\n		\n						\n				\n				\n				\n									\n					\n						\n									Comprar
URL:https://foroshakespeare.com/evento/como-deconstruirse-del-patriarcado-sin-morir-en-el-intento-7/
LOCATION:Foro Shakespeare\, Zamora 7\, Colonia Condesa\, Cuauhtémoc\, Ciudad de México.\, México
CATEGORIES:Cabaret,Comedia,Drama,Musical,Tragicomedia
ATTACH;FMTTYPE=image/png:https://foroshakespeare.com/wp-content/uploads/2026/03/evento-como-deconstruirse-front-banner.png
END:VEVENT
BEGIN:VEVENT
DTSTART;TZID=America/Mexico_City:20260523T220000
DTEND;TZID=America/Mexico_City:20260523T235900
DTSTAMP:20260423T144344
CREATED:20260330T181026Z
LAST-MODIFIED:20260330T181026Z
UID:39526-1779573600-1779580740@foroshakespeare.com
SUMMARY:Late Night Comedy
DESCRIPTION:Cuestión de método				\n				\n				\n				\n									Del 8 de abril al 24 de juniomiércoles 20:30hEspacio Urgente 2 / $250Entrada generalCompañía – PROYECTO PROVISIONAL/LA JAMAICA Las últimas cuatro aspirantes a conseguir un cargo ejecutivo en una multinacional se someten a la prueba final del proceso de selección\, lo que no saben es que se trata de una prueba no convencional que podría sacar lo peor de cada una de ellas.  								\n				\n				\n						\n					\n			\n						\n				\n									Elenco – María Hajnal\, Juliana De La Mora\, Sylvia Caballero\, Andrea Hernandez Dirección – Jimena GalaDramaturgia – Jimena Gala\, Jordi Galcerán Creativxs – Oscar Muro\, Iván Sotelo Duración: 70 minutos aprox.Recomendada para adolescentes [+12] y adultos [No se admite la entrada con alimentos\, únicamente bebidas que estén dentro de nuestro menú de intercambio]  								\n				\n				\n				\n							\n			\n		\n						\n				\n					\n		\n				\n			\n						\n				\n							\n			\n		\n						\n				\n				\n				\n									\n					\n						\n									Comprar
URL:https://foroshakespeare.com/evento/late-night-comedy-8/
LOCATION:Foro Shakespeare\, Zamora 7\, Colonia Condesa\, Cuauhtémoc\, Ciudad de México.\, México
CATEGORIES:Comedia,Stand up
ATTACH;FMTTYPE=image/jpeg:https://foroshakespeare.com/wp-content/uploads/2024/05/late-night-comedy-front-banner.jpg
END:VEVENT
END:VCALENDAR