BEGIN:VCALENDAR
VERSION:2.0
PRODID:-//Foro Shakespeare - ECPv6.15.16.1//NONSGML v1.0//EN
CALSCALE:GREGORIAN
METHOD:PUBLISH
X-WR-CALNAME:Foro Shakespeare
X-ORIGINAL-URL:https://foroshakespeare.com
X-WR-CALDESC:Eventos para Foro Shakespeare
REFRESH-INTERVAL;VALUE=DURATION:PT1H
X-Robots-Tag:noindex
X-PUBLISHED-TTL:PT1H
BEGIN:VTIMEZONE
TZID:America/Mexico_City
BEGIN:STANDARD
TZOFFSETFROM:-0600
TZOFFSETTO:-0600
TZNAME:CST
DTSTART:20250101T000000
END:STANDARD
END:VTIMEZONE
BEGIN:VEVENT
DTSTART;TZID=America/Mexico_City:20260619T223000
DTEND;TZID=America/Mexico_City:20260619T235900
DTSTAMP:20260423T214413
CREATED:20260330T182015Z
LAST-MODIFIED:20260330T182015Z
UID:39559-1781908200-1781913540@foroshakespeare.com
SUMMARY:OPEN MIC / El Show
DESCRIPTION:Stand up Bar comedy				\n				\n				\n				\n									jueves 20:30 h / Terrazaviernes y sábados20:30 h / Terraza22:30 h / Espacio Urgente 2$250 STAND UP BAR COMEDY TODOS QUEREMOS? ¡SALUD!Show de stand up comedy\, se presenta en Foro Shakespeare\, presentando 4 comediantes\, que alternan funciones\, trayendo talento Comedy Central\, talento emergente\, youtubers\, podcasters que se presentan para contar sus rutinas mientras disfrutas de unos tragos coquetos de tu preferencia. Regresamos para decir salud.   								\n				\n				\n						\n					\n			\n						\n				\n									Elenco – Said Santin\, Alex Quiroz\, Güero Cocom\, Javier Ibarreche\, Miguel Burra\, Agüita de Coco\, Carlos Mosco\, Juan Carlos Escalante\, Pamonstruo\, Payo\, Jonny J\, Rodrigo Montejo\, Domingo Aceves\, Juanjo Jicamas. y muchos más…  								\n				\n				\n				\n							\n			\n		\n						\n				\n					\n		\n				\n			\n						\n				\n							\n			\n		\n						\n				\n				\n				\n									\n					\n						\n									Comprar
URL:https://foroshakespeare.com/evento/open-mic-el-show-11/
LOCATION:Foro Shakespeare\, Zamora 7\, Colonia Condesa\, Cuauhtémoc\, Ciudad de México.\, México
CATEGORIES:Comedia,Stand up
ATTACH;FMTTYPE=image/jpeg:https://foroshakespeare.com/wp-content/uploads/2025/01/Front-Banner-Open-Mic-El-Show.jpg
END:VEVENT
BEGIN:VEVENT
DTSTART;TZID=America/Mexico_City:20260620T170000
DTEND;TZID=America/Mexico_City:20260620T183000
DTSTAMP:20260423T214413
CREATED:20260226T194412Z
LAST-MODIFIED:20260409T113646Z
UID:38881-1781974800-1781980200@foroshakespeare.com
SUMMARY:El chiste en la vida
DESCRIPTION:Stand up Bar comedy				\n				\n				\n				\n									jueves 20:30 h / Terrazaviernes y sábados20:30 h / Terraza22:30 h / Espacio Urgente 2$250 STAND UP BAR COMEDY TODOS QUEREMOS? ¡SALUD!Show de stand up comedy\, se presenta en Foro Shakespeare\, presentando 4 comediantes\, que alternan funciones\, trayendo talento Comedy Central\, talento emergente\, youtubers\, podcasters que se presentan para contar sus rutinas mientras disfrutas de unos tragos coquetos de tu preferencia. Regresamos para decir salud.   								\n				\n				\n						\n					\n			\n						\n				\n									Elenco – Said Santin\, Alex Quiroz\, Güero Cocom\, Javier Ibarreche\, Miguel Burra\, Agüita de Coco\, Carlos Mosco\, Juan Carlos Escalante\, Pamonstruo\, Payo\, Jonny J\, Rodrigo Montejo\, Domingo Aceves\, Juanjo Jicamas. y muchos más…  								\n				\n				\n				\n							\n			\n		\n						\n				\n					\n		\n				\n			\n						\n				\n							\n			\n		\n						\n				\n				\n				\n									\n					\n						\n									Comprar
URL:https://foroshakespeare.com/evento/el-chiste-en-la-vida-15/
LOCATION:Foro Shakespeare\, Zamora 7\, Colonia Condesa\, Cuauhtémoc\, Ciudad de México.\, México
CATEGORIES:Comedia,Impro,Tragedia
ATTACH;FMTTYPE=image/jpeg:https://foroshakespeare.com/wp-content/uploads/2026/02/el-chiste-en-la-vida-front-banner-1.jpg
END:VEVENT
BEGIN:VEVENT
DTSTART;TZID=America/Mexico_City:20260620T220000
DTEND;TZID=America/Mexico_City:20260620T235900
DTSTAMP:20260423T214413
CREATED:20260330T181224Z
LAST-MODIFIED:20260330T181224Z
UID:39534-1781992800-1781999940@foroshakespeare.com
SUMMARY:Late Night Comedy
DESCRIPTION:Stand up Bar comedy				\n				\n				\n				\n									jueves 20:30 h / Terrazaviernes y sábados20:30 h / Terraza22:30 h / Espacio Urgente 2$250 STAND UP BAR COMEDY TODOS QUEREMOS? ¡SALUD!Show de stand up comedy\, se presenta en Foro Shakespeare\, presentando 4 comediantes\, que alternan funciones\, trayendo talento Comedy Central\, talento emergente\, youtubers\, podcasters que se presentan para contar sus rutinas mientras disfrutas de unos tragos coquetos de tu preferencia. Regresamos para decir salud.   								\n				\n				\n						\n					\n			\n						\n				\n									Elenco – Said Santin\, Alex Quiroz\, Güero Cocom\, Javier Ibarreche\, Miguel Burra\, Agüita de Coco\, Carlos Mosco\, Juan Carlos Escalante\, Pamonstruo\, Payo\, Jonny J\, Rodrigo Montejo\, Domingo Aceves\, Juanjo Jicamas. y muchos más…  								\n				\n				\n				\n							\n			\n		\n						\n				\n					\n		\n				\n			\n						\n				\n							\n			\n		\n						\n				\n				\n				\n									\n					\n						\n									Comprar
URL:https://foroshakespeare.com/evento/late-night-comedy-12/
LOCATION:Foro Shakespeare\, Zamora 7\, Colonia Condesa\, Cuauhtémoc\, Ciudad de México.\, México
CATEGORIES:Comedia,Stand up
ATTACH;FMTTYPE=image/jpeg:https://foroshakespeare.com/wp-content/uploads/2024/05/late-night-comedy-front-banner.jpg
END:VEVENT
BEGIN:VEVENT
DTSTART;TZID=America/Mexico_City:20260624T203000
DTEND;TZID=America/Mexico_City:20260819T214000
DTSTAMP:20260423T214413
CREATED:20260422T000242Z
LAST-MODIFIED:20260422T000302Z
UID:39936-1782333000-1787175600@foroshakespeare.com
SUMMARY:Cuestión de método
DESCRIPTION:Stand up Bar comedy				\n				\n				\n				\n									jueves 20:30 h / Terrazaviernes y sábados20:30 h / Terraza22:30 h / Espacio Urgente 2$250 STAND UP BAR COMEDY TODOS QUEREMOS? ¡SALUD!Show de stand up comedy\, se presenta en Foro Shakespeare\, presentando 4 comediantes\, que alternan funciones\, trayendo talento Comedy Central\, talento emergente\, youtubers\, podcasters que se presentan para contar sus rutinas mientras disfrutas de unos tragos coquetos de tu preferencia. Regresamos para decir salud.   								\n				\n				\n						\n					\n			\n						\n				\n									Elenco – Said Santin\, Alex Quiroz\, Güero Cocom\, Javier Ibarreche\, Miguel Burra\, Agüita de Coco\, Carlos Mosco\, Juan Carlos Escalante\, Pamonstruo\, Payo\, Jonny J\, Rodrigo Montejo\, Domingo Aceves\, Juanjo Jicamas. y muchos más…  								\n				\n				\n				\n							\n			\n		\n						\n				\n					\n		\n				\n			\n						\n				\n							\n			\n		\n						\n				\n				\n				\n									\n					\n						\n									Comprar
URL:https://foroshakespeare.com/evento/cuestion-de-metodo-11/
LOCATION:Foro Shakespeare\, Zamora 7\, Colonia Condesa\, Cuauhtémoc\, Ciudad de México.\, México
CATEGORIES:Comedia
ATTACH;FMTTYPE=image/jpeg:https://foroshakespeare.com/wp-content/uploads/2026/04/evento-cuestiondemetodo-frontbanner.jpg
END:VEVENT
BEGIN:VEVENT
DTSTART;TZID=America/Mexico_City:20260626T223000
DTEND;TZID=America/Mexico_City:20260626T235900
DTSTAMP:20260423T214413
CREATED:20260330T182029Z
LAST-MODIFIED:20260330T182029Z
UID:39561-1782513000-1782518340@foroshakespeare.com
SUMMARY:OPEN MIC / El Show
DESCRIPTION:Stand up Bar comedy				\n				\n				\n				\n									jueves 20:30 h / Terrazaviernes y sábados20:30 h / Terraza22:30 h / Espacio Urgente 2$250 STAND UP BAR COMEDY TODOS QUEREMOS? ¡SALUD!Show de stand up comedy\, se presenta en Foro Shakespeare\, presentando 4 comediantes\, que alternan funciones\, trayendo talento Comedy Central\, talento emergente\, youtubers\, podcasters que se presentan para contar sus rutinas mientras disfrutas de unos tragos coquetos de tu preferencia. Regresamos para decir salud.   								\n				\n				\n						\n					\n			\n						\n				\n									Elenco – Said Santin\, Alex Quiroz\, Güero Cocom\, Javier Ibarreche\, Miguel Burra\, Agüita de Coco\, Carlos Mosco\, Juan Carlos Escalante\, Pamonstruo\, Payo\, Jonny J\, Rodrigo Montejo\, Domingo Aceves\, Juanjo Jicamas. y muchos más…  								\n				\n				\n				\n							\n			\n		\n						\n				\n					\n		\n				\n			\n						\n				\n							\n			\n		\n						\n				\n				\n				\n									\n					\n						\n									Comprar
URL:https://foroshakespeare.com/evento/open-mic-el-show-12/
LOCATION:Foro Shakespeare\, Zamora 7\, Colonia Condesa\, Cuauhtémoc\, Ciudad de México.\, México
CATEGORIES:Comedia,Stand up
ATTACH;FMTTYPE=image/jpeg:https://foroshakespeare.com/wp-content/uploads/2025/01/Front-Banner-Open-Mic-El-Show.jpg
END:VEVENT
BEGIN:VEVENT
DTSTART;TZID=America/Mexico_City:20260627T170000
DTEND;TZID=America/Mexico_City:20260627T183000
DTSTAMP:20260423T214413
CREATED:20260226T194446Z
LAST-MODIFIED:20260409T113707Z
UID:38883-1782579600-1782585000@foroshakespeare.com
SUMMARY:El chiste en la vida
DESCRIPTION:Stand up Bar comedy				\n				\n				\n				\n									jueves 20:30 h / Terrazaviernes y sábados20:30 h / Terraza22:30 h / Espacio Urgente 2$250 STAND UP BAR COMEDY TODOS QUEREMOS? ¡SALUD!Show de stand up comedy\, se presenta en Foro Shakespeare\, presentando 4 comediantes\, que alternan funciones\, trayendo talento Comedy Central\, talento emergente\, youtubers\, podcasters que se presentan para contar sus rutinas mientras disfrutas de unos tragos coquetos de tu preferencia. Regresamos para decir salud.   								\n				\n				\n						\n					\n			\n						\n				\n									Elenco – Said Santin\, Alex Quiroz\, Güero Cocom\, Javier Ibarreche\, Miguel Burra\, Agüita de Coco\, Carlos Mosco\, Juan Carlos Escalante\, Pamonstruo\, Payo\, Jonny J\, Rodrigo Montejo\, Domingo Aceves\, Juanjo Jicamas. y muchos más…  								\n				\n				\n				\n							\n			\n		\n						\n				\n					\n		\n				\n			\n						\n				\n							\n			\n		\n						\n				\n				\n				\n									\n					\n						\n									Comprar
URL:https://foroshakespeare.com/evento/el-chiste-en-la-vida-16/
LOCATION:Foro Shakespeare\, Zamora 7\, Colonia Condesa\, Cuauhtémoc\, Ciudad de México.\, México
CATEGORIES:Comedia,Impro,Tragedia
ATTACH;FMTTYPE=image/jpeg:https://foroshakespeare.com/wp-content/uploads/2026/02/el-chiste-en-la-vida-front-banner-1.jpg
END:VEVENT
BEGIN:VEVENT
DTSTART;TZID=America/Mexico_City:20260627T220000
DTEND;TZID=America/Mexico_City:20260627T235900
DTSTAMP:20260423T214413
CREATED:20260330T181238Z
LAST-MODIFIED:20260330T181238Z
UID:39536-1782597600-1782604740@foroshakespeare.com
SUMMARY:Late Night Comedy
DESCRIPTION:Stand up Bar comedy				\n				\n				\n				\n									jueves 20:30 h / Terrazaviernes y sábados20:30 h / Terraza22:30 h / Espacio Urgente 2$250 STAND UP BAR COMEDY TODOS QUEREMOS? ¡SALUD!Show de stand up comedy\, se presenta en Foro Shakespeare\, presentando 4 comediantes\, que alternan funciones\, trayendo talento Comedy Central\, talento emergente\, youtubers\, podcasters que se presentan para contar sus rutinas mientras disfrutas de unos tragos coquetos de tu preferencia. Regresamos para decir salud.   								\n				\n				\n						\n					\n			\n						\n				\n									Elenco – Said Santin\, Alex Quiroz\, Güero Cocom\, Javier Ibarreche\, Miguel Burra\, Agüita de Coco\, Carlos Mosco\, Juan Carlos Escalante\, Pamonstruo\, Payo\, Jonny J\, Rodrigo Montejo\, Domingo Aceves\, Juanjo Jicamas. y muchos más…  								\n				\n				\n				\n							\n			\n		\n						\n				\n					\n		\n				\n			\n						\n				\n							\n			\n		\n						\n				\n				\n				\n									\n					\n						\n									Comprar
URL:https://foroshakespeare.com/evento/late-night-comedy-13/
LOCATION:Foro Shakespeare\, Zamora 7\, Colonia Condesa\, Cuauhtémoc\, Ciudad de México.\, México
CATEGORIES:Comedia,Stand up
ATTACH;FMTTYPE=image/jpeg:https://foroshakespeare.com/wp-content/uploads/2024/05/late-night-comedy-front-banner.jpg
END:VEVENT
END:VCALENDAR