BEGIN:VCALENDAR
VERSION:2.0
PRODID:-//Foro Shakespeare - ECPv6.15.16.1//NONSGML v1.0//EN
CALSCALE:GREGORIAN
METHOD:PUBLISH
X-WR-CALNAME:Foro Shakespeare
X-ORIGINAL-URL:https://foroshakespeare.com
X-WR-CALDESC:Eventos para Foro Shakespeare
REFRESH-INTERVAL;VALUE=DURATION:PT1H
X-Robots-Tag:noindex
X-PUBLISHED-TTL:PT1H
BEGIN:VTIMEZONE
TZID:America/Mexico_City
BEGIN:STANDARD
TZOFFSETFROM:-0600
TZOFFSETTO:-0600
TZNAME:CST
DTSTART:20250101T000000
END:STANDARD
END:VTIMEZONE
BEGIN:VEVENT
DTSTART;TZID=America/Mexico_City:20260404T170000
DTEND;TZID=America/Mexico_City:20260404T180000
DTSTAMP:20260424T161540
CREATED:20260309T073644Z
LAST-MODIFIED:20260331T060436Z
UID:39187-1775322000-1775325600@foroshakespeare.com
SUMMARY:Sí soy
DESCRIPTION:La última paciente				\n				\n				\n				\n									Hasta el 11 de julioSábados 20:30hForo Principal / $600Entrada numeradaCompañía – Acto Segundo En un consultorio cualquiera de un pueblo cualquiera\, algo comienza a salirse de control. Lo que parecía una sesión más se convierte en una espiral de revelaciones\, heridas abiertas\, deseos peligrosos y voces que no se sabe si existen o son producto del dolor. La última paciente es un drama psicológico de dos actos que cuestiona la ética\, el deseo y la salud mental desde el corazón mismo del diván.       								\n				\n				\n						\n					\n			\n						\n				\n									Elenco – Alejandro Faugier\, Karla Caos y Xareni Aguilar Dirección – Alejandro FaugierDramaturgia – Miguel Angel Diaz Barriga N Vestuario – Ana BahenaDiseño e imagen – Miguel Angel Díaz B.Técnico de sonido – Zac Pichardo Olmedo Duración – 135 minutos aprox.Recomendado para jóvenes [+18] y adultos   								\n				\n				\n				\n							\n			\n		\n						\n				\n					\n		\n				\n			\n						\n				\n							\n			\n		\n						\n				\n				\n				\n									\n					\n						\n									Comprar
URL:https://foroshakespeare.com/evento/si-soy-3/
LOCATION:Foro Shakespeare\, Zamora 7\, Colonia Condesa\, Cuauhtémoc\, Ciudad de México.\, México
CATEGORIES:Drama,Evento
ATTACH;FMTTYPE=image/png:https://foroshakespeare.com/wp-content/uploads/2026/02/SI-SOY_-2026_-FRONT-BANNER-1.png
END:VEVENT
BEGIN:VEVENT
DTSTART;TZID=America/Mexico_City:20260404T170000
DTEND;TZID=America/Mexico_City:20260404T183000
DTSTAMP:20260424T161540
CREATED:20260330T174212Z
LAST-MODIFIED:20260330T174259Z
UID:39497-1775322000-1775327400@foroshakespeare.com
SUMMARY:Julieta minutos antes de Romeo
DESCRIPTION:La última paciente				\n				\n				\n				\n									Hasta el 11 de julioSábados 20:30hForo Principal / $600Entrada numeradaCompañía – Acto Segundo En un consultorio cualquiera de un pueblo cualquiera\, algo comienza a salirse de control. Lo que parecía una sesión más se convierte en una espiral de revelaciones\, heridas abiertas\, deseos peligrosos y voces que no se sabe si existen o son producto del dolor. La última paciente es un drama psicológico de dos actos que cuestiona la ética\, el deseo y la salud mental desde el corazón mismo del diván.       								\n				\n				\n						\n					\n			\n						\n				\n									Elenco – Alejandro Faugier\, Karla Caos y Xareni Aguilar Dirección – Alejandro FaugierDramaturgia – Miguel Angel Diaz Barriga N Vestuario – Ana BahenaDiseño e imagen – Miguel Angel Díaz B.Técnico de sonido – Zac Pichardo Olmedo Duración – 135 minutos aprox.Recomendado para jóvenes [+18] y adultos   								\n				\n				\n				\n							\n			\n		\n						\n				\n					\n		\n				\n			\n						\n				\n							\n			\n		\n						\n				\n				\n				\n									\n					\n						\n									Comprar
URL:https://foroshakespeare.com/evento/julieta-minutos-antes-de-romeo/
LOCATION:Foro Shakespeare\, Zamora 7\, Colonia Condesa\, Cuauhtémoc\, Ciudad de México.\, México
CATEGORIES:Comedia,Drama,Evento,Interdisciplina,Monólogo,Tragedia
ATTACH;FMTTYPE=image/png:https://foroshakespeare.com/wp-content/uploads/2025/12/Julietas-front-banner-1.png
END:VEVENT
BEGIN:VEVENT
DTSTART;TZID=America/Mexico_City:20260404T170000
DTEND;TZID=America/Mexico_City:20260404T193000
DTSTAMP:20260424T161540
CREATED:20260308T072416Z
LAST-MODIFIED:20260401T080920Z
UID:39161-1775322000-1775331000@foroshakespeare.com
SUMMARY:Cómo deconstruirse del patriarcado sin morir en el intento
DESCRIPTION:La última paciente				\n				\n				\n				\n									Hasta el 11 de julioSábados 20:30hForo Principal / $600Entrada numeradaCompañía – Acto Segundo En un consultorio cualquiera de un pueblo cualquiera\, algo comienza a salirse de control. Lo que parecía una sesión más se convierte en una espiral de revelaciones\, heridas abiertas\, deseos peligrosos y voces que no se sabe si existen o son producto del dolor. La última paciente es un drama psicológico de dos actos que cuestiona la ética\, el deseo y la salud mental desde el corazón mismo del diván.       								\n				\n				\n						\n					\n			\n						\n				\n									Elenco – Alejandro Faugier\, Karla Caos y Xareni Aguilar Dirección – Alejandro FaugierDramaturgia – Miguel Angel Diaz Barriga N Vestuario – Ana BahenaDiseño e imagen – Miguel Angel Díaz B.Técnico de sonido – Zac Pichardo Olmedo Duración – 135 minutos aprox.Recomendado para jóvenes [+18] y adultos   								\n				\n				\n				\n							\n			\n		\n						\n				\n					\n		\n				\n			\n						\n				\n							\n			\n		\n						\n				\n				\n				\n									\n					\n						\n									Comprar
URL:https://foroshakespeare.com/evento/como-deconstruirse-del-patriarcado-sin-morir-en-el-intento/
LOCATION:Foro Shakespeare\, Zamora 7\, Colonia Condesa\, Cuauhtémoc\, Ciudad de México.\, México
CATEGORIES:Cabaret,Comedia,Drama,Evento,Musical,Tragicomedia
ATTACH;FMTTYPE=image/png:https://foroshakespeare.com/wp-content/uploads/2026/03/evento-como-deconstruirse-front-banner.png
END:VEVENT
BEGIN:VEVENT
DTSTART;TZID=America/Mexico_City:20260404T190000
DTEND;TZID=America/Mexico_City:20260404T194000
DTSTAMP:20260424T161540
CREATED:20260226T195813Z
LAST-MODIFIED:20260331T060443Z
UID:38890-1775329200-1775331600@foroshakespeare.com
SUMMARY:Tiempo
DESCRIPTION:La última paciente				\n				\n				\n				\n									Hasta el 11 de julioSábados 20:30hForo Principal / $600Entrada numeradaCompañía – Acto Segundo En un consultorio cualquiera de un pueblo cualquiera\, algo comienza a salirse de control. Lo que parecía una sesión más se convierte en una espiral de revelaciones\, heridas abiertas\, deseos peligrosos y voces que no se sabe si existen o son producto del dolor. La última paciente es un drama psicológico de dos actos que cuestiona la ética\, el deseo y la salud mental desde el corazón mismo del diván.       								\n				\n				\n						\n					\n			\n						\n				\n									Elenco – Alejandro Faugier\, Karla Caos y Xareni Aguilar Dirección – Alejandro FaugierDramaturgia – Miguel Angel Diaz Barriga N Vestuario – Ana BahenaDiseño e imagen – Miguel Angel Díaz B.Técnico de sonido – Zac Pichardo Olmedo Duración – 135 minutos aprox.Recomendado para jóvenes [+18] y adultos   								\n				\n				\n				\n							\n			\n		\n						\n				\n					\n		\n				\n			\n						\n				\n							\n			\n		\n						\n				\n				\n				\n									\n					\n						\n									Comprar
URL:https://foroshakespeare.com/evento/tiempo-4/
LOCATION:Foro Shakespeare\, Zamora 7\, Colonia Condesa\, Cuauhtémoc\, Ciudad de México.\, México
CATEGORIES:Comedia,Drama,Evento,Unipersonal
ATTACH;FMTTYPE=image/png:https://foroshakespeare.com/wp-content/uploads/2026/02/Tiempo_Front-Banner-1.png
END:VEVENT
BEGIN:VEVENT
DTSTART;TZID=America/Mexico_City:20260404T203000
DTEND;TZID=America/Mexico_City:20260404T214000
DTSTAMP:20260424T161540
CREATED:20260301T000024Z
LAST-MODIFIED:20260301T200215Z
UID:38944-1775334600-1775338800@foroshakespeare.com
SUMMARY:Temporada de ciervos
DESCRIPTION:La última paciente				\n				\n				\n				\n									Hasta el 11 de julioSábados 20:30hForo Principal / $600Entrada numeradaCompañía – Acto Segundo En un consultorio cualquiera de un pueblo cualquiera\, algo comienza a salirse de control. Lo que parecía una sesión más se convierte en una espiral de revelaciones\, heridas abiertas\, deseos peligrosos y voces que no se sabe si existen o son producto del dolor. La última paciente es un drama psicológico de dos actos que cuestiona la ética\, el deseo y la salud mental desde el corazón mismo del diván.       								\n				\n				\n						\n					\n			\n						\n				\n									Elenco – Alejandro Faugier\, Karla Caos y Xareni Aguilar Dirección – Alejandro FaugierDramaturgia – Miguel Angel Diaz Barriga N Vestuario – Ana BahenaDiseño e imagen – Miguel Angel Díaz B.Técnico de sonido – Zac Pichardo Olmedo Duración – 135 minutos aprox.Recomendado para jóvenes [+18] y adultos   								\n				\n				\n				\n							\n			\n		\n						\n				\n					\n		\n				\n			\n						\n				\n							\n			\n		\n						\n				\n				\n				\n									\n					\n						\n									Comprar
URL:https://foroshakespeare.com/evento/temporada-de-ciervos/
LOCATION:Foro Shakespeare\, Zamora 7\, Colonia Condesa\, Cuauhtémoc\, Ciudad de México.\, México
CATEGORIES:Comedia,Drama,Evento
ATTACH;FMTTYPE=image/jpeg:https://foroshakespeare.com/wp-content/uploads/2026/02/TemporadaDeCiervos-front-banner.jpg
END:VEVENT
END:VCALENDAR