BEGIN:VCALENDAR
VERSION:2.0
PRODID:-//Foro Shakespeare - ECPv6.15.16.1//NONSGML v1.0//EN
CALSCALE:GREGORIAN
METHOD:PUBLISH
X-ORIGINAL-URL:https://foroshakespeare.com
X-WR-CALDESC:Eventos para Foro Shakespeare
REFRESH-INTERVAL;VALUE=DURATION:PT1H
X-Robots-Tag:noindex
X-PUBLISHED-TTL:PT1H
BEGIN:VTIMEZONE
TZID:America/Mexico_City
BEGIN:STANDARD
TZOFFSETFROM:-0600
TZOFFSETTO:-0600
TZNAME:CST
DTSTART:20250101T000000
END:STANDARD
END:VTIMEZONE
BEGIN:VEVENT
DTSTART;TZID=America/Mexico_City:20260620T170000
DTEND;TZID=America/Mexico_City:20260620T183000
DTSTAMP:20260423T160731
CREATED:20260226T194412Z
LAST-MODIFIED:20260409T113646Z
UID:38881-1781974800-1781980200@foroshakespeare.com
SUMMARY:El chiste en la vida
DESCRIPTION:LA IMPRO LUCHA - Campeonato Internacional				\n				\n				\n				\n									Del 29 de abril al 3 de mayo miércoles\, jueves y viernes 20:30h sábados 19h domingos 18h Foro Principal / General $500 / VIP $550 compañía – SAACombo 5 funciones $1\,750 ($350 c/u) Combo 3 funciones $1\,200 ($400 c/u) La Impro Lucha celebra sus 20 años y\, como primer gran evento de los festejos\, se realizará LA IMPRO LUCHA – CAMPEONATO INTERNACIONAL. En este icónico cuadrilátero\, las llaves no son de carne y hueso\, sino de palabras y situaciones imprevistas. Los mejores improvisadores del mundo convergen en un torneo donde rudos\, técnicos y exóticos defenderán a sus naciones usando la única arma permitida: su imaginación. Argentina\, Brasil\, Colombia\, España\, Italia y México se enfrentarán a 2 de 3 caídas sin límite de risas.       								\n				\n				\n						\n					\n			\n						\n				\n									Elenco ARGENTINA – Pau Farías y Rodrigo Bello BRASIL – Bella Marcati y Elidio COLOMBIA – Catalina Hincapie y Ricardo España ESPAÑA – Ignacio López y Paloma Córdova ITALIA – Martina Zanfi y Pierpaolo Buzza MÉXICO – Daniel García y Karla MoralesDirección – José Luis Saldaña Dramaturgia – José Luis Saldaña y Omar MedinaDiseño de escenografía – Félix Arroyo Diseño de iluminación – Miguel Velázquez Diseño y realización multimedia – Omar Saavedra Ingeniero de audio – Memo Ibarra Relaciones públicas – VIOGG Diseño publicitario y RRSS – Anaid GarcíaAsistente de dirección – Eunice Rocha Coordinación de producción – Diana Luna Asistente de producción – Jan Pérez Producción general – Omar SaavedraDuración: 120 minutos aprox. Recomendada para todo tipo de público [+5] [No se admite la entrada con alimentos\, únicamente bebidas que estén dentro de nuestro menú de intercambio]         								\n				\n				\n				\n							\n			\n		\n						\n				\n					\n		\n				\n			\n						\n				\n							\n			\n		\n						\n				\n				\n				\n									\n					\n						\n									Comprar
URL:https://foroshakespeare.com/evento/el-chiste-en-la-vida-15/
LOCATION:Foro Shakespeare\, Zamora 7\, Colonia Condesa\, Cuauhtémoc\, Ciudad de México.\, México
CATEGORIES:Comedia,Impro,Tragedia
ATTACH;FMTTYPE=image/jpeg:https://foroshakespeare.com/wp-content/uploads/2026/02/el-chiste-en-la-vida-front-banner-1.jpg
END:VEVENT
BEGIN:VEVENT
DTSTART;TZID=America/Mexico_City:20260627T170000
DTEND;TZID=America/Mexico_City:20260627T183000
DTSTAMP:20260423T160731
CREATED:20260226T194446Z
LAST-MODIFIED:20260409T113707Z
UID:38883-1782579600-1782585000@foroshakespeare.com
SUMMARY:El chiste en la vida
DESCRIPTION:LA IMPRO LUCHA - Campeonato Internacional				\n				\n				\n				\n									Del 29 de abril al 3 de mayo miércoles\, jueves y viernes 20:30h sábados 19h domingos 18h Foro Principal / General $500 / VIP $550 compañía – SAACombo 5 funciones $1\,750 ($350 c/u) Combo 3 funciones $1\,200 ($400 c/u) La Impro Lucha celebra sus 20 años y\, como primer gran evento de los festejos\, se realizará LA IMPRO LUCHA – CAMPEONATO INTERNACIONAL. En este icónico cuadrilátero\, las llaves no son de carne y hueso\, sino de palabras y situaciones imprevistas. Los mejores improvisadores del mundo convergen en un torneo donde rudos\, técnicos y exóticos defenderán a sus naciones usando la única arma permitida: su imaginación. Argentina\, Brasil\, Colombia\, España\, Italia y México se enfrentarán a 2 de 3 caídas sin límite de risas.       								\n				\n				\n						\n					\n			\n						\n				\n									Elenco ARGENTINA – Pau Farías y Rodrigo Bello BRASIL – Bella Marcati y Elidio COLOMBIA – Catalina Hincapie y Ricardo España ESPAÑA – Ignacio López y Paloma Córdova ITALIA – Martina Zanfi y Pierpaolo Buzza MÉXICO – Daniel García y Karla MoralesDirección – José Luis Saldaña Dramaturgia – José Luis Saldaña y Omar MedinaDiseño de escenografía – Félix Arroyo Diseño de iluminación – Miguel Velázquez Diseño y realización multimedia – Omar Saavedra Ingeniero de audio – Memo Ibarra Relaciones públicas – VIOGG Diseño publicitario y RRSS – Anaid GarcíaAsistente de dirección – Eunice Rocha Coordinación de producción – Diana Luna Asistente de producción – Jan Pérez Producción general – Omar SaavedraDuración: 120 minutos aprox. Recomendada para todo tipo de público [+5] [No se admite la entrada con alimentos\, únicamente bebidas que estén dentro de nuestro menú de intercambio]         								\n				\n				\n				\n							\n			\n		\n						\n				\n					\n		\n				\n			\n						\n				\n							\n			\n		\n						\n				\n				\n				\n									\n					\n						\n									Comprar
URL:https://foroshakespeare.com/evento/el-chiste-en-la-vida-16/
LOCATION:Foro Shakespeare\, Zamora 7\, Colonia Condesa\, Cuauhtémoc\, Ciudad de México.\, México
CATEGORIES:Comedia,Impro,Tragedia
ATTACH;FMTTYPE=image/jpeg:https://foroshakespeare.com/wp-content/uploads/2026/02/el-chiste-en-la-vida-front-banner-1.jpg
END:VEVENT
END:VCALENDAR