BEGIN:VCALENDAR
VERSION:2.0
PRODID:-//Foro Shakespeare - ECPv6.15.16.1//NONSGML v1.0//EN
CALSCALE:GREGORIAN
METHOD:PUBLISH
X-ORIGINAL-URL:https://foroshakespeare.com
X-WR-CALDESC:Eventos para Foro Shakespeare
REFRESH-INTERVAL;VALUE=DURATION:PT1H
X-Robots-Tag:noindex
X-PUBLISHED-TTL:PT1H
BEGIN:VTIMEZONE
TZID:America/Mexico_City
BEGIN:STANDARD
TZOFFSETFROM:-0600
TZOFFSETTO:-0600
TZNAME:CST
DTSTART:20250101T000000
END:STANDARD
END:VTIMEZONE
BEGIN:VEVENT
DTSTART;TZID=America/Mexico_City:20260307T130000
DTEND;TZID=America/Mexico_City:20260307T141000
DTSTAMP:20260423T160728
CREATED:20260226T200951Z
LAST-MODIFIED:20260305T224307Z
UID:38907-1772888400-1772892600@foroshakespeare.com
SUMMARY:Aníbal y Melquiades
DESCRIPTION:Aníbal y Melquiades				\n				\n				\n				\n									Del 21 de febrero al 25 de abril sábados 13h Espacio Urgente 2Entrada general / $250 Preventa $150 disponible hasta el 20 de febrero Compañía – Coturno producciones  Melquiades es el niño más fuerte de la escuela\, es tan fuerte que es capaz de cargar el escritorio de la maestra con ella arriba\, es travieso y muy inquieto. Aníbal en cambio es más frágil que una mariposa y tan débil que su mamá le carga la mochila de camino a la escuela. La historia de estos dos niños completamente diferentes y singulares\, los hará unirse en una gran amistad. Basada en el cuento de Francisco Hinojosa.       								\n				\n				\n						\n					\n			\n						\n				\n									Elenco – Paulina De Lira\, Daniela Bahena\, Mario Rendón Tapia\, Satchel Lagarda Dirección – Bruno Boludo Dramaturgia – Francisco Hinojosa\, Adaptación de Mario Rendón Diseño de música y audio – Dann Ortega Diseño de iluminación – Miguel Angel Velazquez Diseño de escenografía – Mario Rendón Diseño gráfico – Dann Ortega Redes – Paulina De Lira Diseño de vestuario – Mario Rendón Duración: 70 minutos aprox. Recomendada para jóvenes audiencias\, todo tipo de público [No se admite la entrada con alimentos\, únicamente bebidas que estén dentro de nuestro menú de intercambio]         								\n				\n				\n				\n							\n			\n		\n						\n				\n					\n		\n				\n			\n						\n				\n							\n			\n		\n						\n				\n				\n				\n									\n					\n						\n									Comprar
URL:https://foroshakespeare.com/evento/anibal-y-melquiades-2/
LOCATION:Foro Shakespeare\, Zamora 7\, Colonia Condesa\, Cuauhtémoc\, Ciudad de México.\, México
CATEGORIES:Comedia,Evento,Infantil,Musical,Títeres
ATTACH;FMTTYPE=image/png:https://foroshakespeare.com/wp-content/uploads/2026/02/Anibal-y-Melquiades-1440-x-900-1.png
END:VEVENT
BEGIN:VEVENT
DTSTART;TZID=America/Mexico_City:20260307T130000
DTEND;TZID=America/Mexico_City:20260307T143000
DTSTAMP:20260423T160728
CREATED:20260203T120119Z
LAST-MODIFIED:20260305T224315Z
UID:38465-1772888400-1772893800@foroshakespeare.com
SUMMARY:El maleficio de la mariposa
DESCRIPTION:Aníbal y Melquiades				\n				\n				\n				\n									Del 21 de febrero al 25 de abril sábados 13h Espacio Urgente 2Entrada general / $250 Preventa $150 disponible hasta el 20 de febrero Compañía – Coturno producciones  Melquiades es el niño más fuerte de la escuela\, es tan fuerte que es capaz de cargar el escritorio de la maestra con ella arriba\, es travieso y muy inquieto. Aníbal en cambio es más frágil que una mariposa y tan débil que su mamá le carga la mochila de camino a la escuela. La historia de estos dos niños completamente diferentes y singulares\, los hará unirse en una gran amistad. Basada en el cuento de Francisco Hinojosa.       								\n				\n				\n						\n					\n			\n						\n				\n									Elenco – Paulina De Lira\, Daniela Bahena\, Mario Rendón Tapia\, Satchel Lagarda Dirección – Bruno Boludo Dramaturgia – Francisco Hinojosa\, Adaptación de Mario Rendón Diseño de música y audio – Dann Ortega Diseño de iluminación – Miguel Angel Velazquez Diseño de escenografía – Mario Rendón Diseño gráfico – Dann Ortega Redes – Paulina De Lira Diseño de vestuario – Mario Rendón Duración: 70 minutos aprox. Recomendada para jóvenes audiencias\, todo tipo de público [No se admite la entrada con alimentos\, únicamente bebidas que estén dentro de nuestro menú de intercambio]         								\n				\n				\n				\n							\n			\n		\n						\n				\n					\n		\n				\n			\n						\n				\n							\n			\n		\n						\n				\n				\n				\n									\n					\n						\n									Comprar
URL:https://foroshakespeare.com/evento/el-maleficio-de-la-mariposa-4/
LOCATION:Foro Shakespeare\, Zamora 7\, Colonia Condesa\, Cuauhtémoc\, Ciudad de México.\, México
CATEGORIES:Comedia,Evento,Infantil,Tragicomedia
ATTACH;FMTTYPE=image/png:https://foroshakespeare.com/wp-content/uploads/2025/04/maleficiomariposa-frontbanner-1.png
END:VEVENT
BEGIN:VEVENT
DTSTART;TZID=America/Mexico_City:20260308T130000
DTEND;TZID=America/Mexico_City:20260308T141000
DTSTAMP:20260423T160728
CREATED:20260224T200125Z
LAST-MODIFIED:20260225T211715Z
UID:38839-1772974800-1772979000@foroshakespeare.com
SUMMARY:El molino mágico
DESCRIPTION:Aníbal y Melquiades				\n				\n				\n				\n									Del 21 de febrero al 25 de abril sábados 13h Espacio Urgente 2Entrada general / $250 Preventa $150 disponible hasta el 20 de febrero Compañía – Coturno producciones  Melquiades es el niño más fuerte de la escuela\, es tan fuerte que es capaz de cargar el escritorio de la maestra con ella arriba\, es travieso y muy inquieto. Aníbal en cambio es más frágil que una mariposa y tan débil que su mamá le carga la mochila de camino a la escuela. La historia de estos dos niños completamente diferentes y singulares\, los hará unirse en una gran amistad. Basada en el cuento de Francisco Hinojosa.       								\n				\n				\n						\n					\n			\n						\n				\n									Elenco – Paulina De Lira\, Daniela Bahena\, Mario Rendón Tapia\, Satchel Lagarda Dirección – Bruno Boludo Dramaturgia – Francisco Hinojosa\, Adaptación de Mario Rendón Diseño de música y audio – Dann Ortega Diseño de iluminación – Miguel Angel Velazquez Diseño de escenografía – Mario Rendón Diseño gráfico – Dann Ortega Redes – Paulina De Lira Diseño de vestuario – Mario Rendón Duración: 70 minutos aprox. Recomendada para jóvenes audiencias\, todo tipo de público [No se admite la entrada con alimentos\, únicamente bebidas que estén dentro de nuestro menú de intercambio]         								\n				\n				\n				\n							\n			\n		\n						\n				\n					\n		\n				\n			\n						\n				\n							\n			\n		\n						\n				\n				\n				\n									\n					\n						\n									Comprar
URL:https://foroshakespeare.com/evento/el-molino-magico/
LOCATION:Foro Shakespeare\, Zamora 7\, Colonia Condesa\, Cuauhtémoc\, Ciudad de México.\, México
CATEGORIES:Evento,Infantil
ATTACH;FMTTYPE=image/png:https://foroshakespeare.com/wp-content/uploads/2026/02/front-banner_-molino-final.png
END:VEVENT
BEGIN:VEVENT
DTSTART;TZID=America/Mexico_City:20260314T130000
DTEND;TZID=America/Mexico_City:20260314T141000
DTSTAMP:20260423T160728
CREATED:20260302T081801Z
LAST-MODIFIED:20260309T081134Z
UID:38908-1773493200-1773497400@foroshakespeare.com
SUMMARY:Aníbal y Melquiades
DESCRIPTION:Aníbal y Melquiades				\n				\n				\n				\n									Del 21 de febrero al 25 de abril sábados 13h Espacio Urgente 2Entrada general / $250 Preventa $150 disponible hasta el 20 de febrero Compañía – Coturno producciones  Melquiades es el niño más fuerte de la escuela\, es tan fuerte que es capaz de cargar el escritorio de la maestra con ella arriba\, es travieso y muy inquieto. Aníbal en cambio es más frágil que una mariposa y tan débil que su mamá le carga la mochila de camino a la escuela. La historia de estos dos niños completamente diferentes y singulares\, los hará unirse en una gran amistad. Basada en el cuento de Francisco Hinojosa.       								\n				\n				\n						\n					\n			\n						\n				\n									Elenco – Paulina De Lira\, Daniela Bahena\, Mario Rendón Tapia\, Satchel Lagarda Dirección – Bruno Boludo Dramaturgia – Francisco Hinojosa\, Adaptación de Mario Rendón Diseño de música y audio – Dann Ortega Diseño de iluminación – Miguel Angel Velazquez Diseño de escenografía – Mario Rendón Diseño gráfico – Dann Ortega Redes – Paulina De Lira Diseño de vestuario – Mario Rendón Duración: 70 minutos aprox. Recomendada para jóvenes audiencias\, todo tipo de público [No se admite la entrada con alimentos\, únicamente bebidas que estén dentro de nuestro menú de intercambio]         								\n				\n				\n				\n							\n			\n		\n						\n				\n					\n		\n				\n			\n						\n				\n							\n			\n		\n						\n				\n				\n				\n									\n					\n						\n									Comprar
URL:https://foroshakespeare.com/evento/anibal-y-melquiades-3/
LOCATION:Foro Shakespeare\, Zamora 7\, Colonia Condesa\, Cuauhtémoc\, Ciudad de México.\, México
CATEGORIES:Comedia,Evento,Infantil,Musical,Títeres
ATTACH;FMTTYPE=image/png:https://foroshakespeare.com/wp-content/uploads/2026/02/Anibal-y-Melquiades-1440-x-900-1.png
END:VEVENT
BEGIN:VEVENT
DTSTART;TZID=America/Mexico_City:20260314T130000
DTEND;TZID=America/Mexico_City:20260314T143000
DTSTAMP:20260423T160728
CREATED:20260203T120235Z
LAST-MODIFIED:20260309T081139Z
UID:38467-1773493200-1773498600@foroshakespeare.com
SUMMARY:El maleficio de la mariposa
DESCRIPTION:Aníbal y Melquiades				\n				\n				\n				\n									Del 21 de febrero al 25 de abril sábados 13h Espacio Urgente 2Entrada general / $250 Preventa $150 disponible hasta el 20 de febrero Compañía – Coturno producciones  Melquiades es el niño más fuerte de la escuela\, es tan fuerte que es capaz de cargar el escritorio de la maestra con ella arriba\, es travieso y muy inquieto. Aníbal en cambio es más frágil que una mariposa y tan débil que su mamá le carga la mochila de camino a la escuela. La historia de estos dos niños completamente diferentes y singulares\, los hará unirse en una gran amistad. Basada en el cuento de Francisco Hinojosa.       								\n				\n				\n						\n					\n			\n						\n				\n									Elenco – Paulina De Lira\, Daniela Bahena\, Mario Rendón Tapia\, Satchel Lagarda Dirección – Bruno Boludo Dramaturgia – Francisco Hinojosa\, Adaptación de Mario Rendón Diseño de música y audio – Dann Ortega Diseño de iluminación – Miguel Angel Velazquez Diseño de escenografía – Mario Rendón Diseño gráfico – Dann Ortega Redes – Paulina De Lira Diseño de vestuario – Mario Rendón Duración: 70 minutos aprox. Recomendada para jóvenes audiencias\, todo tipo de público [No se admite la entrada con alimentos\, únicamente bebidas que estén dentro de nuestro menú de intercambio]         								\n				\n				\n				\n							\n			\n		\n						\n				\n					\n		\n				\n			\n						\n				\n							\n			\n		\n						\n				\n				\n				\n									\n					\n						\n									Comprar
URL:https://foroshakespeare.com/evento/el-maleficio-de-la-mariposa-5/
LOCATION:Foro Shakespeare\, Zamora 7\, Colonia Condesa\, Cuauhtémoc\, Ciudad de México.\, México
CATEGORIES:Comedia,Evento,Infantil,Tragicomedia
ATTACH;FMTTYPE=image/png:https://foroshakespeare.com/wp-content/uploads/2025/04/maleficiomariposa-frontbanner-1.png
END:VEVENT
BEGIN:VEVENT
DTSTART;TZID=America/Mexico_City:20260315T130000
DTEND;TZID=America/Mexico_City:20260315T141000
DTSTAMP:20260423T160728
CREATED:20260302T083658Z
LAST-MODIFIED:20260309T081240Z
UID:38989-1773579600-1773583800@foroshakespeare.com
SUMMARY:El molino mágico
DESCRIPTION:Aníbal y Melquiades				\n				\n				\n				\n									Del 21 de febrero al 25 de abril sábados 13h Espacio Urgente 2Entrada general / $250 Preventa $150 disponible hasta el 20 de febrero Compañía – Coturno producciones  Melquiades es el niño más fuerte de la escuela\, es tan fuerte que es capaz de cargar el escritorio de la maestra con ella arriba\, es travieso y muy inquieto. Aníbal en cambio es más frágil que una mariposa y tan débil que su mamá le carga la mochila de camino a la escuela. La historia de estos dos niños completamente diferentes y singulares\, los hará unirse en una gran amistad. Basada en el cuento de Francisco Hinojosa.       								\n				\n				\n						\n					\n			\n						\n				\n									Elenco – Paulina De Lira\, Daniela Bahena\, Mario Rendón Tapia\, Satchel Lagarda Dirección – Bruno Boludo Dramaturgia – Francisco Hinojosa\, Adaptación de Mario Rendón Diseño de música y audio – Dann Ortega Diseño de iluminación – Miguel Angel Velazquez Diseño de escenografía – Mario Rendón Diseño gráfico – Dann Ortega Redes – Paulina De Lira Diseño de vestuario – Mario Rendón Duración: 70 minutos aprox. Recomendada para jóvenes audiencias\, todo tipo de público [No se admite la entrada con alimentos\, únicamente bebidas que estén dentro de nuestro menú de intercambio]         								\n				\n				\n				\n							\n			\n		\n						\n				\n					\n		\n				\n			\n						\n				\n							\n			\n		\n						\n				\n				\n				\n									\n					\n						\n									Comprar
URL:https://foroshakespeare.com/evento/el-molino-magico-2/
LOCATION:Foro Shakespeare\, Zamora 7\, Colonia Condesa\, Cuauhtémoc\, Ciudad de México.\, México
CATEGORIES:Evento,Infantil
ATTACH;FMTTYPE=image/png:https://foroshakespeare.com/wp-content/uploads/2026/02/front-banner_-molino-final.png
END:VEVENT
BEGIN:VEVENT
DTSTART;TZID=America/Mexico_City:20260321T130000
DTEND;TZID=America/Mexico_City:20260321T141000
DTSTAMP:20260423T160728
CREATED:20260302T081921Z
LAST-MODIFIED:20260302T081921Z
UID:38909-1774098000-1774102200@foroshakespeare.com
SUMMARY:Aníbal y Melquiades
DESCRIPTION:Aníbal y Melquiades				\n				\n				\n				\n									Del 21 de febrero al 25 de abril sábados 13h Espacio Urgente 2Entrada general / $250 Preventa $150 disponible hasta el 20 de febrero Compañía – Coturno producciones  Melquiades es el niño más fuerte de la escuela\, es tan fuerte que es capaz de cargar el escritorio de la maestra con ella arriba\, es travieso y muy inquieto. Aníbal en cambio es más frágil que una mariposa y tan débil que su mamá le carga la mochila de camino a la escuela. La historia de estos dos niños completamente diferentes y singulares\, los hará unirse en una gran amistad. Basada en el cuento de Francisco Hinojosa.       								\n				\n				\n						\n					\n			\n						\n				\n									Elenco – Paulina De Lira\, Daniela Bahena\, Mario Rendón Tapia\, Satchel Lagarda Dirección – Bruno Boludo Dramaturgia – Francisco Hinojosa\, Adaptación de Mario Rendón Diseño de música y audio – Dann Ortega Diseño de iluminación – Miguel Angel Velazquez Diseño de escenografía – Mario Rendón Diseño gráfico – Dann Ortega Redes – Paulina De Lira Diseño de vestuario – Mario Rendón Duración: 70 minutos aprox. Recomendada para jóvenes audiencias\, todo tipo de público [No se admite la entrada con alimentos\, únicamente bebidas que estén dentro de nuestro menú de intercambio]         								\n				\n				\n				\n							\n			\n		\n						\n				\n					\n		\n				\n			\n						\n				\n							\n			\n		\n						\n				\n				\n				\n									\n					\n						\n									Comprar
URL:https://foroshakespeare.com/evento/anibal-y-melquiades-4/
LOCATION:Foro Shakespeare\, Zamora 7\, Colonia Condesa\, Cuauhtémoc\, Ciudad de México.\, México
CATEGORIES:Comedia,Infantil,Musical,Títeres
ATTACH;FMTTYPE=image/png:https://foroshakespeare.com/wp-content/uploads/2026/02/Anibal-y-Melquiades-1440-x-900-1.png
END:VEVENT
BEGIN:VEVENT
DTSTART;TZID=America/Mexico_City:20260321T130000
DTEND;TZID=America/Mexico_City:20260321T143000
DTSTAMP:20260423T160728
CREATED:20260203T120329Z
LAST-MODIFIED:20260320T001229Z
UID:38469-1774098000-1774103400@foroshakespeare.com
SUMMARY:El maleficio de la mariposa
DESCRIPTION:Aníbal y Melquiades				\n				\n				\n				\n									Del 21 de febrero al 25 de abril sábados 13h Espacio Urgente 2Entrada general / $250 Preventa $150 disponible hasta el 20 de febrero Compañía – Coturno producciones  Melquiades es el niño más fuerte de la escuela\, es tan fuerte que es capaz de cargar el escritorio de la maestra con ella arriba\, es travieso y muy inquieto. Aníbal en cambio es más frágil que una mariposa y tan débil que su mamá le carga la mochila de camino a la escuela. La historia de estos dos niños completamente diferentes y singulares\, los hará unirse en una gran amistad. Basada en el cuento de Francisco Hinojosa.       								\n				\n				\n						\n					\n			\n						\n				\n									Elenco – Paulina De Lira\, Daniela Bahena\, Mario Rendón Tapia\, Satchel Lagarda Dirección – Bruno Boludo Dramaturgia – Francisco Hinojosa\, Adaptación de Mario Rendón Diseño de música y audio – Dann Ortega Diseño de iluminación – Miguel Angel Velazquez Diseño de escenografía – Mario Rendón Diseño gráfico – Dann Ortega Redes – Paulina De Lira Diseño de vestuario – Mario Rendón Duración: 70 minutos aprox. Recomendada para jóvenes audiencias\, todo tipo de público [No se admite la entrada con alimentos\, únicamente bebidas que estén dentro de nuestro menú de intercambio]         								\n				\n				\n				\n							\n			\n		\n						\n				\n					\n		\n				\n			\n						\n				\n							\n			\n		\n						\n				\n				\n				\n									\n					\n						\n									Comprar
URL:https://foroshakespeare.com/evento/el-maleficio-de-la-mariposa-6/
LOCATION:Foro Shakespeare\, Zamora 7\, Colonia Condesa\, Cuauhtémoc\, Ciudad de México.\, México
CATEGORIES:Comedia,Evento,Infantil,Tragicomedia
ATTACH;FMTTYPE=image/png:https://foroshakespeare.com/wp-content/uploads/2025/04/maleficiomariposa-frontbanner-1.png
END:VEVENT
BEGIN:VEVENT
DTSTART;TZID=America/Mexico_City:20260322T130000
DTEND;TZID=America/Mexico_City:20260322T141000
DTSTAMP:20260423T160728
CREATED:20260302T083733Z
LAST-MODIFIED:20260320T001419Z
UID:38990-1774184400-1774188600@foroshakespeare.com
SUMMARY:El molino mágico
DESCRIPTION:Aníbal y Melquiades				\n				\n				\n				\n									Del 21 de febrero al 25 de abril sábados 13h Espacio Urgente 2Entrada general / $250 Preventa $150 disponible hasta el 20 de febrero Compañía – Coturno producciones  Melquiades es el niño más fuerte de la escuela\, es tan fuerte que es capaz de cargar el escritorio de la maestra con ella arriba\, es travieso y muy inquieto. Aníbal en cambio es más frágil que una mariposa y tan débil que su mamá le carga la mochila de camino a la escuela. La historia de estos dos niños completamente diferentes y singulares\, los hará unirse en una gran amistad. Basada en el cuento de Francisco Hinojosa.       								\n				\n				\n						\n					\n			\n						\n				\n									Elenco – Paulina De Lira\, Daniela Bahena\, Mario Rendón Tapia\, Satchel Lagarda Dirección – Bruno Boludo Dramaturgia – Francisco Hinojosa\, Adaptación de Mario Rendón Diseño de música y audio – Dann Ortega Diseño de iluminación – Miguel Angel Velazquez Diseño de escenografía – Mario Rendón Diseño gráfico – Dann Ortega Redes – Paulina De Lira Diseño de vestuario – Mario Rendón Duración: 70 minutos aprox. Recomendada para jóvenes audiencias\, todo tipo de público [No se admite la entrada con alimentos\, únicamente bebidas que estén dentro de nuestro menú de intercambio]         								\n				\n				\n				\n							\n			\n		\n						\n				\n					\n		\n				\n			\n						\n				\n							\n			\n		\n						\n				\n				\n				\n									\n					\n						\n									Comprar
URL:https://foroshakespeare.com/evento/el-molino-magico-3/
LOCATION:Foro Shakespeare\, Zamora 7\, Colonia Condesa\, Cuauhtémoc\, Ciudad de México.\, México
CATEGORIES:Evento,Infantil
ATTACH;FMTTYPE=image/png:https://foroshakespeare.com/wp-content/uploads/2026/02/front-banner_-molino-final.png
END:VEVENT
BEGIN:VEVENT
DTSTART;TZID=America/Mexico_City:20260328T130000
DTEND;TZID=America/Mexico_City:20260328T141000
DTSTAMP:20260423T160728
CREATED:20260302T081947Z
LAST-MODIFIED:20260327T195508Z
UID:38910-1774702800-1774707000@foroshakespeare.com
SUMMARY:Aníbal y Melquiades
DESCRIPTION:Aníbal y Melquiades				\n				\n				\n				\n									Del 21 de febrero al 25 de abril sábados 13h Espacio Urgente 2Entrada general / $250 Preventa $150 disponible hasta el 20 de febrero Compañía – Coturno producciones  Melquiades es el niño más fuerte de la escuela\, es tan fuerte que es capaz de cargar el escritorio de la maestra con ella arriba\, es travieso y muy inquieto. Aníbal en cambio es más frágil que una mariposa y tan débil que su mamá le carga la mochila de camino a la escuela. La historia de estos dos niños completamente diferentes y singulares\, los hará unirse en una gran amistad. Basada en el cuento de Francisco Hinojosa.       								\n				\n				\n						\n					\n			\n						\n				\n									Elenco – Paulina De Lira\, Daniela Bahena\, Mario Rendón Tapia\, Satchel Lagarda Dirección – Bruno Boludo Dramaturgia – Francisco Hinojosa\, Adaptación de Mario Rendón Diseño de música y audio – Dann Ortega Diseño de iluminación – Miguel Angel Velazquez Diseño de escenografía – Mario Rendón Diseño gráfico – Dann Ortega Redes – Paulina De Lira Diseño de vestuario – Mario Rendón Duración: 70 minutos aprox. Recomendada para jóvenes audiencias\, todo tipo de público [No se admite la entrada con alimentos\, únicamente bebidas que estén dentro de nuestro menú de intercambio]         								\n				\n				\n				\n							\n			\n		\n						\n				\n					\n		\n				\n			\n						\n				\n							\n			\n		\n						\n				\n				\n				\n									\n					\n						\n									Comprar
URL:https://foroshakespeare.com/evento/anibal-y-melquiades-5/
LOCATION:Foro Shakespeare\, Zamora 7\, Colonia Condesa\, Cuauhtémoc\, Ciudad de México.\, México
CATEGORIES:Comedia,Evento,Infantil,Musical,Títeres
ATTACH;FMTTYPE=image/png:https://foroshakespeare.com/wp-content/uploads/2026/02/Anibal-y-Melquiades-1440-x-900-1.png
END:VEVENT
BEGIN:VEVENT
DTSTART;TZID=America/Mexico_City:20260329T130000
DTEND;TZID=America/Mexico_City:20260329T141000
DTSTAMP:20260423T160728
CREATED:20260302T083810Z
LAST-MODIFIED:20260327T195632Z
UID:38991-1774789200-1774793400@foroshakespeare.com
SUMMARY:El molino mágico
DESCRIPTION:Aníbal y Melquiades				\n				\n				\n				\n									Del 21 de febrero al 25 de abril sábados 13h Espacio Urgente 2Entrada general / $250 Preventa $150 disponible hasta el 20 de febrero Compañía – Coturno producciones  Melquiades es el niño más fuerte de la escuela\, es tan fuerte que es capaz de cargar el escritorio de la maestra con ella arriba\, es travieso y muy inquieto. Aníbal en cambio es más frágil que una mariposa y tan débil que su mamá le carga la mochila de camino a la escuela. La historia de estos dos niños completamente diferentes y singulares\, los hará unirse en una gran amistad. Basada en el cuento de Francisco Hinojosa.       								\n				\n				\n						\n					\n			\n						\n				\n									Elenco – Paulina De Lira\, Daniela Bahena\, Mario Rendón Tapia\, Satchel Lagarda Dirección – Bruno Boludo Dramaturgia – Francisco Hinojosa\, Adaptación de Mario Rendón Diseño de música y audio – Dann Ortega Diseño de iluminación – Miguel Angel Velazquez Diseño de escenografía – Mario Rendón Diseño gráfico – Dann Ortega Redes – Paulina De Lira Diseño de vestuario – Mario Rendón Duración: 70 minutos aprox. Recomendada para jóvenes audiencias\, todo tipo de público [No se admite la entrada con alimentos\, únicamente bebidas que estén dentro de nuestro menú de intercambio]         								\n				\n				\n				\n							\n			\n		\n						\n				\n					\n		\n				\n			\n						\n				\n							\n			\n		\n						\n				\n				\n				\n									\n					\n						\n									Comprar
URL:https://foroshakespeare.com/evento/el-molino-magico-4/
LOCATION:Foro Shakespeare\, Zamora 7\, Colonia Condesa\, Cuauhtémoc\, Ciudad de México.\, México
CATEGORIES:Evento,Infantil
ATTACH;FMTTYPE=image/png:https://foroshakespeare.com/wp-content/uploads/2026/02/front-banner_-molino-final.png
END:VEVENT
END:VCALENDAR