BEGIN:VCALENDAR
VERSION:2.0
PRODID:-//Foro Shakespeare - ECPv6.15.16.1//NONSGML v1.0//EN
CALSCALE:GREGORIAN
METHOD:PUBLISH
X-WR-CALNAME:Foro Shakespeare
X-ORIGINAL-URL:https://foroshakespeare.com
X-WR-CALDESC:Eventos para Foro Shakespeare
REFRESH-INTERVAL;VALUE=DURATION:PT1H
X-Robots-Tag:noindex
X-PUBLISHED-TTL:PT1H
BEGIN:VTIMEZONE
TZID:America/Mexico_City
BEGIN:STANDARD
TZOFFSETFROM:-0600
TZOFFSETTO:-0600
TZNAME:CST
DTSTART:20250101T000000
END:STANDARD
END:VTIMEZONE
BEGIN:VEVENT
DTSTART;TZID=America/Mexico_City:20260302T203000
DTEND;TZID=America/Mexico_City:20260302T223000
DTSTAMP:20260423T160654
CREATED:20260203T090947Z
LAST-MODIFIED:20260203T090947Z
UID:38316-1772483400-1772490600@foroshakespeare.com
SUMMARY:Pase de lista
DESCRIPTION:Mentiras\, el tributo				\n				\n				\n				\n									Viernes 8 de mayo\, 20hForo Principal / $450Entrada numeradaCompañía – Pop Corn Bienvenidos. No somos solo una banda; somos el vehículo que transporta al público directamente al corazón de los años 80. Con un profesionalismo impecable y una pasión desbordante\, hemos asumido la emocionante misión de honrar al fenómeno cultural que es «Mentiras». Nuestro tributo es una celebración en vivo\, una explosión de nostalgia que revive la magia\, el drama y la inolvidable banda sonora que marcó a generaciones. Cada acorde y cada voz captura la esencia de artistas excepcionales entregando una experiencia de alta energía donde el público no solo escucha\, sino que vuelve a sentir y cantar esos himnos que se convirtieron en la banda sonora de sus vidas. Prepárense para el viaje.  								\n				\n				\n						\n					\n			\n						\n				\n									Elenco  Grisel Sandoval – Yuri Jessica Leyenda – Daniela de Mijares Luz Moreno – Dulce de Mijares Valeria Ortega – Lupita Romo Omar de la Rosa – Emmanuel Mijares Fernando Morales – Bajista Francky Muñoz – Baterista Jorge Montiel – Guitarrista Antonio Cruz – Tecladista Dirección General – Grisel Sandoval Dirección Musical – Fernando Morales Dramaturgia – Elenco Creativxs – Valeria OrtegaDuración: 90 minutos aprox.Recomendada para adultos [+18].    								\n				\n				\n				\n							\n			\n		\n						\n				\n					\n		\n				\n			\n						\n				\n							\n			\n		\n						\n				\n				\n				\n									\n					\n						\n									Comprar
URL:https://foroshakespeare.com/evento/pase-de-lista-4/
LOCATION:Foro Shakespeare\, Zamora 7\, Colonia Condesa\, Cuauhtémoc\, Ciudad de México.\, México
CATEGORIES:Musical,Tragedia
ATTACH;FMTTYPE=image/png:https://foroshakespeare.com/wp-content/uploads/2026/01/Front-Banner-1.png
END:VEVENT
BEGIN:VEVENT
DTSTART;TZID=America/Mexico_City:20260307T130000
DTEND;TZID=America/Mexico_City:20260307T141000
DTSTAMP:20260423T160654
CREATED:20260226T200951Z
LAST-MODIFIED:20260305T224307Z
UID:38907-1772888400-1772892600@foroshakespeare.com
SUMMARY:Aníbal y Melquiades
DESCRIPTION:Mentiras\, el tributo				\n				\n				\n				\n									Viernes 8 de mayo\, 20hForo Principal / $450Entrada numeradaCompañía – Pop Corn Bienvenidos. No somos solo una banda; somos el vehículo que transporta al público directamente al corazón de los años 80. Con un profesionalismo impecable y una pasión desbordante\, hemos asumido la emocionante misión de honrar al fenómeno cultural que es «Mentiras». Nuestro tributo es una celebración en vivo\, una explosión de nostalgia que revive la magia\, el drama y la inolvidable banda sonora que marcó a generaciones. Cada acorde y cada voz captura la esencia de artistas excepcionales entregando una experiencia de alta energía donde el público no solo escucha\, sino que vuelve a sentir y cantar esos himnos que se convirtieron en la banda sonora de sus vidas. Prepárense para el viaje.  								\n				\n				\n						\n					\n			\n						\n				\n									Elenco  Grisel Sandoval – Yuri Jessica Leyenda – Daniela de Mijares Luz Moreno – Dulce de Mijares Valeria Ortega – Lupita Romo Omar de la Rosa – Emmanuel Mijares Fernando Morales – Bajista Francky Muñoz – Baterista Jorge Montiel – Guitarrista Antonio Cruz – Tecladista Dirección General – Grisel Sandoval Dirección Musical – Fernando Morales Dramaturgia – Elenco Creativxs – Valeria OrtegaDuración: 90 minutos aprox.Recomendada para adultos [+18].    								\n				\n				\n				\n							\n			\n		\n						\n				\n					\n		\n				\n			\n						\n				\n							\n			\n		\n						\n				\n				\n				\n									\n					\n						\n									Comprar
URL:https://foroshakespeare.com/evento/anibal-y-melquiades-2/
LOCATION:Foro Shakespeare\, Zamora 7\, Colonia Condesa\, Cuauhtémoc\, Ciudad de México.\, México
CATEGORIES:Comedia,Evento,Infantil,Musical,Títeres
ATTACH;FMTTYPE=image/png:https://foroshakespeare.com/wp-content/uploads/2026/02/Anibal-y-Melquiades-1440-x-900-1.png
END:VEVENT
BEGIN:VEVENT
DTSTART;TZID=America/Mexico_City:20260309T203000
DTEND;TZID=America/Mexico_City:20260309T223000
DTSTAMP:20260423T160654
CREATED:20260203T091111Z
LAST-MODIFIED:20260309T080937Z
UID:38318-1773088200-1773095400@foroshakespeare.com
SUMMARY:Pase de lista
DESCRIPTION:Mentiras\, el tributo				\n				\n				\n				\n									Viernes 8 de mayo\, 20hForo Principal / $450Entrada numeradaCompañía – Pop Corn Bienvenidos. No somos solo una banda; somos el vehículo que transporta al público directamente al corazón de los años 80. Con un profesionalismo impecable y una pasión desbordante\, hemos asumido la emocionante misión de honrar al fenómeno cultural que es «Mentiras». Nuestro tributo es una celebración en vivo\, una explosión de nostalgia que revive la magia\, el drama y la inolvidable banda sonora que marcó a generaciones. Cada acorde y cada voz captura la esencia de artistas excepcionales entregando una experiencia de alta energía donde el público no solo escucha\, sino que vuelve a sentir y cantar esos himnos que se convirtieron en la banda sonora de sus vidas. Prepárense para el viaje.  								\n				\n				\n						\n					\n			\n						\n				\n									Elenco  Grisel Sandoval – Yuri Jessica Leyenda – Daniela de Mijares Luz Moreno – Dulce de Mijares Valeria Ortega – Lupita Romo Omar de la Rosa – Emmanuel Mijares Fernando Morales – Bajista Francky Muñoz – Baterista Jorge Montiel – Guitarrista Antonio Cruz – Tecladista Dirección General – Grisel Sandoval Dirección Musical – Fernando Morales Dramaturgia – Elenco Creativxs – Valeria OrtegaDuración: 90 minutos aprox.Recomendada para adultos [+18].    								\n				\n				\n				\n							\n			\n		\n						\n				\n					\n		\n				\n			\n						\n				\n							\n			\n		\n						\n				\n				\n				\n									\n					\n						\n									Comprar
URL:https://foroshakespeare.com/evento/pase-de-lista-5/
LOCATION:Foro Shakespeare\, Zamora 7\, Colonia Condesa\, Cuauhtémoc\, Ciudad de México.\, México
CATEGORIES:Evento,Musical,Tragedia
ATTACH;FMTTYPE=image/png:https://foroshakespeare.com/wp-content/uploads/2026/01/Front-Banner-1.png
END:VEVENT
BEGIN:VEVENT
DTSTART;TZID=America/Mexico_City:20260314T130000
DTEND;TZID=America/Mexico_City:20260314T141000
DTSTAMP:20260423T160654
CREATED:20260302T081801Z
LAST-MODIFIED:20260309T081134Z
UID:38908-1773493200-1773497400@foroshakespeare.com
SUMMARY:Aníbal y Melquiades
DESCRIPTION:Mentiras\, el tributo				\n				\n				\n				\n									Viernes 8 de mayo\, 20hForo Principal / $450Entrada numeradaCompañía – Pop Corn Bienvenidos. No somos solo una banda; somos el vehículo que transporta al público directamente al corazón de los años 80. Con un profesionalismo impecable y una pasión desbordante\, hemos asumido la emocionante misión de honrar al fenómeno cultural que es «Mentiras». Nuestro tributo es una celebración en vivo\, una explosión de nostalgia que revive la magia\, el drama y la inolvidable banda sonora que marcó a generaciones. Cada acorde y cada voz captura la esencia de artistas excepcionales entregando una experiencia de alta energía donde el público no solo escucha\, sino que vuelve a sentir y cantar esos himnos que se convirtieron en la banda sonora de sus vidas. Prepárense para el viaje.  								\n				\n				\n						\n					\n			\n						\n				\n									Elenco  Grisel Sandoval – Yuri Jessica Leyenda – Daniela de Mijares Luz Moreno – Dulce de Mijares Valeria Ortega – Lupita Romo Omar de la Rosa – Emmanuel Mijares Fernando Morales – Bajista Francky Muñoz – Baterista Jorge Montiel – Guitarrista Antonio Cruz – Tecladista Dirección General – Grisel Sandoval Dirección Musical – Fernando Morales Dramaturgia – Elenco Creativxs – Valeria OrtegaDuración: 90 minutos aprox.Recomendada para adultos [+18].    								\n				\n				\n				\n							\n			\n		\n						\n				\n					\n		\n				\n			\n						\n				\n							\n			\n		\n						\n				\n				\n				\n									\n					\n						\n									Comprar
URL:https://foroshakespeare.com/evento/anibal-y-melquiades-3/
LOCATION:Foro Shakespeare\, Zamora 7\, Colonia Condesa\, Cuauhtémoc\, Ciudad de México.\, México
CATEGORIES:Comedia,Evento,Infantil,Musical,Títeres
ATTACH;FMTTYPE=image/png:https://foroshakespeare.com/wp-content/uploads/2026/02/Anibal-y-Melquiades-1440-x-900-1.png
END:VEVENT
BEGIN:VEVENT
DTSTART;TZID=America/Mexico_City:20260316T203000
DTEND;TZID=America/Mexico_City:20260316T223000
DTSTAMP:20260423T160654
CREATED:20260203T091238Z
LAST-MODIFIED:20260203T091238Z
UID:38320-1773693000-1773700200@foroshakespeare.com
SUMMARY:Pase de lista
DESCRIPTION:Mentiras\, el tributo				\n				\n				\n				\n									Viernes 8 de mayo\, 20hForo Principal / $450Entrada numeradaCompañía – Pop Corn Bienvenidos. No somos solo una banda; somos el vehículo que transporta al público directamente al corazón de los años 80. Con un profesionalismo impecable y una pasión desbordante\, hemos asumido la emocionante misión de honrar al fenómeno cultural que es «Mentiras». Nuestro tributo es una celebración en vivo\, una explosión de nostalgia que revive la magia\, el drama y la inolvidable banda sonora que marcó a generaciones. Cada acorde y cada voz captura la esencia de artistas excepcionales entregando una experiencia de alta energía donde el público no solo escucha\, sino que vuelve a sentir y cantar esos himnos que se convirtieron en la banda sonora de sus vidas. Prepárense para el viaje.  								\n				\n				\n						\n					\n			\n						\n				\n									Elenco  Grisel Sandoval – Yuri Jessica Leyenda – Daniela de Mijares Luz Moreno – Dulce de Mijares Valeria Ortega – Lupita Romo Omar de la Rosa – Emmanuel Mijares Fernando Morales – Bajista Francky Muñoz – Baterista Jorge Montiel – Guitarrista Antonio Cruz – Tecladista Dirección General – Grisel Sandoval Dirección Musical – Fernando Morales Dramaturgia – Elenco Creativxs – Valeria OrtegaDuración: 90 minutos aprox.Recomendada para adultos [+18].    								\n				\n				\n				\n							\n			\n		\n						\n				\n					\n		\n				\n			\n						\n				\n							\n			\n		\n						\n				\n				\n				\n									\n					\n						\n									Comprar
URL:https://foroshakespeare.com/evento/pase-de-lista-6/
LOCATION:Foro Shakespeare\, Zamora 7\, Colonia Condesa\, Cuauhtémoc\, Ciudad de México.\, México
CATEGORIES:Musical,Tragedia
ATTACH;FMTTYPE=image/png:https://foroshakespeare.com/wp-content/uploads/2026/01/Front-Banner-1.png
END:VEVENT
BEGIN:VEVENT
DTSTART;TZID=America/Mexico_City:20260321T130000
DTEND;TZID=America/Mexico_City:20260321T141000
DTSTAMP:20260423T160654
CREATED:20260302T081921Z
LAST-MODIFIED:20260302T081921Z
UID:38909-1774098000-1774102200@foroshakespeare.com
SUMMARY:Aníbal y Melquiades
DESCRIPTION:Mentiras\, el tributo				\n				\n				\n				\n									Viernes 8 de mayo\, 20hForo Principal / $450Entrada numeradaCompañía – Pop Corn Bienvenidos. No somos solo una banda; somos el vehículo que transporta al público directamente al corazón de los años 80. Con un profesionalismo impecable y una pasión desbordante\, hemos asumido la emocionante misión de honrar al fenómeno cultural que es «Mentiras». Nuestro tributo es una celebración en vivo\, una explosión de nostalgia que revive la magia\, el drama y la inolvidable banda sonora que marcó a generaciones. Cada acorde y cada voz captura la esencia de artistas excepcionales entregando una experiencia de alta energía donde el público no solo escucha\, sino que vuelve a sentir y cantar esos himnos que se convirtieron en la banda sonora de sus vidas. Prepárense para el viaje.  								\n				\n				\n						\n					\n			\n						\n				\n									Elenco  Grisel Sandoval – Yuri Jessica Leyenda – Daniela de Mijares Luz Moreno – Dulce de Mijares Valeria Ortega – Lupita Romo Omar de la Rosa – Emmanuel Mijares Fernando Morales – Bajista Francky Muñoz – Baterista Jorge Montiel – Guitarrista Antonio Cruz – Tecladista Dirección General – Grisel Sandoval Dirección Musical – Fernando Morales Dramaturgia – Elenco Creativxs – Valeria OrtegaDuración: 90 minutos aprox.Recomendada para adultos [+18].    								\n				\n				\n				\n							\n			\n		\n						\n				\n					\n		\n				\n			\n						\n				\n							\n			\n		\n						\n				\n				\n				\n									\n					\n						\n									Comprar
URL:https://foroshakespeare.com/evento/anibal-y-melquiades-4/
LOCATION:Foro Shakespeare\, Zamora 7\, Colonia Condesa\, Cuauhtémoc\, Ciudad de México.\, México
CATEGORIES:Comedia,Infantil,Musical,Títeres
ATTACH;FMTTYPE=image/png:https://foroshakespeare.com/wp-content/uploads/2026/02/Anibal-y-Melquiades-1440-x-900-1.png
END:VEVENT
BEGIN:VEVENT
DTSTART;TZID=America/Mexico_City:20260323T203000
DTEND;TZID=America/Mexico_City:20260323T223000
DTSTAMP:20260423T160654
CREATED:20260203T091339Z
LAST-MODIFIED:20260320T001534Z
UID:38322-1774297800-1774305000@foroshakespeare.com
SUMMARY:Pase de lista
DESCRIPTION:Mentiras\, el tributo				\n				\n				\n				\n									Viernes 8 de mayo\, 20hForo Principal / $450Entrada numeradaCompañía – Pop Corn Bienvenidos. No somos solo una banda; somos el vehículo que transporta al público directamente al corazón de los años 80. Con un profesionalismo impecable y una pasión desbordante\, hemos asumido la emocionante misión de honrar al fenómeno cultural que es «Mentiras». Nuestro tributo es una celebración en vivo\, una explosión de nostalgia que revive la magia\, el drama y la inolvidable banda sonora que marcó a generaciones. Cada acorde y cada voz captura la esencia de artistas excepcionales entregando una experiencia de alta energía donde el público no solo escucha\, sino que vuelve a sentir y cantar esos himnos que se convirtieron en la banda sonora de sus vidas. Prepárense para el viaje.  								\n				\n				\n						\n					\n			\n						\n				\n									Elenco  Grisel Sandoval – Yuri Jessica Leyenda – Daniela de Mijares Luz Moreno – Dulce de Mijares Valeria Ortega – Lupita Romo Omar de la Rosa – Emmanuel Mijares Fernando Morales – Bajista Francky Muñoz – Baterista Jorge Montiel – Guitarrista Antonio Cruz – Tecladista Dirección General – Grisel Sandoval Dirección Musical – Fernando Morales Dramaturgia – Elenco Creativxs – Valeria OrtegaDuración: 90 minutos aprox.Recomendada para adultos [+18].    								\n				\n				\n				\n							\n			\n		\n						\n				\n					\n		\n				\n			\n						\n				\n							\n			\n		\n						\n				\n				\n				\n									\n					\n						\n									Comprar
URL:https://foroshakespeare.com/evento/pase-de-lista-7/
LOCATION:Foro Shakespeare\, Zamora 7\, Colonia Condesa\, Cuauhtémoc\, Ciudad de México.\, México
CATEGORIES:Musical,Tragedia
ATTACH;FMTTYPE=image/png:https://foroshakespeare.com/wp-content/uploads/2026/01/Front-Banner-1.png
END:VEVENT
BEGIN:VEVENT
DTSTART;TZID=America/Mexico_City:20260327T203000
DTEND;TZID=America/Mexico_City:20260327T220000
DTSTAMP:20260423T160654
CREATED:20260311T025350Z
LAST-MODIFIED:20260311T035155Z
UID:39265-1774643400-1774648800@foroshakespeare.com
SUMMARY:Lucrecia 10 años
DESCRIPTION:Mentiras\, el tributo				\n				\n				\n				\n									Viernes 8 de mayo\, 20hForo Principal / $450Entrada numeradaCompañía – Pop Corn Bienvenidos. No somos solo una banda; somos el vehículo que transporta al público directamente al corazón de los años 80. Con un profesionalismo impecable y una pasión desbordante\, hemos asumido la emocionante misión de honrar al fenómeno cultural que es «Mentiras». Nuestro tributo es una celebración en vivo\, una explosión de nostalgia que revive la magia\, el drama y la inolvidable banda sonora que marcó a generaciones. Cada acorde y cada voz captura la esencia de artistas excepcionales entregando una experiencia de alta energía donde el público no solo escucha\, sino que vuelve a sentir y cantar esos himnos que se convirtieron en la banda sonora de sus vidas. Prepárense para el viaje.  								\n				\n				\n						\n					\n			\n						\n				\n									Elenco  Grisel Sandoval – Yuri Jessica Leyenda – Daniela de Mijares Luz Moreno – Dulce de Mijares Valeria Ortega – Lupita Romo Omar de la Rosa – Emmanuel Mijares Fernando Morales – Bajista Francky Muñoz – Baterista Jorge Montiel – Guitarrista Antonio Cruz – Tecladista Dirección General – Grisel Sandoval Dirección Musical – Fernando Morales Dramaturgia – Elenco Creativxs – Valeria OrtegaDuración: 90 minutos aprox.Recomendada para adultos [+18].    								\n				\n				\n				\n							\n			\n		\n						\n				\n					\n		\n				\n			\n						\n				\n							\n			\n		\n						\n				\n				\n				\n									\n					\n						\n									Comprar
URL:https://foroshakespeare.com/evento/lucrecia-10-anos/
LOCATION:Foro Shakespeare\, Zamora 7\, Colonia Condesa\, Cuauhtémoc\, Ciudad de México.\, México
CATEGORIES:Comedia,Evento,Musical
ATTACH;FMTTYPE=image/jpeg:https://foroshakespeare.com/wp-content/uploads/2026/03/1440-x-900-LUCRECIA-10-1.jpg
END:VEVENT
BEGIN:VEVENT
DTSTART;TZID=America/Mexico_City:20260328T130000
DTEND;TZID=America/Mexico_City:20260328T141000
DTSTAMP:20260423T160654
CREATED:20260302T081947Z
LAST-MODIFIED:20260327T195508Z
UID:38910-1774702800-1774707000@foroshakespeare.com
SUMMARY:Aníbal y Melquiades
DESCRIPTION:Mentiras\, el tributo				\n				\n				\n				\n									Viernes 8 de mayo\, 20hForo Principal / $450Entrada numeradaCompañía – Pop Corn Bienvenidos. No somos solo una banda; somos el vehículo que transporta al público directamente al corazón de los años 80. Con un profesionalismo impecable y una pasión desbordante\, hemos asumido la emocionante misión de honrar al fenómeno cultural que es «Mentiras». Nuestro tributo es una celebración en vivo\, una explosión de nostalgia que revive la magia\, el drama y la inolvidable banda sonora que marcó a generaciones. Cada acorde y cada voz captura la esencia de artistas excepcionales entregando una experiencia de alta energía donde el público no solo escucha\, sino que vuelve a sentir y cantar esos himnos que se convirtieron en la banda sonora de sus vidas. Prepárense para el viaje.  								\n				\n				\n						\n					\n			\n						\n				\n									Elenco  Grisel Sandoval – Yuri Jessica Leyenda – Daniela de Mijares Luz Moreno – Dulce de Mijares Valeria Ortega – Lupita Romo Omar de la Rosa – Emmanuel Mijares Fernando Morales – Bajista Francky Muñoz – Baterista Jorge Montiel – Guitarrista Antonio Cruz – Tecladista Dirección General – Grisel Sandoval Dirección Musical – Fernando Morales Dramaturgia – Elenco Creativxs – Valeria OrtegaDuración: 90 minutos aprox.Recomendada para adultos [+18].    								\n				\n				\n				\n							\n			\n		\n						\n				\n					\n		\n				\n			\n						\n				\n							\n			\n		\n						\n				\n				\n				\n									\n					\n						\n									Comprar
URL:https://foroshakespeare.com/evento/anibal-y-melquiades-5/
LOCATION:Foro Shakespeare\, Zamora 7\, Colonia Condesa\, Cuauhtémoc\, Ciudad de México.\, México
CATEGORIES:Comedia,Evento,Infantil,Musical,Títeres
ATTACH;FMTTYPE=image/png:https://foroshakespeare.com/wp-content/uploads/2026/02/Anibal-y-Melquiades-1440-x-900-1.png
END:VEVENT
BEGIN:VEVENT
DTSTART;TZID=America/Mexico_City:20260330T203000
DTEND;TZID=America/Mexico_City:20260330T223000
DTSTAMP:20260423T160654
CREATED:20260203T091434Z
LAST-MODIFIED:20260331T060340Z
UID:38324-1774902600-1774909800@foroshakespeare.com
SUMMARY:Pase de lista
DESCRIPTION:Mentiras\, el tributo				\n				\n				\n				\n									Viernes 8 de mayo\, 20hForo Principal / $450Entrada numeradaCompañía – Pop Corn Bienvenidos. No somos solo una banda; somos el vehículo que transporta al público directamente al corazón de los años 80. Con un profesionalismo impecable y una pasión desbordante\, hemos asumido la emocionante misión de honrar al fenómeno cultural que es «Mentiras». Nuestro tributo es una celebración en vivo\, una explosión de nostalgia que revive la magia\, el drama y la inolvidable banda sonora que marcó a generaciones. Cada acorde y cada voz captura la esencia de artistas excepcionales entregando una experiencia de alta energía donde el público no solo escucha\, sino que vuelve a sentir y cantar esos himnos que se convirtieron en la banda sonora de sus vidas. Prepárense para el viaje.  								\n				\n				\n						\n					\n			\n						\n				\n									Elenco  Grisel Sandoval – Yuri Jessica Leyenda – Daniela de Mijares Luz Moreno – Dulce de Mijares Valeria Ortega – Lupita Romo Omar de la Rosa – Emmanuel Mijares Fernando Morales – Bajista Francky Muñoz – Baterista Jorge Montiel – Guitarrista Antonio Cruz – Tecladista Dirección General – Grisel Sandoval Dirección Musical – Fernando Morales Dramaturgia – Elenco Creativxs – Valeria OrtegaDuración: 90 minutos aprox.Recomendada para adultos [+18].    								\n				\n				\n				\n							\n			\n		\n						\n				\n					\n		\n				\n			\n						\n				\n							\n			\n		\n						\n				\n				\n				\n									\n					\n						\n									Comprar
URL:https://foroshakespeare.com/evento/pase-de-lista-8/
LOCATION:Foro Shakespeare\, Zamora 7\, Colonia Condesa\, Cuauhtémoc\, Ciudad de México.\, México
CATEGORIES:Evento,Musical,Tragedia
ATTACH;FMTTYPE=image/png:https://foroshakespeare.com/wp-content/uploads/2026/01/Front-Banner-1.png
END:VEVENT
END:VCALENDAR