BEGIN:VCALENDAR
VERSION:2.0
PRODID:-//Foro Shakespeare - ECPv6.15.16.1//NONSGML v1.0//EN
CALSCALE:GREGORIAN
METHOD:PUBLISH
X-WR-CALNAME:Foro Shakespeare
X-ORIGINAL-URL:https://foroshakespeare.com
X-WR-CALDESC:Eventos para Foro Shakespeare
REFRESH-INTERVAL;VALUE=DURATION:PT1H
X-Robots-Tag:noindex
X-PUBLISHED-TTL:PT1H
BEGIN:VTIMEZONE
TZID:America/Mexico_City
BEGIN:STANDARD
TZOFFSETFROM:-0600
TZOFFSETTO:-0600
TZNAME:CST
DTSTART:20250101T000000
END:STANDARD
END:VTIMEZONE
BEGIN:VEVENT
DTSTART;TZID=America/Mexico_City:20260306T200000
DTEND;TZID=America/Mexico_City:20260306T220000
DTSTAMP:20260424T180828
CREATED:20260301T074805Z
LAST-MODIFIED:20260311T011551Z
UID:38952-1772827200-1772834400@foroshakespeare.com
SUMMARY:Suspira
DESCRIPTION:La generación de inservibles 				\n				\n				\n				\n									Del 4 de mayo al 29 de junio lunes 20h Foro Principal / $175 Entrada general Compañía – Náufrago teatro Un sismo detiene el metro de la Ciudad de México. Un grupo de jóvenes queda atrapado bajo tierra. Afuera\, el país sigue temblando. En la oscuridad no solo falta el aire: sobran las voces. Flojos. Frágiles. Exagerados. “Inservibles”. Los discursos que los han perseguido toda la vida se vuelven eco\, choque\, incendio. La confrontación generacional estalla y los prejuicios ya no pueden esconderse detrás de la cortesía. Con humor negro y una crudeza sin concesiones\, La generación de inservibles convierte el encierro en detonador. Si el sistema ya está roto\, ¿Quién sostiene la mentira de lo útil y lo desechable? Y cuando nadie baja a salvarte\, cuando el rescate no llega ¿Sigues esperando bajo los escombros o decides convertirte en algo que el derrumbe no pudo destruir?   								\n				\n				\n						\n					\n			\n						\n				\n									Elenco – Montserrath Escalante\, Lorena Sosa\, Mariano Azcárraga\, Raúl Vivanco\, Alicia Villalobos\, Gabriela Mercado\, Andrea Hernández\, Juan Manuel Reyes\, Carlos Alexis\, Juan David Castaño Dirección y dramaturgia – Abril Mayett Creativxs – Rosa Villanueva\, Abraham Navarrete Duración: 90 minutos aprox. Recomendada para jóvenes [+16] y adultos [No se admite la entrada con alimentos\, únicamente bebidas que estén dentro de nuestro menú de intercambio]   								\n				\n				\n				\n							\n			\n		\n						\n				\n					\n		\n				\n			\n						\n				\n							\n			\n		\n						\n				\n				\n				\n									\n					\n						\n									Comprar
URL:https://foroshakespeare.com/evento/suspira/
LOCATION:Foro Shakespeare\, Zamora 7\, Colonia Condesa\, Cuauhtémoc\, Ciudad de México.\, México
CATEGORIES:Drama,Evento,Interdisciplina,Títeres,Tragicomedia
ATTACH;FMTTYPE=image/jpeg:https://foroshakespeare.com/wp-content/uploads/2026/03/evento-SUSPIRA-front-banner.jpg
END:VEVENT
BEGIN:VEVENT
DTSTART;TZID=America/Mexico_City:20260306T203000
DTEND;TZID=America/Mexico_City:20260306T220000
DTSTAMP:20260424T180828
CREATED:20260203T101846Z
LAST-MODIFIED:20260305T224138Z
UID:38399-1772829000-1772834400@foroshakespeare.com
SUMMARY:Los caballeros del stand up
DESCRIPTION:La generación de inservibles 				\n				\n				\n				\n									Del 4 de mayo al 29 de junio lunes 20h Foro Principal / $175 Entrada general Compañía – Náufrago teatro Un sismo detiene el metro de la Ciudad de México. Un grupo de jóvenes queda atrapado bajo tierra. Afuera\, el país sigue temblando. En la oscuridad no solo falta el aire: sobran las voces. Flojos. Frágiles. Exagerados. “Inservibles”. Los discursos que los han perseguido toda la vida se vuelven eco\, choque\, incendio. La confrontación generacional estalla y los prejuicios ya no pueden esconderse detrás de la cortesía. Con humor negro y una crudeza sin concesiones\, La generación de inservibles convierte el encierro en detonador. Si el sistema ya está roto\, ¿Quién sostiene la mentira de lo útil y lo desechable? Y cuando nadie baja a salvarte\, cuando el rescate no llega ¿Sigues esperando bajo los escombros o decides convertirte en algo que el derrumbe no pudo destruir?   								\n				\n				\n						\n					\n			\n						\n				\n									Elenco – Montserrath Escalante\, Lorena Sosa\, Mariano Azcárraga\, Raúl Vivanco\, Alicia Villalobos\, Gabriela Mercado\, Andrea Hernández\, Juan Manuel Reyes\, Carlos Alexis\, Juan David Castaño Dirección y dramaturgia – Abril Mayett Creativxs – Rosa Villanueva\, Abraham Navarrete Duración: 90 minutos aprox. Recomendada para jóvenes [+16] y adultos [No se admite la entrada con alimentos\, únicamente bebidas que estén dentro de nuestro menú de intercambio]   								\n				\n				\n				\n							\n			\n		\n						\n				\n					\n		\n				\n			\n						\n				\n							\n			\n		\n						\n				\n				\n				\n									\n					\n						\n									Comprar
URL:https://foroshakespeare.com/evento/los-caballeros-del-stand-up-5/
LOCATION:Foro Shakespeare\, Zamora 7\, Colonia Condesa\, Cuauhtémoc\, Ciudad de México.\, México
CATEGORIES:Comedia,Evento,Stand up
ATTACH;FMTTYPE=image/png:https://foroshakespeare.com/wp-content/uploads/2026/02/Front-Banner-1.png
END:VEVENT
BEGIN:VEVENT
DTSTART;TZID=America/Mexico_City:20260306T223000
DTEND;TZID=America/Mexico_City:20260306T235900
DTSTAMP:20260424T180828
CREATED:20260228T043335Z
LAST-MODIFIED:20260228T045726Z
UID:38935-1772836200-1772841540@foroshakespeare.com
SUMMARY:Perras de reserva
DESCRIPTION:La generación de inservibles 				\n				\n				\n				\n									Del 4 de mayo al 29 de junio lunes 20h Foro Principal / $175 Entrada general Compañía – Náufrago teatro Un sismo detiene el metro de la Ciudad de México. Un grupo de jóvenes queda atrapado bajo tierra. Afuera\, el país sigue temblando. En la oscuridad no solo falta el aire: sobran las voces. Flojos. Frágiles. Exagerados. “Inservibles”. Los discursos que los han perseguido toda la vida se vuelven eco\, choque\, incendio. La confrontación generacional estalla y los prejuicios ya no pueden esconderse detrás de la cortesía. Con humor negro y una crudeza sin concesiones\, La generación de inservibles convierte el encierro en detonador. Si el sistema ya está roto\, ¿Quién sostiene la mentira de lo útil y lo desechable? Y cuando nadie baja a salvarte\, cuando el rescate no llega ¿Sigues esperando bajo los escombros o decides convertirte en algo que el derrumbe no pudo destruir?   								\n				\n				\n						\n					\n			\n						\n				\n									Elenco – Montserrath Escalante\, Lorena Sosa\, Mariano Azcárraga\, Raúl Vivanco\, Alicia Villalobos\, Gabriela Mercado\, Andrea Hernández\, Juan Manuel Reyes\, Carlos Alexis\, Juan David Castaño Dirección y dramaturgia – Abril Mayett Creativxs – Rosa Villanueva\, Abraham Navarrete Duración: 90 minutos aprox. Recomendada para jóvenes [+16] y adultos [No se admite la entrada con alimentos\, únicamente bebidas que estén dentro de nuestro menú de intercambio]   								\n				\n				\n				\n							\n			\n		\n						\n				\n					\n		\n				\n			\n						\n				\n							\n			\n		\n						\n				\n				\n				\n									\n					\n						\n									Comprar
URL:https://foroshakespeare.com/evento/perras-de-reserva/
LOCATION:Foro Shakespeare\, Zamora 7\, Colonia Condesa\, Cuauhtémoc\, Ciudad de México.\, México
CATEGORIES:Evento,Stand up
ATTACH;FMTTYPE=image/jpeg:https://foroshakespeare.com/wp-content/uploads/2026/02/PERRASDERESERVA_FRONTBANNER-1.jpg
END:VEVENT
END:VCALENDAR