BEGIN:VCALENDAR
VERSION:2.0
PRODID:-//Foro Shakespeare - ECPv6.15.16.1//NONSGML v1.0//EN
CALSCALE:GREGORIAN
METHOD:PUBLISH
X-ORIGINAL-URL:https://foroshakespeare.com
X-WR-CALDESC:Eventos para Foro Shakespeare
REFRESH-INTERVAL;VALUE=DURATION:PT1H
X-Robots-Tag:noindex
X-PUBLISHED-TTL:PT1H
BEGIN:VTIMEZONE
TZID:America/Mexico_City
BEGIN:STANDARD
TZOFFSETFROM:-0600
TZOFFSETTO:-0600
TZNAME:CST
DTSTART:20250101T000000
END:STANDARD
END:VTIMEZONE
BEGIN:VEVENT
DTSTART;TZID=America/Mexico_City:20260328T130000
DTEND;TZID=America/Mexico_City:20260328T141000
DTSTAMP:20260424T181023
CREATED:20260302T081947Z
LAST-MODIFIED:20260327T195508Z
UID:38910-1774702800-1774707000@foroshakespeare.com
SUMMARY:Aníbal y Melquiades
DESCRIPTION:La generación de inservibles 				\n				\n				\n				\n									Del 4 de mayo al 29 de junio lunes 20h Foro Principal / $175 Entrada general Compañía – Náufrago teatro Un sismo detiene el metro de la Ciudad de México. Un grupo de jóvenes queda atrapado bajo tierra. Afuera\, el país sigue temblando. En la oscuridad no solo falta el aire: sobran las voces. Flojos. Frágiles. Exagerados. “Inservibles”. Los discursos que los han perseguido toda la vida se vuelven eco\, choque\, incendio. La confrontación generacional estalla y los prejuicios ya no pueden esconderse detrás de la cortesía. Con humor negro y una crudeza sin concesiones\, La generación de inservibles convierte el encierro en detonador. Si el sistema ya está roto\, ¿Quién sostiene la mentira de lo útil y lo desechable? Y cuando nadie baja a salvarte\, cuando el rescate no llega ¿Sigues esperando bajo los escombros o decides convertirte en algo que el derrumbe no pudo destruir?   								\n				\n				\n						\n					\n			\n						\n				\n									Elenco – Montserrath Escalante\, Lorena Sosa\, Mariano Azcárraga\, Raúl Vivanco\, Alicia Villalobos\, Gabriela Mercado\, Andrea Hernández\, Juan Manuel Reyes\, Carlos Alexis\, Juan David Castaño Dirección y dramaturgia – Abril Mayett Creativxs – Rosa Villanueva\, Abraham Navarrete Duración: 90 minutos aprox. Recomendada para jóvenes [+16] y adultos [No se admite la entrada con alimentos\, únicamente bebidas que estén dentro de nuestro menú de intercambio]   								\n				\n				\n				\n							\n			\n		\n						\n				\n					\n		\n				\n			\n						\n				\n							\n			\n		\n						\n				\n				\n				\n									\n					\n						\n									Comprar
URL:https://foroshakespeare.com/evento/anibal-y-melquiades-5/
LOCATION:Foro Shakespeare\, Zamora 7\, Colonia Condesa\, Cuauhtémoc\, Ciudad de México.\, México
CATEGORIES:Comedia,Evento,Infantil,Musical,Títeres
ATTACH;FMTTYPE=image/png:https://foroshakespeare.com/wp-content/uploads/2026/02/Anibal-y-Melquiades-1440-x-900-1.png
END:VEVENT
BEGIN:VEVENT
DTSTART;TZID=America/Mexico_City:20260328T170000
DTEND;TZID=America/Mexico_City:20260328T182500
DTSTAMP:20260424T181023
CREATED:20260205T221217Z
LAST-MODIFIED:20260327T195516Z
UID:38515-1774717200-1774722300@foroshakespeare.com
SUMMARY:Club de los diagnosticados
DESCRIPTION:La generación de inservibles 				\n				\n				\n				\n									Del 4 de mayo al 29 de junio lunes 20h Foro Principal / $175 Entrada general Compañía – Náufrago teatro Un sismo detiene el metro de la Ciudad de México. Un grupo de jóvenes queda atrapado bajo tierra. Afuera\, el país sigue temblando. En la oscuridad no solo falta el aire: sobran las voces. Flojos. Frágiles. Exagerados. “Inservibles”. Los discursos que los han perseguido toda la vida se vuelven eco\, choque\, incendio. La confrontación generacional estalla y los prejuicios ya no pueden esconderse detrás de la cortesía. Con humor negro y una crudeza sin concesiones\, La generación de inservibles convierte el encierro en detonador. Si el sistema ya está roto\, ¿Quién sostiene la mentira de lo útil y lo desechable? Y cuando nadie baja a salvarte\, cuando el rescate no llega ¿Sigues esperando bajo los escombros o decides convertirte en algo que el derrumbe no pudo destruir?   								\n				\n				\n						\n					\n			\n						\n				\n									Elenco – Montserrath Escalante\, Lorena Sosa\, Mariano Azcárraga\, Raúl Vivanco\, Alicia Villalobos\, Gabriela Mercado\, Andrea Hernández\, Juan Manuel Reyes\, Carlos Alexis\, Juan David Castaño Dirección y dramaturgia – Abril Mayett Creativxs – Rosa Villanueva\, Abraham Navarrete Duración: 90 minutos aprox. Recomendada para jóvenes [+16] y adultos [No se admite la entrada con alimentos\, únicamente bebidas que estén dentro de nuestro menú de intercambio]   								\n				\n				\n				\n							\n			\n		\n						\n				\n					\n		\n				\n			\n						\n				\n							\n			\n		\n						\n				\n				\n				\n									\n					\n						\n									Comprar
URL:https://foroshakespeare.com/evento/club-de-los-diagnosticados-6/
LOCATION:Foro Shakespeare\, Zamora 7\, Colonia Condesa\, Cuauhtémoc\, Ciudad de México.\, México
CATEGORIES:Drama,Evento,Tragicomedia
ATTACH;FMTTYPE=image/jpeg:https://foroshakespeare.com/wp-content/uploads/2026/01/ElClubdeLosDiagnosticados_front-banner_1440x900px-1.jpg
END:VEVENT
BEGIN:VEVENT
DTSTART;TZID=America/Mexico_City:20260328T200000
DTEND;TZID=America/Mexico_City:20260328T213000
DTSTAMP:20260424T181023
CREATED:20260203T103636Z
LAST-MODIFIED:20260327T195530Z
UID:38421-1774728000-1774733400@foroshakespeare.com
SUMMARY:Risas a granel
DESCRIPTION:La generación de inservibles 				\n				\n				\n				\n									Del 4 de mayo al 29 de junio lunes 20h Foro Principal / $175 Entrada general Compañía – Náufrago teatro Un sismo detiene el metro de la Ciudad de México. Un grupo de jóvenes queda atrapado bajo tierra. Afuera\, el país sigue temblando. En la oscuridad no solo falta el aire: sobran las voces. Flojos. Frágiles. Exagerados. “Inservibles”. Los discursos que los han perseguido toda la vida se vuelven eco\, choque\, incendio. La confrontación generacional estalla y los prejuicios ya no pueden esconderse detrás de la cortesía. Con humor negro y una crudeza sin concesiones\, La generación de inservibles convierte el encierro en detonador. Si el sistema ya está roto\, ¿Quién sostiene la mentira de lo útil y lo desechable? Y cuando nadie baja a salvarte\, cuando el rescate no llega ¿Sigues esperando bajo los escombros o decides convertirte en algo que el derrumbe no pudo destruir?   								\n				\n				\n						\n					\n			\n						\n				\n									Elenco – Montserrath Escalante\, Lorena Sosa\, Mariano Azcárraga\, Raúl Vivanco\, Alicia Villalobos\, Gabriela Mercado\, Andrea Hernández\, Juan Manuel Reyes\, Carlos Alexis\, Juan David Castaño Dirección y dramaturgia – Abril Mayett Creativxs – Rosa Villanueva\, Abraham Navarrete Duración: 90 minutos aprox. Recomendada para jóvenes [+16] y adultos [No se admite la entrada con alimentos\, únicamente bebidas que estén dentro de nuestro menú de intercambio]   								\n				\n				\n				\n							\n			\n		\n						\n				\n					\n		\n				\n			\n						\n				\n							\n			\n		\n						\n				\n				\n				\n									\n					\n						\n									Comprar
URL:https://foroshakespeare.com/evento/risas-a-granel-8/
LOCATION:Foro Shakespeare\, Zamora 7\, Colonia Condesa\, Cuauhtémoc\, Ciudad de México.\, México
CATEGORIES:Comedia,Evento,Monólogo,Stand up
ATTACH;FMTTYPE=image/jpeg:https://foroshakespeare.com/wp-content/uploads/2022/10/evento-risas-a-granel-2022-front-banner.jpg
END:VEVENT
BEGIN:VEVENT
DTSTART;TZID=America/Mexico_City:20260328T203000
DTEND;TZID=America/Mexico_City:20260328T220000
DTSTAMP:20260424T181023
CREATED:20260114T233845Z
LAST-MODIFIED:20260327T195535Z
UID:38027-1774729800-1774735200@foroshakespeare.com
SUMMARY:Julieta minutos antes de Romeo
DESCRIPTION:La generación de inservibles 				\n				\n				\n				\n									Del 4 de mayo al 29 de junio lunes 20h Foro Principal / $175 Entrada general Compañía – Náufrago teatro Un sismo detiene el metro de la Ciudad de México. Un grupo de jóvenes queda atrapado bajo tierra. Afuera\, el país sigue temblando. En la oscuridad no solo falta el aire: sobran las voces. Flojos. Frágiles. Exagerados. “Inservibles”. Los discursos que los han perseguido toda la vida se vuelven eco\, choque\, incendio. La confrontación generacional estalla y los prejuicios ya no pueden esconderse detrás de la cortesía. Con humor negro y una crudeza sin concesiones\, La generación de inservibles convierte el encierro en detonador. Si el sistema ya está roto\, ¿Quién sostiene la mentira de lo útil y lo desechable? Y cuando nadie baja a salvarte\, cuando el rescate no llega ¿Sigues esperando bajo los escombros o decides convertirte en algo que el derrumbe no pudo destruir?   								\n				\n				\n						\n					\n			\n						\n				\n									Elenco – Montserrath Escalante\, Lorena Sosa\, Mariano Azcárraga\, Raúl Vivanco\, Alicia Villalobos\, Gabriela Mercado\, Andrea Hernández\, Juan Manuel Reyes\, Carlos Alexis\, Juan David Castaño Dirección y dramaturgia – Abril Mayett Creativxs – Rosa Villanueva\, Abraham Navarrete Duración: 90 minutos aprox. Recomendada para jóvenes [+16] y adultos [No se admite la entrada con alimentos\, únicamente bebidas que estén dentro de nuestro menú de intercambio]   								\n				\n				\n				\n							\n			\n		\n						\n				\n					\n		\n				\n			\n						\n				\n							\n			\n		\n						\n				\n				\n				\n									\n					\n						\n									Comprar
URL:https://foroshakespeare.com/evento/julieta-minutos-antes-de-romeo-11/
LOCATION:Foro Shakespeare\, Zamora 7\, Colonia Condesa\, Cuauhtémoc\, Ciudad de México.\, México
CATEGORIES:Comedia,Drama,Evento,Interdisciplina,Monólogo,Tragedia
ATTACH;FMTTYPE=image/png:https://foroshakespeare.com/wp-content/uploads/2025/12/Julietas-front-banner-1.png
END:VEVENT
BEGIN:VEVENT
DTSTART;TZID=America/Mexico_City:20260328T223000
DTEND;TZID=America/Mexico_City:20260328T235900
DTSTAMP:20260424T181023
CREATED:20260302T085341Z
LAST-MODIFIED:20260327T195619Z
UID:39012-1774737000-1774742340@foroshakespeare.com
SUMMARY:Random stand up comedy
DESCRIPTION:La generación de inservibles 				\n				\n				\n				\n									Del 4 de mayo al 29 de junio lunes 20h Foro Principal / $175 Entrada general Compañía – Náufrago teatro Un sismo detiene el metro de la Ciudad de México. Un grupo de jóvenes queda atrapado bajo tierra. Afuera\, el país sigue temblando. En la oscuridad no solo falta el aire: sobran las voces. Flojos. Frágiles. Exagerados. “Inservibles”. Los discursos que los han perseguido toda la vida se vuelven eco\, choque\, incendio. La confrontación generacional estalla y los prejuicios ya no pueden esconderse detrás de la cortesía. Con humor negro y una crudeza sin concesiones\, La generación de inservibles convierte el encierro en detonador. Si el sistema ya está roto\, ¿Quién sostiene la mentira de lo útil y lo desechable? Y cuando nadie baja a salvarte\, cuando el rescate no llega ¿Sigues esperando bajo los escombros o decides convertirte en algo que el derrumbe no pudo destruir?   								\n				\n				\n						\n					\n			\n						\n				\n									Elenco – Montserrath Escalante\, Lorena Sosa\, Mariano Azcárraga\, Raúl Vivanco\, Alicia Villalobos\, Gabriela Mercado\, Andrea Hernández\, Juan Manuel Reyes\, Carlos Alexis\, Juan David Castaño Dirección y dramaturgia – Abril Mayett Creativxs – Rosa Villanueva\, Abraham Navarrete Duración: 90 minutos aprox. Recomendada para jóvenes [+16] y adultos [No se admite la entrada con alimentos\, únicamente bebidas que estén dentro de nuestro menú de intercambio]   								\n				\n				\n				\n							\n			\n		\n						\n				\n					\n		\n				\n			\n						\n				\n							\n			\n		\n						\n				\n				\n				\n									\n					\n						\n									Comprar
URL:https://foroshakespeare.com/evento/random-stand-up-comedy-7/
LOCATION:Foro Shakespeare\, Zamora 7\, Colonia Condesa\, Cuauhtémoc\, Ciudad de México.\, México
CATEGORIES:Comedia,Evento,Monólogo,Stand up,Unipersonal
ATTACH;FMTTYPE=image/jpeg:https://foroshakespeare.com/wp-content/uploads/2026/02/Random-front-banner.jpg
END:VEVENT
END:VCALENDAR