BEGIN:VCALENDAR
VERSION:2.0
PRODID:-//Foro Shakespeare - ECPv6.15.16.1//NONSGML v1.0//EN
CALSCALE:GREGORIAN
METHOD:PUBLISH
X-ORIGINAL-URL:https://foroshakespeare.com
X-WR-CALDESC:Eventos para Foro Shakespeare
REFRESH-INTERVAL;VALUE=DURATION:PT1H
X-Robots-Tag:noindex
X-PUBLISHED-TTL:PT1H
BEGIN:VTIMEZONE
TZID:America/Mexico_City
BEGIN:STANDARD
TZOFFSETFROM:-0600
TZOFFSETTO:-0600
TZNAME:CST
DTSTART:20250101T000000
END:STANDARD
END:VTIMEZONE
BEGIN:VEVENT
DTSTART;TZID=America/Mexico_City:20260405T130000
DTEND;TZID=America/Mexico_City:20260405T140000
DTSTAMP:20260424T161621
CREATED:20260316T152805Z
LAST-MODIFIED:20260402T181052Z
UID:39295-1775394000-1775397600@foroshakespeare.com
SUMMARY:Veta y el misterio de la carta
DESCRIPTION:La generación de inservibles 				\n				\n				\n				\n									Del 4 de mayo al 29 de junio lunes 20h Foro Principal / $175 Entrada general Compañía – Náufrago teatro Un sismo detiene el metro de la Ciudad de México. Un grupo de jóvenes queda atrapado bajo tierra. Afuera\, el país sigue temblando. En la oscuridad no solo falta el aire: sobran las voces. Flojos. Frágiles. Exagerados. “Inservibles”. Los discursos que los han perseguido toda la vida se vuelven eco\, choque\, incendio. La confrontación generacional estalla y los prejuicios ya no pueden esconderse detrás de la cortesía. Con humor negro y una crudeza sin concesiones\, La generación de inservibles convierte el encierro en detonador. Si el sistema ya está roto\, ¿Quién sostiene la mentira de lo útil y lo desechable? Y cuando nadie baja a salvarte\, cuando el rescate no llega ¿Sigues esperando bajo los escombros o decides convertirte en algo que el derrumbe no pudo destruir?   								\n				\n				\n						\n					\n			\n						\n				\n									Elenco – Montserrath Escalante\, Lorena Sosa\, Mariano Azcárraga\, Raúl Vivanco\, Alicia Villalobos\, Gabriela Mercado\, Andrea Hernández\, Juan Manuel Reyes\, Carlos Alexis\, Juan David Castaño Dirección y dramaturgia – Abril Mayett Creativxs – Rosa Villanueva\, Abraham Navarrete Duración: 90 minutos aprox. Recomendada para jóvenes [+16] y adultos [No se admite la entrada con alimentos\, únicamente bebidas que estén dentro de nuestro menú de intercambio]   								\n				\n				\n				\n							\n			\n		\n						\n				\n					\n		\n				\n			\n						\n				\n							\n			\n		\n						\n				\n				\n				\n									\n					\n						\n									Comprar
URL:https://foroshakespeare.com/evento/veta-y-el-misterio-de-la-carta/
LOCATION:Foro Shakespeare\, Zamora 7\, Colonia Condesa\, Cuauhtémoc\, Ciudad de México.\, México
CATEGORIES:Evento,Infantil,Títeres
ATTACH;FMTTYPE=image/png:https://foroshakespeare.com/wp-content/uploads/2026/03/Veta-y-el-misterio-de-la-carta_Front-Banner-2-1.png
END:VEVENT
BEGIN:VEVENT
DTSTART;TZID=America/Mexico_City:20260405T130000
DTEND;TZID=America/Mexico_City:20260405T141000
DTSTAMP:20260424T161621
CREATED:20260302T083829Z
LAST-MODIFIED:20260331T060502Z
UID:38992-1775394000-1775398200@foroshakespeare.com
SUMMARY:El molino mágico
DESCRIPTION:La generación de inservibles 				\n				\n				\n				\n									Del 4 de mayo al 29 de junio lunes 20h Foro Principal / $175 Entrada general Compañía – Náufrago teatro Un sismo detiene el metro de la Ciudad de México. Un grupo de jóvenes queda atrapado bajo tierra. Afuera\, el país sigue temblando. En la oscuridad no solo falta el aire: sobran las voces. Flojos. Frágiles. Exagerados. “Inservibles”. Los discursos que los han perseguido toda la vida se vuelven eco\, choque\, incendio. La confrontación generacional estalla y los prejuicios ya no pueden esconderse detrás de la cortesía. Con humor negro y una crudeza sin concesiones\, La generación de inservibles convierte el encierro en detonador. Si el sistema ya está roto\, ¿Quién sostiene la mentira de lo útil y lo desechable? Y cuando nadie baja a salvarte\, cuando el rescate no llega ¿Sigues esperando bajo los escombros o decides convertirte en algo que el derrumbe no pudo destruir?   								\n				\n				\n						\n					\n			\n						\n				\n									Elenco – Montserrath Escalante\, Lorena Sosa\, Mariano Azcárraga\, Raúl Vivanco\, Alicia Villalobos\, Gabriela Mercado\, Andrea Hernández\, Juan Manuel Reyes\, Carlos Alexis\, Juan David Castaño Dirección y dramaturgia – Abril Mayett Creativxs – Rosa Villanueva\, Abraham Navarrete Duración: 90 minutos aprox. Recomendada para jóvenes [+16] y adultos [No se admite la entrada con alimentos\, únicamente bebidas que estén dentro de nuestro menú de intercambio]   								\n				\n				\n				\n							\n			\n		\n						\n				\n					\n		\n				\n			\n						\n				\n							\n			\n		\n						\n				\n				\n				\n									\n					\n						\n									Comprar
URL:https://foroshakespeare.com/evento/el-molino-magico-5/
LOCATION:Foro Shakespeare\, Zamora 7\, Colonia Condesa\, Cuauhtémoc\, Ciudad de México.\, México
CATEGORIES:Evento,Infantil
ATTACH;FMTTYPE=image/png:https://foroshakespeare.com/wp-content/uploads/2026/02/front-banner_-molino-final.png
END:VEVENT
BEGIN:VEVENT
DTSTART;TZID=America/Mexico_City:20260405T180000
DTEND;TZID=America/Mexico_City:20260405T191000
DTSTAMP:20260424T161621
CREATED:20260304T090350Z
LAST-MODIFIED:20260304T090350Z
UID:39153-1775412000-1775416200@foroshakespeare.com
SUMMARY:Temporada de ciervos
DESCRIPTION:La generación de inservibles 				\n				\n				\n				\n									Del 4 de mayo al 29 de junio lunes 20h Foro Principal / $175 Entrada general Compañía – Náufrago teatro Un sismo detiene el metro de la Ciudad de México. Un grupo de jóvenes queda atrapado bajo tierra. Afuera\, el país sigue temblando. En la oscuridad no solo falta el aire: sobran las voces. Flojos. Frágiles. Exagerados. “Inservibles”. Los discursos que los han perseguido toda la vida se vuelven eco\, choque\, incendio. La confrontación generacional estalla y los prejuicios ya no pueden esconderse detrás de la cortesía. Con humor negro y una crudeza sin concesiones\, La generación de inservibles convierte el encierro en detonador. Si el sistema ya está roto\, ¿Quién sostiene la mentira de lo útil y lo desechable? Y cuando nadie baja a salvarte\, cuando el rescate no llega ¿Sigues esperando bajo los escombros o decides convertirte en algo que el derrumbe no pudo destruir?   								\n				\n				\n						\n					\n			\n						\n				\n									Elenco – Montserrath Escalante\, Lorena Sosa\, Mariano Azcárraga\, Raúl Vivanco\, Alicia Villalobos\, Gabriela Mercado\, Andrea Hernández\, Juan Manuel Reyes\, Carlos Alexis\, Juan David Castaño Dirección y dramaturgia – Abril Mayett Creativxs – Rosa Villanueva\, Abraham Navarrete Duración: 90 minutos aprox. Recomendada para jóvenes [+16] y adultos [No se admite la entrada con alimentos\, únicamente bebidas que estén dentro de nuestro menú de intercambio]   								\n				\n				\n				\n							\n			\n		\n						\n				\n					\n		\n				\n			\n						\n				\n							\n			\n		\n						\n				\n				\n				\n									\n					\n						\n									Comprar
URL:https://foroshakespeare.com/evento/temporada-de-ciervos-2/
LOCATION:Foro Shakespeare\, Zamora 7\, Colonia Condesa\, Cuauhtémoc\, Ciudad de México.\, México
CATEGORIES:Comedia,Drama,Evento
ATTACH;FMTTYPE=image/jpeg:https://foroshakespeare.com/wp-content/uploads/2026/02/TemporadaDeCiervos-front-banner.jpg
END:VEVENT
BEGIN:VEVENT
DTSTART;TZID=America/Mexico_City:20260405T180000
DTEND;TZID=America/Mexico_City:20260405T200000
DTSTAMP:20260424T161621
CREATED:20260405T222621Z
LAST-MODIFIED:20260405T222621Z
UID:39733-1775412000-1775419200@foroshakespeare.com
SUMMARY:Stand up Distrito Condesa
DESCRIPTION:La generación de inservibles 				\n				\n				\n				\n									Del 4 de mayo al 29 de junio lunes 20h Foro Principal / $175 Entrada general Compañía – Náufrago teatro Un sismo detiene el metro de la Ciudad de México. Un grupo de jóvenes queda atrapado bajo tierra. Afuera\, el país sigue temblando. En la oscuridad no solo falta el aire: sobran las voces. Flojos. Frágiles. Exagerados. “Inservibles”. Los discursos que los han perseguido toda la vida se vuelven eco\, choque\, incendio. La confrontación generacional estalla y los prejuicios ya no pueden esconderse detrás de la cortesía. Con humor negro y una crudeza sin concesiones\, La generación de inservibles convierte el encierro en detonador. Si el sistema ya está roto\, ¿Quién sostiene la mentira de lo útil y lo desechable? Y cuando nadie baja a salvarte\, cuando el rescate no llega ¿Sigues esperando bajo los escombros o decides convertirte en algo que el derrumbe no pudo destruir?   								\n				\n				\n						\n					\n			\n						\n				\n									Elenco – Montserrath Escalante\, Lorena Sosa\, Mariano Azcárraga\, Raúl Vivanco\, Alicia Villalobos\, Gabriela Mercado\, Andrea Hernández\, Juan Manuel Reyes\, Carlos Alexis\, Juan David Castaño Dirección y dramaturgia – Abril Mayett Creativxs – Rosa Villanueva\, Abraham Navarrete Duración: 90 minutos aprox. Recomendada para jóvenes [+16] y adultos [No se admite la entrada con alimentos\, únicamente bebidas que estén dentro de nuestro menú de intercambio]   								\n				\n				\n				\n							\n			\n		\n						\n				\n					\n		\n				\n			\n						\n				\n							\n			\n		\n						\n				\n				\n				\n									\n					\n						\n									Comprar
URL:https://foroshakespeare.com/evento/stand-up-distrito-condesa-19/
LOCATION:Foro Shakespeare\, Zamora 7\, Colonia Condesa\, Cuauhtémoc\, Ciudad de México.\, México
CATEGORIES:Evento,Stand up
ATTACH;FMTTYPE=image/jpeg:https://foroshakespeare.com/wp-content/uploads/2025/12/FrontBannerDistritoCondesa.jpeg
END:VEVENT
END:VCALENDAR