BEGIN:VCALENDAR
VERSION:2.0
PRODID:-//Foro Shakespeare - ECPv6.15.16.1//NONSGML v1.0//EN
CALSCALE:GREGORIAN
METHOD:PUBLISH
X-ORIGINAL-URL:https://foroshakespeare.com
X-WR-CALDESC:Eventos para Foro Shakespeare
REFRESH-INTERVAL;VALUE=DURATION:PT1H
X-Robots-Tag:noindex
X-PUBLISHED-TTL:PT1H
BEGIN:VTIMEZONE
TZID:America/Mexico_City
BEGIN:STANDARD
TZOFFSETFROM:-0600
TZOFFSETTO:-0600
TZNAME:CST
DTSTART:20250101T000000
END:STANDARD
END:VTIMEZONE
BEGIN:VEVENT
DTSTART;TZID=America/Mexico_City:20260409T200000
DTEND;TZID=America/Mexico_City:20260409T213000
DTSTAMP:20260424T161618
CREATED:20260203T085811Z
LAST-MODIFIED:20260407T104843Z
UID:38305-1775764800-1775770200@foroshakespeare.com
SUMMARY:Love/Sick
DESCRIPTION:La generación de inservibles 				\n				\n				\n				\n									Del 4 de mayo al 29 de junio lunes 20h Foro Principal / $175 Entrada general Compañía – Náufrago teatro Un sismo detiene el metro de la Ciudad de México. Un grupo de jóvenes queda atrapado bajo tierra. Afuera\, el país sigue temblando. En la oscuridad no solo falta el aire: sobran las voces. Flojos. Frágiles. Exagerados. “Inservibles”. Los discursos que los han perseguido toda la vida se vuelven eco\, choque\, incendio. La confrontación generacional estalla y los prejuicios ya no pueden esconderse detrás de la cortesía. Con humor negro y una crudeza sin concesiones\, La generación de inservibles convierte el encierro en detonador. Si el sistema ya está roto\, ¿Quién sostiene la mentira de lo útil y lo desechable? Y cuando nadie baja a salvarte\, cuando el rescate no llega ¿Sigues esperando bajo los escombros o decides convertirte en algo que el derrumbe no pudo destruir?   								\n				\n				\n						\n					\n			\n						\n				\n									Elenco – Montserrath Escalante\, Lorena Sosa\, Mariano Azcárraga\, Raúl Vivanco\, Alicia Villalobos\, Gabriela Mercado\, Andrea Hernández\, Juan Manuel Reyes\, Carlos Alexis\, Juan David Castaño Dirección y dramaturgia – Abril Mayett Creativxs – Rosa Villanueva\, Abraham Navarrete Duración: 90 minutos aprox. Recomendada para jóvenes [+16] y adultos [No se admite la entrada con alimentos\, únicamente bebidas que estén dentro de nuestro menú de intercambio]   								\n				\n				\n				\n							\n			\n		\n						\n				\n					\n		\n				\n			\n						\n				\n							\n			\n		\n						\n				\n				\n				\n									\n					\n						\n									Comprar
URL:https://foroshakespeare.com/evento/love-sick-10/
LOCATION:Foro Shakespeare\, Zamora 7\, Colonia Condesa\, Cuauhtémoc\, Ciudad de México.\, México
CATEGORIES:Comedia,Drama,Evento
ATTACH;FMTTYPE=image/png:https://foroshakespeare.com/wp-content/uploads/2026/01/frontbanner2-1.png
END:VEVENT
BEGIN:VEVENT
DTSTART;TZID=America/Mexico_City:20260409T200000
DTEND;TZID=America/Mexico_City:20260409T213000
DTSTAMP:20260424T161618
CREATED:20260203T094656Z
LAST-MODIFIED:20260409T111526Z
UID:38368-1775764800-1775770200@foroshakespeare.com
SUMMARY:Malas amistades
DESCRIPTION:La generación de inservibles 				\n				\n				\n				\n									Del 4 de mayo al 29 de junio lunes 20h Foro Principal / $175 Entrada general Compañía – Náufrago teatro Un sismo detiene el metro de la Ciudad de México. Un grupo de jóvenes queda atrapado bajo tierra. Afuera\, el país sigue temblando. En la oscuridad no solo falta el aire: sobran las voces. Flojos. Frágiles. Exagerados. “Inservibles”. Los discursos que los han perseguido toda la vida se vuelven eco\, choque\, incendio. La confrontación generacional estalla y los prejuicios ya no pueden esconderse detrás de la cortesía. Con humor negro y una crudeza sin concesiones\, La generación de inservibles convierte el encierro en detonador. Si el sistema ya está roto\, ¿Quién sostiene la mentira de lo útil y lo desechable? Y cuando nadie baja a salvarte\, cuando el rescate no llega ¿Sigues esperando bajo los escombros o decides convertirte en algo que el derrumbe no pudo destruir?   								\n				\n				\n						\n					\n			\n						\n				\n									Elenco – Montserrath Escalante\, Lorena Sosa\, Mariano Azcárraga\, Raúl Vivanco\, Alicia Villalobos\, Gabriela Mercado\, Andrea Hernández\, Juan Manuel Reyes\, Carlos Alexis\, Juan David Castaño Dirección y dramaturgia – Abril Mayett Creativxs – Rosa Villanueva\, Abraham Navarrete Duración: 90 minutos aprox. Recomendada para jóvenes [+16] y adultos [No se admite la entrada con alimentos\, únicamente bebidas que estén dentro de nuestro menú de intercambio]   								\n				\n				\n				\n							\n			\n		\n						\n				\n					\n		\n				\n			\n						\n				\n							\n			\n		\n						\n				\n				\n				\n									\n					\n						\n									Comprar
URL:https://foroshakespeare.com/evento/malas-amistades/
LOCATION:Foro Shakespeare\, Zamora 7\, Colonia Condesa\, Cuauhtémoc\, Ciudad de México.\, México
CATEGORIES:Comedia,Evento,Monólogo,Stand up
ATTACH;FMTTYPE=image/jpeg:https://foroshakespeare.com/wp-content/uploads/2025/11/malas-amistades-front-banner-2026-2.jpg
END:VEVENT
BEGIN:VEVENT
DTSTART;TZID=America/Mexico_City:20260409T203000
DTEND;TZID=America/Mexico_City:20260409T215000
DTSTAMP:20260424T161618
CREATED:20260304T075103Z
LAST-MODIFIED:20260408T191236Z
UID:39065-1775766600-1775771400@foroshakespeare.com
SUMMARY:Julia
DESCRIPTION:La generación de inservibles 				\n				\n				\n				\n									Del 4 de mayo al 29 de junio lunes 20h Foro Principal / $175 Entrada general Compañía – Náufrago teatro Un sismo detiene el metro de la Ciudad de México. Un grupo de jóvenes queda atrapado bajo tierra. Afuera\, el país sigue temblando. En la oscuridad no solo falta el aire: sobran las voces. Flojos. Frágiles. Exagerados. “Inservibles”. Los discursos que los han perseguido toda la vida se vuelven eco\, choque\, incendio. La confrontación generacional estalla y los prejuicios ya no pueden esconderse detrás de la cortesía. Con humor negro y una crudeza sin concesiones\, La generación de inservibles convierte el encierro en detonador. Si el sistema ya está roto\, ¿Quién sostiene la mentira de lo útil y lo desechable? Y cuando nadie baja a salvarte\, cuando el rescate no llega ¿Sigues esperando bajo los escombros o decides convertirte en algo que el derrumbe no pudo destruir?   								\n				\n				\n						\n					\n			\n						\n				\n									Elenco – Montserrath Escalante\, Lorena Sosa\, Mariano Azcárraga\, Raúl Vivanco\, Alicia Villalobos\, Gabriela Mercado\, Andrea Hernández\, Juan Manuel Reyes\, Carlos Alexis\, Juan David Castaño Dirección y dramaturgia – Abril Mayett Creativxs – Rosa Villanueva\, Abraham Navarrete Duración: 90 minutos aprox. Recomendada para jóvenes [+16] y adultos [No se admite la entrada con alimentos\, únicamente bebidas que estén dentro de nuestro menú de intercambio]   								\n				\n				\n				\n							\n			\n		\n						\n				\n					\n		\n				\n			\n						\n				\n							\n			\n		\n						\n				\n				\n				\n									\n					\n						\n									Comprar
URL:https://foroshakespeare.com/evento/julia-2/
LOCATION:Foro Shakespeare\, Zamora 7\, Colonia Condesa\, Cuauhtémoc\, Ciudad de México.\, México
CATEGORIES:Drama,Evento,Tragedia
ATTACH;FMTTYPE=image/png:https://foroshakespeare.com/wp-content/uploads/2026/02/EVENTO-JULIA-FRONT-BANNER-1.png
END:VEVENT
BEGIN:VEVENT
DTSTART;TZID=America/Mexico_City:20260409T203000
DTEND;TZID=America/Mexico_City:20260409T220000
DTSTAMP:20260424T161618
CREATED:20260331T054414Z
LAST-MODIFIED:20260407T104848Z
UID:39611-1775766600-1775772000@foroshakespeare.com
SUMMARY:Stand up Bar Comedy
DESCRIPTION:La generación de inservibles 				\n				\n				\n				\n									Del 4 de mayo al 29 de junio lunes 20h Foro Principal / $175 Entrada general Compañía – Náufrago teatro Un sismo detiene el metro de la Ciudad de México. Un grupo de jóvenes queda atrapado bajo tierra. Afuera\, el país sigue temblando. En la oscuridad no solo falta el aire: sobran las voces. Flojos. Frágiles. Exagerados. “Inservibles”. Los discursos que los han perseguido toda la vida se vuelven eco\, choque\, incendio. La confrontación generacional estalla y los prejuicios ya no pueden esconderse detrás de la cortesía. Con humor negro y una crudeza sin concesiones\, La generación de inservibles convierte el encierro en detonador. Si el sistema ya está roto\, ¿Quién sostiene la mentira de lo útil y lo desechable? Y cuando nadie baja a salvarte\, cuando el rescate no llega ¿Sigues esperando bajo los escombros o decides convertirte en algo que el derrumbe no pudo destruir?   								\n				\n				\n						\n					\n			\n						\n				\n									Elenco – Montserrath Escalante\, Lorena Sosa\, Mariano Azcárraga\, Raúl Vivanco\, Alicia Villalobos\, Gabriela Mercado\, Andrea Hernández\, Juan Manuel Reyes\, Carlos Alexis\, Juan David Castaño Dirección y dramaturgia – Abril Mayett Creativxs – Rosa Villanueva\, Abraham Navarrete Duración: 90 minutos aprox. Recomendada para jóvenes [+16] y adultos [No se admite la entrada con alimentos\, únicamente bebidas que estén dentro de nuestro menú de intercambio]   								\n				\n				\n				\n							\n			\n		\n						\n				\n					\n		\n				\n			\n						\n				\n							\n			\n		\n						\n				\n				\n				\n									\n					\n						\n									Comprar
URL:https://foroshakespeare.com/evento/stand-up-bar-comedy/
LOCATION:Foro Shakespeare\, Zamora 7\, Colonia Condesa\, Cuauhtémoc\, Ciudad de México.\, México
CATEGORIES:Comedia,Evento,Monólogo,Stand up
ATTACH;FMTTYPE=image/jpeg:https://foroshakespeare.com/wp-content/uploads/2023/02/evento-stand-up-bar-comedy-front-banner.jpg
END:VEVENT
END:VCALENDAR