BEGIN:VCALENDAR
VERSION:2.0
PRODID:-//Foro Shakespeare - ECPv6.15.16.1//NONSGML v1.0//EN
CALSCALE:GREGORIAN
METHOD:PUBLISH
X-ORIGINAL-URL:https://foroshakespeare.com
X-WR-CALDESC:Eventos para Foro Shakespeare
REFRESH-INTERVAL;VALUE=DURATION:PT1H
X-Robots-Tag:noindex
X-PUBLISHED-TTL:PT1H
BEGIN:VTIMEZONE
TZID:America/Mexico_City
BEGIN:STANDARD
TZOFFSETFROM:-0600
TZOFFSETTO:-0600
TZNAME:CST
DTSTART:20250101T000000
END:STANDARD
END:VTIMEZONE
BEGIN:VEVENT
DTSTART;TZID=America/Mexico_City:20260410T180000
DTEND;TZID=America/Mexico_City:20260410T193000
DTSTAMP:20260424T161621
CREATED:20260226T193200Z
LAST-MODIFIED:20260407T104854Z
UID:38860-1775844000-1775849400@foroshakespeare.com
SUMMARY:El chiste en la vida
DESCRIPTION:La generación de inservibles 				\n				\n				\n				\n									Del 4 de mayo al 29 de junio lunes 20h Foro Principal / $175 Entrada general Compañía – Náufrago teatro Un sismo detiene el metro de la Ciudad de México. Un grupo de jóvenes queda atrapado bajo tierra. Afuera\, el país sigue temblando. En la oscuridad no solo falta el aire: sobran las voces. Flojos. Frágiles. Exagerados. “Inservibles”. Los discursos que los han perseguido toda la vida se vuelven eco\, choque\, incendio. La confrontación generacional estalla y los prejuicios ya no pueden esconderse detrás de la cortesía. Con humor negro y una crudeza sin concesiones\, La generación de inservibles convierte el encierro en detonador. Si el sistema ya está roto\, ¿Quién sostiene la mentira de lo útil y lo desechable? Y cuando nadie baja a salvarte\, cuando el rescate no llega ¿Sigues esperando bajo los escombros o decides convertirte en algo que el derrumbe no pudo destruir?   								\n				\n				\n						\n					\n			\n						\n				\n									Elenco – Montserrath Escalante\, Lorena Sosa\, Mariano Azcárraga\, Raúl Vivanco\, Alicia Villalobos\, Gabriela Mercado\, Andrea Hernández\, Juan Manuel Reyes\, Carlos Alexis\, Juan David Castaño Dirección y dramaturgia – Abril Mayett Creativxs – Rosa Villanueva\, Abraham Navarrete Duración: 90 minutos aprox. Recomendada para jóvenes [+16] y adultos [No se admite la entrada con alimentos\, únicamente bebidas que estén dentro de nuestro menú de intercambio]   								\n				\n				\n				\n							\n			\n		\n						\n				\n					\n		\n				\n			\n						\n				\n							\n			\n		\n						\n				\n				\n				\n									\n					\n						\n									Comprar
URL:https://foroshakespeare.com/evento/el-chiste-en-la-vida-5/
LOCATION:Foro Shakespeare\, Zamora 7\, Colonia Condesa\, Cuauhtémoc\, Ciudad de México.\, México
CATEGORIES:Comedia,Evento,Impro,Tragedia
ATTACH;FMTTYPE=image/jpeg:https://foroshakespeare.com/wp-content/uploads/2026/02/el-chiste-en-la-vida-front-banner-1.jpg
END:VEVENT
BEGIN:VEVENT
DTSTART;TZID=America/Mexico_City:20260410T200000
DTEND;TZID=America/Mexico_City:20260410T214500
DTSTAMP:20260424T161621
CREATED:20260326T092136Z
LAST-MODIFIED:20260407T104900Z
UID:39427-1775851200-1775857500@foroshakespeare.com
SUMMARY:La última paciente
DESCRIPTION:La generación de inservibles 				\n				\n				\n				\n									Del 4 de mayo al 29 de junio lunes 20h Foro Principal / $175 Entrada general Compañía – Náufrago teatro Un sismo detiene el metro de la Ciudad de México. Un grupo de jóvenes queda atrapado bajo tierra. Afuera\, el país sigue temblando. En la oscuridad no solo falta el aire: sobran las voces. Flojos. Frágiles. Exagerados. “Inservibles”. Los discursos que los han perseguido toda la vida se vuelven eco\, choque\, incendio. La confrontación generacional estalla y los prejuicios ya no pueden esconderse detrás de la cortesía. Con humor negro y una crudeza sin concesiones\, La generación de inservibles convierte el encierro en detonador. Si el sistema ya está roto\, ¿Quién sostiene la mentira de lo útil y lo desechable? Y cuando nadie baja a salvarte\, cuando el rescate no llega ¿Sigues esperando bajo los escombros o decides convertirte en algo que el derrumbe no pudo destruir?   								\n				\n				\n						\n					\n			\n						\n				\n									Elenco – Montserrath Escalante\, Lorena Sosa\, Mariano Azcárraga\, Raúl Vivanco\, Alicia Villalobos\, Gabriela Mercado\, Andrea Hernández\, Juan Manuel Reyes\, Carlos Alexis\, Juan David Castaño Dirección y dramaturgia – Abril Mayett Creativxs – Rosa Villanueva\, Abraham Navarrete Duración: 90 minutos aprox. Recomendada para jóvenes [+16] y adultos [No se admite la entrada con alimentos\, únicamente bebidas que estén dentro de nuestro menú de intercambio]   								\n				\n				\n				\n							\n			\n		\n						\n				\n					\n		\n				\n			\n						\n				\n							\n			\n		\n						\n				\n				\n				\n									\n					\n						\n									Comprar
URL:https://foroshakespeare.com/evento/la-ultima-paciente-2/
LOCATION:Foro Shakespeare\, Zamora 7\, Colonia Condesa\, Cuauhtémoc\, Ciudad de México.\, México
CATEGORIES:Drama,Evento,Interdisciplina,Monólogo,Tragedia,Tragicomedia,Unipersonal
ATTACH;FMTTYPE=image/jpeg:https://foroshakespeare.com/wp-content/uploads/2025/08/sitio-web-blog.jpg
END:VEVENT
BEGIN:VEVENT
DTSTART;TZID=America/Mexico_City:20260410T200000
DTEND;TZID=America/Mexico_City:20260410T220000
DTSTAMP:20260424T161621
CREATED:20260304T073746Z
LAST-MODIFIED:20260407T104903Z
UID:39042-1775851200-1775858400@foroshakespeare.com
SUMMARY:Suspira
DESCRIPTION:La generación de inservibles 				\n				\n				\n				\n									Del 4 de mayo al 29 de junio lunes 20h Foro Principal / $175 Entrada general Compañía – Náufrago teatro Un sismo detiene el metro de la Ciudad de México. Un grupo de jóvenes queda atrapado bajo tierra. Afuera\, el país sigue temblando. En la oscuridad no solo falta el aire: sobran las voces. Flojos. Frágiles. Exagerados. “Inservibles”. Los discursos que los han perseguido toda la vida se vuelven eco\, choque\, incendio. La confrontación generacional estalla y los prejuicios ya no pueden esconderse detrás de la cortesía. Con humor negro y una crudeza sin concesiones\, La generación de inservibles convierte el encierro en detonador. Si el sistema ya está roto\, ¿Quién sostiene la mentira de lo útil y lo desechable? Y cuando nadie baja a salvarte\, cuando el rescate no llega ¿Sigues esperando bajo los escombros o decides convertirte en algo que el derrumbe no pudo destruir?   								\n				\n				\n						\n					\n			\n						\n				\n									Elenco – Montserrath Escalante\, Lorena Sosa\, Mariano Azcárraga\, Raúl Vivanco\, Alicia Villalobos\, Gabriela Mercado\, Andrea Hernández\, Juan Manuel Reyes\, Carlos Alexis\, Juan David Castaño Dirección y dramaturgia – Abril Mayett Creativxs – Rosa Villanueva\, Abraham Navarrete Duración: 90 minutos aprox. Recomendada para jóvenes [+16] y adultos [No se admite la entrada con alimentos\, únicamente bebidas que estén dentro de nuestro menú de intercambio]   								\n				\n				\n				\n							\n			\n		\n						\n				\n					\n		\n				\n			\n						\n				\n							\n			\n		\n						\n				\n				\n				\n									\n					\n						\n									Comprar
URL:https://foroshakespeare.com/evento/suspira-6/
LOCATION:Foro Shakespeare\, Zamora 7\, Colonia Condesa\, Cuauhtémoc\, Ciudad de México.\, México
CATEGORIES:Drama,Evento,Interdisciplina,Títeres,Tragicomedia
ATTACH;FMTTYPE=image/jpeg:https://foroshakespeare.com/wp-content/uploads/2026/03/evento-SUSPIRA-front-banner.jpg
END:VEVENT
BEGIN:VEVENT
DTSTART;TZID=America/Mexico_City:20260410T203000
DTEND;TZID=America/Mexico_City:20260410T220000
DTSTAMP:20260424T161621
CREATED:20260330T182315Z
LAST-MODIFIED:20260407T104923Z
UID:39571-1775853000-1775858400@foroshakespeare.com
SUMMARY:Risa & Tonic
DESCRIPTION:La generación de inservibles 				\n				\n				\n				\n									Del 4 de mayo al 29 de junio lunes 20h Foro Principal / $175 Entrada general Compañía – Náufrago teatro Un sismo detiene el metro de la Ciudad de México. Un grupo de jóvenes queda atrapado bajo tierra. Afuera\, el país sigue temblando. En la oscuridad no solo falta el aire: sobran las voces. Flojos. Frágiles. Exagerados. “Inservibles”. Los discursos que los han perseguido toda la vida se vuelven eco\, choque\, incendio. La confrontación generacional estalla y los prejuicios ya no pueden esconderse detrás de la cortesía. Con humor negro y una crudeza sin concesiones\, La generación de inservibles convierte el encierro en detonador. Si el sistema ya está roto\, ¿Quién sostiene la mentira de lo útil y lo desechable? Y cuando nadie baja a salvarte\, cuando el rescate no llega ¿Sigues esperando bajo los escombros o decides convertirte en algo que el derrumbe no pudo destruir?   								\n				\n				\n						\n					\n			\n						\n				\n									Elenco – Montserrath Escalante\, Lorena Sosa\, Mariano Azcárraga\, Raúl Vivanco\, Alicia Villalobos\, Gabriela Mercado\, Andrea Hernández\, Juan Manuel Reyes\, Carlos Alexis\, Juan David Castaño Dirección y dramaturgia – Abril Mayett Creativxs – Rosa Villanueva\, Abraham Navarrete Duración: 90 minutos aprox. Recomendada para jóvenes [+16] y adultos [No se admite la entrada con alimentos\, únicamente bebidas que estén dentro de nuestro menú de intercambio]   								\n				\n				\n				\n							\n			\n		\n						\n				\n					\n		\n				\n			\n						\n				\n							\n			\n		\n						\n				\n				\n				\n									\n					\n						\n									Comprar
URL:https://foroshakespeare.com/evento/risa-tonic-3/
LOCATION:Foro Shakespeare\, Zamora 7\, Colonia Condesa\, Cuauhtémoc\, Ciudad de México.\, México
CATEGORIES:Comedia,Evento,Monólogo,Stand up
ATTACH;FMTTYPE=image/jpeg:https://foroshakespeare.com/wp-content/uploads/2026/03/evento_risaandtonic_frontbanner-2.jpg
END:VEVENT
BEGIN:VEVENT
DTSTART;TZID=America/Mexico_City:20260410T203000
DTEND;TZID=America/Mexico_City:20260410T220000
DTSTAMP:20260424T161621
CREATED:20260331T054429Z
LAST-MODIFIED:20260407T104929Z
UID:39612-1775853000-1775858400@foroshakespeare.com
SUMMARY:Stand up Bar Comedy
DESCRIPTION:La generación de inservibles 				\n				\n				\n				\n									Del 4 de mayo al 29 de junio lunes 20h Foro Principal / $175 Entrada general Compañía – Náufrago teatro Un sismo detiene el metro de la Ciudad de México. Un grupo de jóvenes queda atrapado bajo tierra. Afuera\, el país sigue temblando. En la oscuridad no solo falta el aire: sobran las voces. Flojos. Frágiles. Exagerados. “Inservibles”. Los discursos que los han perseguido toda la vida se vuelven eco\, choque\, incendio. La confrontación generacional estalla y los prejuicios ya no pueden esconderse detrás de la cortesía. Con humor negro y una crudeza sin concesiones\, La generación de inservibles convierte el encierro en detonador. Si el sistema ya está roto\, ¿Quién sostiene la mentira de lo útil y lo desechable? Y cuando nadie baja a salvarte\, cuando el rescate no llega ¿Sigues esperando bajo los escombros o decides convertirte en algo que el derrumbe no pudo destruir?   								\n				\n				\n						\n					\n			\n						\n				\n									Elenco – Montserrath Escalante\, Lorena Sosa\, Mariano Azcárraga\, Raúl Vivanco\, Alicia Villalobos\, Gabriela Mercado\, Andrea Hernández\, Juan Manuel Reyes\, Carlos Alexis\, Juan David Castaño Dirección y dramaturgia – Abril Mayett Creativxs – Rosa Villanueva\, Abraham Navarrete Duración: 90 minutos aprox. Recomendada para jóvenes [+16] y adultos [No se admite la entrada con alimentos\, únicamente bebidas que estén dentro de nuestro menú de intercambio]   								\n				\n				\n				\n							\n			\n		\n						\n				\n					\n		\n				\n			\n						\n				\n							\n			\n		\n						\n				\n				\n				\n									\n					\n						\n									Comprar
URL:https://foroshakespeare.com/evento/stand-up-bar-comedy-2/
LOCATION:Foro Shakespeare\, Zamora 7\, Colonia Condesa\, Cuauhtémoc\, Ciudad de México.\, México
CATEGORIES:Comedia,Evento,Monólogo,Stand up
ATTACH;FMTTYPE=image/jpeg:https://foroshakespeare.com/wp-content/uploads/2023/02/evento-stand-up-bar-comedy-front-banner.jpg
END:VEVENT
BEGIN:VEVENT
DTSTART;TZID=America/Mexico_City:20260410T203000
DTEND;TZID=America/Mexico_City:20260410T220000
DTSTAMP:20260424T161621
CREATED:20260331T055531Z
LAST-MODIFIED:20260409T115541Z
UID:39623-1775853000-1775858400@foroshakespeare.com
SUMMARY:Stand up Distrito Condesa
DESCRIPTION:La generación de inservibles 				\n				\n				\n				\n									Del 4 de mayo al 29 de junio lunes 20h Foro Principal / $175 Entrada general Compañía – Náufrago teatro Un sismo detiene el metro de la Ciudad de México. Un grupo de jóvenes queda atrapado bajo tierra. Afuera\, el país sigue temblando. En la oscuridad no solo falta el aire: sobran las voces. Flojos. Frágiles. Exagerados. “Inservibles”. Los discursos que los han perseguido toda la vida se vuelven eco\, choque\, incendio. La confrontación generacional estalla y los prejuicios ya no pueden esconderse detrás de la cortesía. Con humor negro y una crudeza sin concesiones\, La generación de inservibles convierte el encierro en detonador. Si el sistema ya está roto\, ¿Quién sostiene la mentira de lo útil y lo desechable? Y cuando nadie baja a salvarte\, cuando el rescate no llega ¿Sigues esperando bajo los escombros o decides convertirte en algo que el derrumbe no pudo destruir?   								\n				\n				\n						\n					\n			\n						\n				\n									Elenco – Montserrath Escalante\, Lorena Sosa\, Mariano Azcárraga\, Raúl Vivanco\, Alicia Villalobos\, Gabriela Mercado\, Andrea Hernández\, Juan Manuel Reyes\, Carlos Alexis\, Juan David Castaño Dirección y dramaturgia – Abril Mayett Creativxs – Rosa Villanueva\, Abraham Navarrete Duración: 90 minutos aprox. Recomendada para jóvenes [+16] y adultos [No se admite la entrada con alimentos\, únicamente bebidas que estén dentro de nuestro menú de intercambio]   								\n				\n				\n				\n							\n			\n		\n						\n				\n					\n		\n				\n			\n						\n				\n							\n			\n		\n						\n				\n				\n				\n									\n					\n						\n									Comprar
URL:https://foroshakespeare.com/evento/stand-up-distrito-condesa/
LOCATION:Foro Shakespeare\, Zamora 7\, Colonia Condesa\, Cuauhtémoc\, Ciudad de México.\, México
CATEGORIES:Evento,Stand up
ATTACH;FMTTYPE=image/jpeg:https://foroshakespeare.com/wp-content/uploads/2025/12/FrontBannerDistritoCondesa.jpeg
END:VEVENT
BEGIN:VEVENT
DTSTART;TZID=America/Mexico_City:20260410T223000
DTEND;TZID=America/Mexico_City:20260410T235900
DTSTAMP:20260424T161621
CREATED:20260330T181640Z
LAST-MODIFIED:20260407T104951Z
UID:39540-1775860200-1775865540@foroshakespeare.com
SUMMARY:OPEN MIC / El Show
DESCRIPTION:La generación de inservibles 				\n				\n				\n				\n									Del 4 de mayo al 29 de junio lunes 20h Foro Principal / $175 Entrada general Compañía – Náufrago teatro Un sismo detiene el metro de la Ciudad de México. Un grupo de jóvenes queda atrapado bajo tierra. Afuera\, el país sigue temblando. En la oscuridad no solo falta el aire: sobran las voces. Flojos. Frágiles. Exagerados. “Inservibles”. Los discursos que los han perseguido toda la vida se vuelven eco\, choque\, incendio. La confrontación generacional estalla y los prejuicios ya no pueden esconderse detrás de la cortesía. Con humor negro y una crudeza sin concesiones\, La generación de inservibles convierte el encierro en detonador. Si el sistema ya está roto\, ¿Quién sostiene la mentira de lo útil y lo desechable? Y cuando nadie baja a salvarte\, cuando el rescate no llega ¿Sigues esperando bajo los escombros o decides convertirte en algo que el derrumbe no pudo destruir?   								\n				\n				\n						\n					\n			\n						\n				\n									Elenco – Montserrath Escalante\, Lorena Sosa\, Mariano Azcárraga\, Raúl Vivanco\, Alicia Villalobos\, Gabriela Mercado\, Andrea Hernández\, Juan Manuel Reyes\, Carlos Alexis\, Juan David Castaño Dirección y dramaturgia – Abril Mayett Creativxs – Rosa Villanueva\, Abraham Navarrete Duración: 90 minutos aprox. Recomendada para jóvenes [+16] y adultos [No se admite la entrada con alimentos\, únicamente bebidas que estén dentro de nuestro menú de intercambio]   								\n				\n				\n				\n							\n			\n		\n						\n				\n					\n		\n				\n			\n						\n				\n							\n			\n		\n						\n				\n				\n				\n									\n					\n						\n									Comprar
URL:https://foroshakespeare.com/evento/open-mic-el-show-2/
LOCATION:Foro Shakespeare\, Zamora 7\, Colonia Condesa\, Cuauhtémoc\, Ciudad de México.\, México
CATEGORIES:Comedia,Evento,Stand up
ATTACH;FMTTYPE=image/jpeg:https://foroshakespeare.com/wp-content/uploads/2025/01/Front-Banner-Open-Mic-El-Show.jpg
END:VEVENT
BEGIN:VEVENT
DTSTART;TZID=America/Mexico_City:20260410T223000
DTEND;TZID=America/Mexico_City:20260410T235900
DTSTAMP:20260424T161621
CREATED:20260330T182321Z
LAST-MODIFIED:20260407T104955Z
UID:39572-1775860200-1775865540@foroshakespeare.com
SUMMARY:Risa & Tonic
DESCRIPTION:La generación de inservibles 				\n				\n				\n				\n									Del 4 de mayo al 29 de junio lunes 20h Foro Principal / $175 Entrada general Compañía – Náufrago teatro Un sismo detiene el metro de la Ciudad de México. Un grupo de jóvenes queda atrapado bajo tierra. Afuera\, el país sigue temblando. En la oscuridad no solo falta el aire: sobran las voces. Flojos. Frágiles. Exagerados. “Inservibles”. Los discursos que los han perseguido toda la vida se vuelven eco\, choque\, incendio. La confrontación generacional estalla y los prejuicios ya no pueden esconderse detrás de la cortesía. Con humor negro y una crudeza sin concesiones\, La generación de inservibles convierte el encierro en detonador. Si el sistema ya está roto\, ¿Quién sostiene la mentira de lo útil y lo desechable? Y cuando nadie baja a salvarte\, cuando el rescate no llega ¿Sigues esperando bajo los escombros o decides convertirte en algo que el derrumbe no pudo destruir?   								\n				\n				\n						\n					\n			\n						\n				\n									Elenco – Montserrath Escalante\, Lorena Sosa\, Mariano Azcárraga\, Raúl Vivanco\, Alicia Villalobos\, Gabriela Mercado\, Andrea Hernández\, Juan Manuel Reyes\, Carlos Alexis\, Juan David Castaño Dirección y dramaturgia – Abril Mayett Creativxs – Rosa Villanueva\, Abraham Navarrete Duración: 90 minutos aprox. Recomendada para jóvenes [+16] y adultos [No se admite la entrada con alimentos\, únicamente bebidas que estén dentro de nuestro menú de intercambio]   								\n				\n				\n				\n							\n			\n		\n						\n				\n					\n		\n				\n			\n						\n				\n							\n			\n		\n						\n				\n				\n				\n									\n					\n						\n									Comprar
URL:https://foroshakespeare.com/evento/risa-tonic-4/
LOCATION:Foro Shakespeare\, Zamora 7\, Colonia Condesa\, Cuauhtémoc\, Ciudad de México.\, México
CATEGORIES:Comedia,Evento,Monólogo,Stand up
ATTACH;FMTTYPE=image/jpeg:https://foroshakespeare.com/wp-content/uploads/2026/03/evento_risaandtonic_frontbanner-2.jpg
END:VEVENT
BEGIN:VEVENT
DTSTART;TZID=America/Mexico_City:20260410T223000
DTEND;TZID=America/Mexico_City:20260410T235900
DTSTAMP:20260424T161621
CREATED:20260331T054549Z
LAST-MODIFIED:20260407T104959Z
UID:39613-1775860200-1775865540@foroshakespeare.com
SUMMARY:Stand up Bar Comedy
DESCRIPTION:La generación de inservibles 				\n				\n				\n				\n									Del 4 de mayo al 29 de junio lunes 20h Foro Principal / $175 Entrada general Compañía – Náufrago teatro Un sismo detiene el metro de la Ciudad de México. Un grupo de jóvenes queda atrapado bajo tierra. Afuera\, el país sigue temblando. En la oscuridad no solo falta el aire: sobran las voces. Flojos. Frágiles. Exagerados. “Inservibles”. Los discursos que los han perseguido toda la vida se vuelven eco\, choque\, incendio. La confrontación generacional estalla y los prejuicios ya no pueden esconderse detrás de la cortesía. Con humor negro y una crudeza sin concesiones\, La generación de inservibles convierte el encierro en detonador. Si el sistema ya está roto\, ¿Quién sostiene la mentira de lo útil y lo desechable? Y cuando nadie baja a salvarte\, cuando el rescate no llega ¿Sigues esperando bajo los escombros o decides convertirte en algo que el derrumbe no pudo destruir?   								\n				\n				\n						\n					\n			\n						\n				\n									Elenco – Montserrath Escalante\, Lorena Sosa\, Mariano Azcárraga\, Raúl Vivanco\, Alicia Villalobos\, Gabriela Mercado\, Andrea Hernández\, Juan Manuel Reyes\, Carlos Alexis\, Juan David Castaño Dirección y dramaturgia – Abril Mayett Creativxs – Rosa Villanueva\, Abraham Navarrete Duración: 90 minutos aprox. Recomendada para jóvenes [+16] y adultos [No se admite la entrada con alimentos\, únicamente bebidas que estén dentro de nuestro menú de intercambio]   								\n				\n				\n				\n							\n			\n		\n						\n				\n					\n		\n				\n			\n						\n				\n							\n			\n		\n						\n				\n				\n				\n									\n					\n						\n									Comprar
URL:https://foroshakespeare.com/evento/stand-up-bar-comedy-3/
LOCATION:Foro Shakespeare\, Zamora 7\, Colonia Condesa\, Cuauhtémoc\, Ciudad de México.\, México
CATEGORIES:Comedia,Evento,Monólogo,Stand up
ATTACH;FMTTYPE=image/jpeg:https://foroshakespeare.com/wp-content/uploads/2023/02/evento-stand-up-bar-comedy-front-banner.jpg
END:VEVENT
BEGIN:VEVENT
DTSTART;TZID=America/Mexico_City:20260410T223000
DTEND;TZID=America/Mexico_City:20260410T235900
DTSTAMP:20260424T161621
CREATED:20260331T055533Z
LAST-MODIFIED:20260409T115532Z
UID:39624-1775860200-1775865540@foroshakespeare.com
SUMMARY:Stand up Distrito Condesa
DESCRIPTION:La generación de inservibles 				\n				\n				\n				\n									Del 4 de mayo al 29 de junio lunes 20h Foro Principal / $175 Entrada general Compañía – Náufrago teatro Un sismo detiene el metro de la Ciudad de México. Un grupo de jóvenes queda atrapado bajo tierra. Afuera\, el país sigue temblando. En la oscuridad no solo falta el aire: sobran las voces. Flojos. Frágiles. Exagerados. “Inservibles”. Los discursos que los han perseguido toda la vida se vuelven eco\, choque\, incendio. La confrontación generacional estalla y los prejuicios ya no pueden esconderse detrás de la cortesía. Con humor negro y una crudeza sin concesiones\, La generación de inservibles convierte el encierro en detonador. Si el sistema ya está roto\, ¿Quién sostiene la mentira de lo útil y lo desechable? Y cuando nadie baja a salvarte\, cuando el rescate no llega ¿Sigues esperando bajo los escombros o decides convertirte en algo que el derrumbe no pudo destruir?   								\n				\n				\n						\n					\n			\n						\n				\n									Elenco – Montserrath Escalante\, Lorena Sosa\, Mariano Azcárraga\, Raúl Vivanco\, Alicia Villalobos\, Gabriela Mercado\, Andrea Hernández\, Juan Manuel Reyes\, Carlos Alexis\, Juan David Castaño Dirección y dramaturgia – Abril Mayett Creativxs – Rosa Villanueva\, Abraham Navarrete Duración: 90 minutos aprox. Recomendada para jóvenes [+16] y adultos [No se admite la entrada con alimentos\, únicamente bebidas que estén dentro de nuestro menú de intercambio]   								\n				\n				\n				\n							\n			\n		\n						\n				\n					\n		\n				\n			\n						\n				\n							\n			\n		\n						\n				\n				\n				\n									\n					\n						\n									Comprar
URL:https://foroshakespeare.com/evento/stand-up-distrito-condesa-2/
LOCATION:Foro Shakespeare\, Zamora 7\, Colonia Condesa\, Cuauhtémoc\, Ciudad de México.\, México
CATEGORIES:Evento,Stand up
ATTACH;FMTTYPE=image/jpeg:https://foroshakespeare.com/wp-content/uploads/2025/12/FrontBannerDistritoCondesa.jpeg
END:VEVENT
END:VCALENDAR