BEGIN:VCALENDAR
VERSION:2.0
PRODID:-//Foro Shakespeare - ECPv6.15.16.1//NONSGML v1.0//EN
CALSCALE:GREGORIAN
METHOD:PUBLISH
X-ORIGINAL-URL:https://foroshakespeare.com
X-WR-CALDESC:Eventos para Foro Shakespeare
REFRESH-INTERVAL;VALUE=DURATION:PT1H
X-Robots-Tag:noindex
X-PUBLISHED-TTL:PT1H
BEGIN:VTIMEZONE
TZID:America/Mexico_City
BEGIN:STANDARD
TZOFFSETFROM:-0600
TZOFFSETTO:-0600
TZNAME:CST
DTSTART:20250101T000000
END:STANDARD
END:VTIMEZONE
BEGIN:VEVENT
DTSTART;TZID=America/Mexico_City:20260301T180000
DTEND;TZID=America/Mexico_City:20260301T191500
DTSTAMP:20260423T160657
CREATED:20260202T192923Z
LAST-MODIFIED:20260208T080059Z
UID:38276-1772388000-1772392500@foroshakespeare.com
SUMMARY:Random stand up comedy
DESCRIPTION:Stand up Distrito Condesa 				\n				\n				\n				\n					Foro Principal				\n				\n				\n				\n									Viernes 15 de mayo\, 20:30hForo Principal / $300Entrada general Preventa $200 Compañía – MazTeatro La nueva ola de la comedia en México ya está aquí. Cinco comediantes con años de experiencia en hacer reír se reúnen en una sola función para presentar un show potente\, sin filtro y con estilos únicos. Voces frescas que están marcando el rumbo del stand-up actual.       								\n				\n				\n						\n					\n			\n						\n				\n									Elenco – Erik Zamora\, Isra Guzmán\, Marco Valencia\, Diego Gasca y Jahaziel Writhg Duración: 90 minutos aprox.Recomendada para adultos [+18]*jóvenes +15 acompañados de un adultos   								\n				\n				\n				\n							\n			\n		\n						\n				\n					\n		\n				\n			\n						\n				\n							\n			\n		\n						\n				\n				\n				\n									\n					\n						\n									Comprar
URL:https://foroshakespeare.com/evento/random-stand-up-comedy-8/
LOCATION:Foro Shakespeare\, Zamora 7\, Colonia Condesa\, Cuauhtémoc\, Ciudad de México.\, México
CATEGORIES:Comedia,Impro,Monólogo,Stand up,Unipersonal
ATTACH;FMTTYPE=image/jpeg:https://foroshakespeare.com/wp-content/uploads/2026/02/Random-front-banner.jpg
END:VEVENT
BEGIN:VEVENT
DTSTART;TZID=America/Mexico_City:20260306T203000
DTEND;TZID=America/Mexico_City:20260306T220000
DTSTAMP:20260423T160657
CREATED:20260203T101846Z
LAST-MODIFIED:20260305T224138Z
UID:38399-1772829000-1772834400@foroshakespeare.com
SUMMARY:Los caballeros del stand up
DESCRIPTION:Stand up Distrito Condesa 				\n				\n				\n				\n					Foro Principal				\n				\n				\n				\n									Viernes 15 de mayo\, 20:30hForo Principal / $300Entrada general Preventa $200 Compañía – MazTeatro La nueva ola de la comedia en México ya está aquí. Cinco comediantes con años de experiencia en hacer reír se reúnen en una sola función para presentar un show potente\, sin filtro y con estilos únicos. Voces frescas que están marcando el rumbo del stand-up actual.       								\n				\n				\n						\n					\n			\n						\n				\n									Elenco – Erik Zamora\, Isra Guzmán\, Marco Valencia\, Diego Gasca y Jahaziel Writhg Duración: 90 minutos aprox.Recomendada para adultos [+18]*jóvenes +15 acompañados de un adultos   								\n				\n				\n				\n							\n			\n		\n						\n				\n					\n		\n				\n			\n						\n				\n							\n			\n		\n						\n				\n				\n				\n									\n					\n						\n									Comprar
URL:https://foroshakespeare.com/evento/los-caballeros-del-stand-up-5/
LOCATION:Foro Shakespeare\, Zamora 7\, Colonia Condesa\, Cuauhtémoc\, Ciudad de México.\, México
CATEGORIES:Comedia,Evento,Stand up
ATTACH;FMTTYPE=image/png:https://foroshakespeare.com/wp-content/uploads/2026/02/Front-Banner-1.png
END:VEVENT
BEGIN:VEVENT
DTSTART;TZID=America/Mexico_City:20260306T223000
DTEND;TZID=America/Mexico_City:20260306T235900
DTSTAMP:20260423T160657
CREATED:20260228T043335Z
LAST-MODIFIED:20260228T045726Z
UID:38935-1772836200-1772841540@foroshakespeare.com
SUMMARY:Perras de reserva
DESCRIPTION:Stand up Distrito Condesa 				\n				\n				\n				\n					Foro Principal				\n				\n				\n				\n									Viernes 15 de mayo\, 20:30hForo Principal / $300Entrada general Preventa $200 Compañía – MazTeatro La nueva ola de la comedia en México ya está aquí. Cinco comediantes con años de experiencia en hacer reír se reúnen en una sola función para presentar un show potente\, sin filtro y con estilos únicos. Voces frescas que están marcando el rumbo del stand-up actual.       								\n				\n				\n						\n					\n			\n						\n				\n									Elenco – Erik Zamora\, Isra Guzmán\, Marco Valencia\, Diego Gasca y Jahaziel Writhg Duración: 90 minutos aprox.Recomendada para adultos [+18]*jóvenes +15 acompañados de un adultos   								\n				\n				\n				\n							\n			\n		\n						\n				\n					\n		\n				\n			\n						\n				\n							\n			\n		\n						\n				\n				\n				\n									\n					\n						\n									Comprar
URL:https://foroshakespeare.com/evento/perras-de-reserva/
LOCATION:Foro Shakespeare\, Zamora 7\, Colonia Condesa\, Cuauhtémoc\, Ciudad de México.\, México
CATEGORIES:Evento,Stand up
ATTACH;FMTTYPE=image/jpeg:https://foroshakespeare.com/wp-content/uploads/2026/02/PERRASDERESERVA_FRONTBANNER-1.jpg
END:VEVENT
BEGIN:VEVENT
DTSTART;TZID=America/Mexico_City:20260307T200000
DTEND;TZID=America/Mexico_City:20260307T213000
DTSTAMP:20260423T160657
CREATED:20260203T103405Z
LAST-MODIFIED:20260305T224355Z
UID:38415-1772913600-1772919000@foroshakespeare.com
SUMMARY:Risas a granel
DESCRIPTION:Stand up Distrito Condesa 				\n				\n				\n				\n					Foro Principal				\n				\n				\n				\n									Viernes 15 de mayo\, 20:30hForo Principal / $300Entrada general Preventa $200 Compañía – MazTeatro La nueva ola de la comedia en México ya está aquí. Cinco comediantes con años de experiencia en hacer reír se reúnen en una sola función para presentar un show potente\, sin filtro y con estilos únicos. Voces frescas que están marcando el rumbo del stand-up actual.       								\n				\n				\n						\n					\n			\n						\n				\n									Elenco – Erik Zamora\, Isra Guzmán\, Marco Valencia\, Diego Gasca y Jahaziel Writhg Duración: 90 minutos aprox.Recomendada para adultos [+18]*jóvenes +15 acompañados de un adultos   								\n				\n				\n				\n							\n			\n		\n						\n				\n					\n		\n				\n			\n						\n				\n							\n			\n		\n						\n				\n				\n				\n									\n					\n						\n									Comprar
URL:https://foroshakespeare.com/evento/risas-a-granel-5/
LOCATION:Foro Shakespeare\, Zamora 7\, Colonia Condesa\, Cuauhtémoc\, Ciudad de México.\, México
CATEGORIES:Comedia,Evento,Monólogo,Stand up
ATTACH;FMTTYPE=image/jpeg:https://foroshakespeare.com/wp-content/uploads/2022/10/evento-risas-a-granel-2022-front-banner.jpg
END:VEVENT
BEGIN:VEVENT
DTSTART;TZID=America/Mexico_City:20260307T223000
DTEND;TZID=America/Mexico_City:20260307T235900
DTSTAMP:20260423T160657
CREATED:20260302T085051Z
LAST-MODIFIED:20260302T085051Z
UID:39002-1772922600-1772927940@foroshakespeare.com
SUMMARY:Random stand up comedy
DESCRIPTION:Stand up Distrito Condesa 				\n				\n				\n				\n					Foro Principal				\n				\n				\n				\n									Viernes 15 de mayo\, 20:30hForo Principal / $300Entrada general Preventa $200 Compañía – MazTeatro La nueva ola de la comedia en México ya está aquí. Cinco comediantes con años de experiencia en hacer reír se reúnen en una sola función para presentar un show potente\, sin filtro y con estilos únicos. Voces frescas que están marcando el rumbo del stand-up actual.       								\n				\n				\n						\n					\n			\n						\n				\n									Elenco – Erik Zamora\, Isra Guzmán\, Marco Valencia\, Diego Gasca y Jahaziel Writhg Duración: 90 minutos aprox.Recomendada para adultos [+18]*jóvenes +15 acompañados de un adultos   								\n				\n				\n				\n							\n			\n		\n						\n				\n					\n		\n				\n			\n						\n				\n							\n			\n		\n						\n				\n				\n				\n									\n					\n						\n									Comprar
URL:https://foroshakespeare.com/evento/random-stand-up-comedy/
LOCATION:Foro Shakespeare\, Zamora 7\, Colonia Condesa\, Cuauhtémoc\, Ciudad de México.\, México
CATEGORIES:Comedia,Evento,Impro,Monólogo,Stand up,Unipersonal
ATTACH;FMTTYPE=image/jpeg:https://foroshakespeare.com/wp-content/uploads/2026/02/Random-front-banner.jpg
END:VEVENT
BEGIN:VEVENT
DTSTART;TZID=America/Mexico_City:20260308T180000
DTEND;TZID=America/Mexico_City:20260308T191500
DTSTAMP:20260423T160657
CREATED:20260302T085104Z
LAST-MODIFIED:20260302T085122Z
UID:39003-1772992800-1772997300@foroshakespeare.com
SUMMARY:Random stand up comedy
DESCRIPTION:Stand up Distrito Condesa 				\n				\n				\n				\n					Foro Principal				\n				\n				\n				\n									Viernes 15 de mayo\, 20:30hForo Principal / $300Entrada general Preventa $200 Compañía – MazTeatro La nueva ola de la comedia en México ya está aquí. Cinco comediantes con años de experiencia en hacer reír se reúnen en una sola función para presentar un show potente\, sin filtro y con estilos únicos. Voces frescas que están marcando el rumbo del stand-up actual.       								\n				\n				\n						\n					\n			\n						\n				\n									Elenco – Erik Zamora\, Isra Guzmán\, Marco Valencia\, Diego Gasca y Jahaziel Writhg Duración: 90 minutos aprox.Recomendada para adultos [+18]*jóvenes +15 acompañados de un adultos   								\n				\n				\n				\n							\n			\n		\n						\n				\n					\n		\n				\n			\n						\n				\n							\n			\n		\n						\n				\n				\n				\n									\n					\n						\n									Comprar
URL:https://foroshakespeare.com/evento/random-stand-up-comedy-2/
LOCATION:Foro Shakespeare\, Zamora 7\, Colonia Condesa\, Cuauhtémoc\, Ciudad de México.\, México
CATEGORIES:Comedia,Evento,Impro,Monólogo,Stand up,Unipersonal
ATTACH;FMTTYPE=image/jpeg:https://foroshakespeare.com/wp-content/uploads/2026/02/Random-front-banner.jpg
END:VEVENT
BEGIN:VEVENT
DTSTART;TZID=America/Mexico_City:20260313T203000
DTEND;TZID=America/Mexico_City:20260313T220000
DTSTAMP:20260423T160657
CREATED:20260203T101937Z
LAST-MODIFIED:20260309T081023Z
UID:38401-1773433800-1773439200@foroshakespeare.com
SUMMARY:Los caballeros del stand up
DESCRIPTION:Stand up Distrito Condesa 				\n				\n				\n				\n					Foro Principal				\n				\n				\n				\n									Viernes 15 de mayo\, 20:30hForo Principal / $300Entrada general Preventa $200 Compañía – MazTeatro La nueva ola de la comedia en México ya está aquí. Cinco comediantes con años de experiencia en hacer reír se reúnen en una sola función para presentar un show potente\, sin filtro y con estilos únicos. Voces frescas que están marcando el rumbo del stand-up actual.       								\n				\n				\n						\n					\n			\n						\n				\n									Elenco – Erik Zamora\, Isra Guzmán\, Marco Valencia\, Diego Gasca y Jahaziel Writhg Duración: 90 minutos aprox.Recomendada para adultos [+18]*jóvenes +15 acompañados de un adultos   								\n				\n				\n				\n							\n			\n		\n						\n				\n					\n		\n				\n			\n						\n				\n							\n			\n		\n						\n				\n				\n				\n									\n					\n						\n									Comprar
URL:https://foroshakespeare.com/evento/los-caballeros-del-stand-up-6/
LOCATION:Foro Shakespeare\, Zamora 7\, Colonia Condesa\, Cuauhtémoc\, Ciudad de México.\, México
CATEGORIES:Comedia,Evento,Stand up
ATTACH;FMTTYPE=image/png:https://foroshakespeare.com/wp-content/uploads/2026/02/Front-Banner-1.png
END:VEVENT
BEGIN:VEVENT
DTSTART;TZID=America/Mexico_City:20260313T223000
DTEND;TZID=America/Mexico_City:20260313T235900
DTSTAMP:20260423T160657
CREATED:20260304T084140Z
LAST-MODIFIED:20260309T081046Z
UID:39102-1773441000-1773446340@foroshakespeare.com
SUMMARY:Perras de reserva
DESCRIPTION:Stand up Distrito Condesa 				\n				\n				\n				\n					Foro Principal				\n				\n				\n				\n									Viernes 15 de mayo\, 20:30hForo Principal / $300Entrada general Preventa $200 Compañía – MazTeatro La nueva ola de la comedia en México ya está aquí. Cinco comediantes con años de experiencia en hacer reír se reúnen en una sola función para presentar un show potente\, sin filtro y con estilos únicos. Voces frescas que están marcando el rumbo del stand-up actual.       								\n				\n				\n						\n					\n			\n						\n				\n									Elenco – Erik Zamora\, Isra Guzmán\, Marco Valencia\, Diego Gasca y Jahaziel Writhg Duración: 90 minutos aprox.Recomendada para adultos [+18]*jóvenes +15 acompañados de un adultos   								\n				\n				\n				\n							\n			\n		\n						\n				\n					\n		\n				\n			\n						\n				\n							\n			\n		\n						\n				\n				\n				\n									\n					\n						\n									Comprar
URL:https://foroshakespeare.com/evento/perras-de-reserva-2/
LOCATION:Foro Shakespeare\, Zamora 7\, Colonia Condesa\, Cuauhtémoc\, Ciudad de México.\, México
CATEGORIES:Evento,Stand up
ATTACH;FMTTYPE=image/jpeg:https://foroshakespeare.com/wp-content/uploads/2026/02/PERRASDERESERVA_FRONTBANNER-1.jpg
END:VEVENT
BEGIN:VEVENT
DTSTART;TZID=America/Mexico_City:20260314T200000
DTEND;TZID=America/Mexico_City:20260314T213000
DTSTAMP:20260423T160657
CREATED:20260203T103456Z
LAST-MODIFIED:20260309T081202Z
UID:38417-1773518400-1773523800@foroshakespeare.com
SUMMARY:Risas a granel
DESCRIPTION:Stand up Distrito Condesa 				\n				\n				\n				\n					Foro Principal				\n				\n				\n				\n									Viernes 15 de mayo\, 20:30hForo Principal / $300Entrada general Preventa $200 Compañía – MazTeatro La nueva ola de la comedia en México ya está aquí. Cinco comediantes con años de experiencia en hacer reír se reúnen en una sola función para presentar un show potente\, sin filtro y con estilos únicos. Voces frescas que están marcando el rumbo del stand-up actual.       								\n				\n				\n						\n					\n			\n						\n				\n									Elenco – Erik Zamora\, Isra Guzmán\, Marco Valencia\, Diego Gasca y Jahaziel Writhg Duración: 90 minutos aprox.Recomendada para adultos [+18]*jóvenes +15 acompañados de un adultos   								\n				\n				\n				\n							\n			\n		\n						\n				\n					\n		\n				\n			\n						\n				\n							\n			\n		\n						\n				\n				\n				\n									\n					\n						\n									Comprar
URL:https://foroshakespeare.com/evento/risas-a-granel-6/
LOCATION:Foro Shakespeare\, Zamora 7\, Colonia Condesa\, Cuauhtémoc\, Ciudad de México.\, México
CATEGORIES:Comedia,Evento,Monólogo,Stand up
ATTACH;FMTTYPE=image/jpeg:https://foroshakespeare.com/wp-content/uploads/2022/10/evento-risas-a-granel-2022-front-banner.jpg
END:VEVENT
BEGIN:VEVENT
DTSTART;TZID=America/Mexico_City:20260314T223000
DTEND;TZID=America/Mexico_City:20260314T235900
DTSTAMP:20260423T160657
CREATED:20260302T085151Z
LAST-MODIFIED:20260309T081230Z
UID:39004-1773527400-1773532740@foroshakespeare.com
SUMMARY:Random stand up comedy
DESCRIPTION:Stand up Distrito Condesa 				\n				\n				\n				\n					Foro Principal				\n				\n				\n				\n									Viernes 15 de mayo\, 20:30hForo Principal / $300Entrada general Preventa $200 Compañía – MazTeatro La nueva ola de la comedia en México ya está aquí. Cinco comediantes con años de experiencia en hacer reír se reúnen en una sola función para presentar un show potente\, sin filtro y con estilos únicos. Voces frescas que están marcando el rumbo del stand-up actual.       								\n				\n				\n						\n					\n			\n						\n				\n									Elenco – Erik Zamora\, Isra Guzmán\, Marco Valencia\, Diego Gasca y Jahaziel Writhg Duración: 90 minutos aprox.Recomendada para adultos [+18]*jóvenes +15 acompañados de un adultos   								\n				\n				\n				\n							\n			\n		\n						\n				\n					\n		\n				\n			\n						\n				\n							\n			\n		\n						\n				\n				\n				\n									\n					\n						\n									Comprar
URL:https://foroshakespeare.com/evento/random-stand-up-comedy-3/
LOCATION:Foro Shakespeare\, Zamora 7\, Colonia Condesa\, Cuauhtémoc\, Ciudad de México.\, México
CATEGORIES:Comedia,Evento,Impro,Monólogo,Stand up,Unipersonal
ATTACH;FMTTYPE=image/jpeg:https://foroshakespeare.com/wp-content/uploads/2026/02/Random-front-banner.jpg
END:VEVENT
BEGIN:VEVENT
DTSTART;TZID=America/Mexico_City:20260315T180000
DTEND;TZID=America/Mexico_City:20260315T191500
DTSTAMP:20260423T160657
CREATED:20260302T085210Z
LAST-MODIFIED:20260309T081245Z
UID:39005-1773597600-1773602100@foroshakespeare.com
SUMMARY:Random stand up comedy
DESCRIPTION:Stand up Distrito Condesa 				\n				\n				\n				\n					Foro Principal				\n				\n				\n				\n									Viernes 15 de mayo\, 20:30hForo Principal / $300Entrada general Preventa $200 Compañía – MazTeatro La nueva ola de la comedia en México ya está aquí. Cinco comediantes con años de experiencia en hacer reír se reúnen en una sola función para presentar un show potente\, sin filtro y con estilos únicos. Voces frescas que están marcando el rumbo del stand-up actual.       								\n				\n				\n						\n					\n			\n						\n				\n									Elenco – Erik Zamora\, Isra Guzmán\, Marco Valencia\, Diego Gasca y Jahaziel Writhg Duración: 90 minutos aprox.Recomendada para adultos [+18]*jóvenes +15 acompañados de un adultos   								\n				\n				\n				\n							\n			\n		\n						\n				\n					\n		\n				\n			\n						\n				\n							\n			\n		\n						\n				\n				\n				\n									\n					\n						\n									Comprar
URL:https://foroshakespeare.com/evento/random-stand-up-comedy-4/
LOCATION:Foro Shakespeare\, Zamora 7\, Colonia Condesa\, Cuauhtémoc\, Ciudad de México.\, México
CATEGORIES:Comedia,Evento,Impro,Monólogo,Stand up,Unipersonal
ATTACH;FMTTYPE=image/jpeg:https://foroshakespeare.com/wp-content/uploads/2026/02/Random-front-banner.jpg
END:VEVENT
BEGIN:VEVENT
DTSTART;TZID=America/Mexico_City:20260321T200000
DTEND;TZID=America/Mexico_City:20260321T213000
DTSTAMP:20260423T160657
CREATED:20260203T103536Z
LAST-MODIFIED:20260320T001255Z
UID:38419-1774123200-1774128600@foroshakespeare.com
SUMMARY:Risas a granel
DESCRIPTION:Stand up Distrito Condesa 				\n				\n				\n				\n					Foro Principal				\n				\n				\n				\n									Viernes 15 de mayo\, 20:30hForo Principal / $300Entrada general Preventa $200 Compañía – MazTeatro La nueva ola de la comedia en México ya está aquí. Cinco comediantes con años de experiencia en hacer reír se reúnen en una sola función para presentar un show potente\, sin filtro y con estilos únicos. Voces frescas que están marcando el rumbo del stand-up actual.       								\n				\n				\n						\n					\n			\n						\n				\n									Elenco – Erik Zamora\, Isra Guzmán\, Marco Valencia\, Diego Gasca y Jahaziel Writhg Duración: 90 minutos aprox.Recomendada para adultos [+18]*jóvenes +15 acompañados de un adultos   								\n				\n				\n				\n							\n			\n		\n						\n				\n					\n		\n				\n			\n						\n				\n							\n			\n		\n						\n				\n				\n				\n									\n					\n						\n									Comprar
URL:https://foroshakespeare.com/evento/risas-a-granel-7/
LOCATION:Foro Shakespeare\, Zamora 7\, Colonia Condesa\, Cuauhtémoc\, Ciudad de México.\, México
CATEGORIES:Comedia,Evento,Monólogo,Stand up
ATTACH;FMTTYPE=image/jpeg:https://foroshakespeare.com/wp-content/uploads/2022/10/evento-risas-a-granel-2022-front-banner.jpg
END:VEVENT
BEGIN:VEVENT
DTSTART;TZID=America/Mexico_City:20260321T223000
DTEND;TZID=America/Mexico_City:20260321T235900
DTSTAMP:20260423T160657
CREATED:20260302T085309Z
LAST-MODIFIED:20260321T144951Z
UID:39010-1774132200-1774137540@foroshakespeare.com
SUMMARY:Random stand up comedy
DESCRIPTION:Stand up Distrito Condesa 				\n				\n				\n				\n					Foro Principal				\n				\n				\n				\n									Viernes 15 de mayo\, 20:30hForo Principal / $300Entrada general Preventa $200 Compañía – MazTeatro La nueva ola de la comedia en México ya está aquí. Cinco comediantes con años de experiencia en hacer reír se reúnen en una sola función para presentar un show potente\, sin filtro y con estilos únicos. Voces frescas que están marcando el rumbo del stand-up actual.       								\n				\n				\n						\n					\n			\n						\n				\n									Elenco – Erik Zamora\, Isra Guzmán\, Marco Valencia\, Diego Gasca y Jahaziel Writhg Duración: 90 minutos aprox.Recomendada para adultos [+18]*jóvenes +15 acompañados de un adultos   								\n				\n				\n				\n							\n			\n		\n						\n				\n					\n		\n				\n			\n						\n				\n							\n			\n		\n						\n				\n				\n				\n									\n					\n						\n									Comprar
URL:https://foroshakespeare.com/evento/random-stand-up-comedy-5/
LOCATION:Foro Shakespeare\, Zamora 7\, Colonia Condesa\, Cuauhtémoc\, Ciudad de México.\, México
CATEGORIES:Comedia,Evento,Impro,Monólogo,Stand up,Unipersonal
ATTACH;FMTTYPE=image/jpeg:https://foroshakespeare.com/wp-content/uploads/2026/02/Random-front-banner.jpg
END:VEVENT
BEGIN:VEVENT
DTSTART;TZID=America/Mexico_City:20260328T200000
DTEND;TZID=America/Mexico_City:20260328T213000
DTSTAMP:20260423T160657
CREATED:20260203T103636Z
LAST-MODIFIED:20260327T195530Z
UID:38421-1774728000-1774733400@foroshakespeare.com
SUMMARY:Risas a granel
DESCRIPTION:Stand up Distrito Condesa 				\n				\n				\n				\n					Foro Principal				\n				\n				\n				\n									Viernes 15 de mayo\, 20:30hForo Principal / $300Entrada general Preventa $200 Compañía – MazTeatro La nueva ola de la comedia en México ya está aquí. Cinco comediantes con años de experiencia en hacer reír se reúnen en una sola función para presentar un show potente\, sin filtro y con estilos únicos. Voces frescas que están marcando el rumbo del stand-up actual.       								\n				\n				\n						\n					\n			\n						\n				\n									Elenco – Erik Zamora\, Isra Guzmán\, Marco Valencia\, Diego Gasca y Jahaziel Writhg Duración: 90 minutos aprox.Recomendada para adultos [+18]*jóvenes +15 acompañados de un adultos   								\n				\n				\n				\n							\n			\n		\n						\n				\n					\n		\n				\n			\n						\n				\n							\n			\n		\n						\n				\n				\n				\n									\n					\n						\n									Comprar
URL:https://foroshakespeare.com/evento/risas-a-granel-8/
LOCATION:Foro Shakespeare\, Zamora 7\, Colonia Condesa\, Cuauhtémoc\, Ciudad de México.\, México
CATEGORIES:Comedia,Evento,Monólogo,Stand up
ATTACH;FMTTYPE=image/jpeg:https://foroshakespeare.com/wp-content/uploads/2022/10/evento-risas-a-granel-2022-front-banner.jpg
END:VEVENT
BEGIN:VEVENT
DTSTART;TZID=America/Mexico_City:20260328T223000
DTEND;TZID=America/Mexico_City:20260328T235900
DTSTAMP:20260423T160657
CREATED:20260302T085341Z
LAST-MODIFIED:20260327T195619Z
UID:39012-1774737000-1774742340@foroshakespeare.com
SUMMARY:Random stand up comedy
DESCRIPTION:Stand up Distrito Condesa 				\n				\n				\n				\n					Foro Principal				\n				\n				\n				\n									Viernes 15 de mayo\, 20:30hForo Principal / $300Entrada general Preventa $200 Compañía – MazTeatro La nueva ola de la comedia en México ya está aquí. Cinco comediantes con años de experiencia en hacer reír se reúnen en una sola función para presentar un show potente\, sin filtro y con estilos únicos. Voces frescas que están marcando el rumbo del stand-up actual.       								\n				\n				\n						\n					\n			\n						\n				\n									Elenco – Erik Zamora\, Isra Guzmán\, Marco Valencia\, Diego Gasca y Jahaziel Writhg Duración: 90 minutos aprox.Recomendada para adultos [+18]*jóvenes +15 acompañados de un adultos   								\n				\n				\n				\n							\n			\n		\n						\n				\n					\n		\n				\n			\n						\n				\n							\n			\n		\n						\n				\n				\n				\n									\n					\n						\n									Comprar
URL:https://foroshakespeare.com/evento/random-stand-up-comedy-7/
LOCATION:Foro Shakespeare\, Zamora 7\, Colonia Condesa\, Cuauhtémoc\, Ciudad de México.\, México
CATEGORIES:Comedia,Evento,Monólogo,Stand up,Unipersonal
ATTACH;FMTTYPE=image/jpeg:https://foroshakespeare.com/wp-content/uploads/2026/02/Random-front-banner.jpg
END:VEVENT
END:VCALENDAR