BEGIN:VCALENDAR
VERSION:2.0
PRODID:-//Foro Shakespeare - ECPv6.15.16.1//NONSGML v1.0//EN
CALSCALE:GREGORIAN
METHOD:PUBLISH
X-ORIGINAL-URL:https://foroshakespeare.com
X-WR-CALDESC:Eventos para Foro Shakespeare
REFRESH-INTERVAL;VALUE=DURATION:PT1H
X-Robots-Tag:noindex
X-PUBLISHED-TTL:PT1H
BEGIN:VTIMEZONE
TZID:America/Mexico_City
BEGIN:STANDARD
TZOFFSETFROM:-0600
TZOFFSETTO:-0600
TZNAME:CST
DTSTART:20250101T000000
END:STANDARD
END:VTIMEZONE
BEGIN:VEVENT
DTSTART;TZID=America/Mexico_City:20260515T203000
DTEND;TZID=America/Mexico_City:20260515T220000
DTSTAMP:20260423T160723
CREATED:20260331T055832Z
LAST-MODIFIED:20260331T055832Z
UID:39643-1778877000-1778882400@foroshakespeare.com
SUMMARY:Stand up Distrito Condesa
DESCRIPTION:Stand up Distrito Condesa 				\n				\n				\n				\n					Foro Principal				\n				\n				\n				\n									Viernes 15 de mayo\, 20:30hForo Principal / $300Entrada general Preventa $200 Compañía – MazTeatro La nueva ola de la comedia en México ya está aquí. Cinco comediantes con años de experiencia en hacer reír se reúnen en una sola función para presentar un show potente\, sin filtro y con estilos únicos. Voces frescas que están marcando el rumbo del stand-up actual.       								\n				\n				\n						\n					\n			\n						\n				\n									Elenco – Erik Zamora\, Isra Guzmán\, Marco Valencia\, Diego Gasca y Jahaziel Writhg Duración: 90 minutos aprox.Recomendada para adultos [+18]*jóvenes +15 acompañados de un adultos   								\n				\n				\n				\n							\n			\n		\n						\n				\n					\n		\n				\n			\n						\n				\n							\n			\n		\n						\n				\n				\n				\n									\n					\n						\n									Comprar
URL:https://foroshakespeare.com/evento/stand-up-distrito-condesa-13/
LOCATION:Foro Shakespeare\, Zamora 7\, Colonia Condesa\, Cuauhtémoc\, Ciudad de México.\, México
CATEGORIES:Stand up
ATTACH;FMTTYPE=image/jpeg:https://foroshakespeare.com/wp-content/uploads/2025/12/FrontBannerDistritoCondesa.jpeg
END:VEVENT
BEGIN:VEVENT
DTSTART;TZID=America/Mexico_City:20260515T203000
DTEND;TZID=America/Mexico_City:20260515T220000
DTSTAMP:20260423T160723
CREATED:20260421T233412Z
LAST-MODIFIED:20260421T235101Z
UID:39922-1778877000-1778882400@foroshakespeare.com
SUMMARY:Stand up Distrito Condesa - Foro Principal
DESCRIPTION:Stand up Distrito Condesa 				\n				\n				\n				\n					Foro Principal				\n				\n				\n				\n									Viernes 15 de mayo\, 20:30hForo Principal / $300Entrada general Preventa $200 Compañía – MazTeatro La nueva ola de la comedia en México ya está aquí. Cinco comediantes con años de experiencia en hacer reír se reúnen en una sola función para presentar un show potente\, sin filtro y con estilos únicos. Voces frescas que están marcando el rumbo del stand-up actual.       								\n				\n				\n						\n					\n			\n						\n				\n									Elenco – Erik Zamora\, Isra Guzmán\, Marco Valencia\, Diego Gasca y Jahaziel Writhg Duración: 90 minutos aprox.Recomendada para adultos [+18]*jóvenes +15 acompañados de un adultos   								\n				\n				\n				\n							\n			\n		\n						\n				\n					\n		\n				\n			\n						\n				\n							\n			\n		\n						\n				\n				\n				\n									\n					\n						\n									Comprar
URL:https://foroshakespeare.com/evento/stand-up-distrito-condesa-foro-principal/
LOCATION:Foro Shakespeare\, Zamora 7\, Colonia Condesa\, Cuauhtémoc\, Ciudad de México.\, México
CATEGORIES:Comedia,Evento,Stand up
ATTACH;FMTTYPE=image/png:https://foroshakespeare.com/wp-content/uploads/2026/04/DistritoCondesa15DeMayo_frontbanner-1-1.png
END:VEVENT
BEGIN:VEVENT
DTSTART;TZID=America/Mexico_City:20260515T223000
DTEND;TZID=America/Mexico_City:20260515T235900
DTSTAMP:20260423T160723
CREATED:20260330T181846Z
LAST-MODIFIED:20260330T181846Z
UID:39549-1778884200-1778889540@foroshakespeare.com
SUMMARY:OPEN MIC / El Show
DESCRIPTION:Stand up Distrito Condesa 				\n				\n				\n				\n					Foro Principal				\n				\n				\n				\n									Viernes 15 de mayo\, 20:30hForo Principal / $300Entrada general Preventa $200 Compañía – MazTeatro La nueva ola de la comedia en México ya está aquí. Cinco comediantes con años de experiencia en hacer reír se reúnen en una sola función para presentar un show potente\, sin filtro y con estilos únicos. Voces frescas que están marcando el rumbo del stand-up actual.       								\n				\n				\n						\n					\n			\n						\n				\n									Elenco – Erik Zamora\, Isra Guzmán\, Marco Valencia\, Diego Gasca y Jahaziel Writhg Duración: 90 minutos aprox.Recomendada para adultos [+18]*jóvenes +15 acompañados de un adultos   								\n				\n				\n				\n							\n			\n		\n						\n				\n					\n		\n				\n			\n						\n				\n							\n			\n		\n						\n				\n				\n				\n									\n					\n						\n									Comprar
URL:https://foroshakespeare.com/evento/open-mic-el-show-6/
LOCATION:Foro Shakespeare\, Zamora 7\, Colonia Condesa\, Cuauhtémoc\, Ciudad de México.\, México
CATEGORIES:Comedia,Stand up
ATTACH;FMTTYPE=image/jpeg:https://foroshakespeare.com/wp-content/uploads/2025/01/Front-Banner-Open-Mic-El-Show.jpg
END:VEVENT
BEGIN:VEVENT
DTSTART;TZID=America/Mexico_City:20260515T223000
DTEND;TZID=America/Mexico_City:20260515T235900
DTSTAMP:20260423T160723
CREATED:20260331T055833Z
LAST-MODIFIED:20260331T055833Z
UID:39644-1778884200-1778889540@foroshakespeare.com
SUMMARY:Stand up Distrito Condesa
DESCRIPTION:Stand up Distrito Condesa 				\n				\n				\n				\n					Foro Principal				\n				\n				\n				\n									Viernes 15 de mayo\, 20:30hForo Principal / $300Entrada general Preventa $200 Compañía – MazTeatro La nueva ola de la comedia en México ya está aquí. Cinco comediantes con años de experiencia en hacer reír se reúnen en una sola función para presentar un show potente\, sin filtro y con estilos únicos. Voces frescas que están marcando el rumbo del stand-up actual.       								\n				\n				\n						\n					\n			\n						\n				\n									Elenco – Erik Zamora\, Isra Guzmán\, Marco Valencia\, Diego Gasca y Jahaziel Writhg Duración: 90 minutos aprox.Recomendada para adultos [+18]*jóvenes +15 acompañados de un adultos   								\n				\n				\n				\n							\n			\n		\n						\n				\n					\n		\n				\n			\n						\n				\n							\n			\n		\n						\n				\n				\n				\n									\n					\n						\n									Comprar
URL:https://foroshakespeare.com/evento/stand-up-distrito-condesa-14/
LOCATION:Foro Shakespeare\, Zamora 7\, Colonia Condesa\, Cuauhtémoc\, Ciudad de México.\, México
CATEGORIES:Stand up
ATTACH;FMTTYPE=image/jpeg:https://foroshakespeare.com/wp-content/uploads/2025/12/FrontBannerDistritoCondesa.jpeg
END:VEVENT
END:VCALENDAR