BEGIN:VCALENDAR
VERSION:2.0
PRODID:-//Foro Shakespeare - ECPv6.15.16.1//NONSGML v1.0//EN
CALSCALE:GREGORIAN
METHOD:PUBLISH
X-ORIGINAL-URL:https://foroshakespeare.com
X-WR-CALDESC:Eventos para Foro Shakespeare
REFRESH-INTERVAL;VALUE=DURATION:PT1H
X-Robots-Tag:noindex
X-PUBLISHED-TTL:PT1H
BEGIN:VTIMEZONE
TZID:America/Mexico_City
BEGIN:STANDARD
TZOFFSETFROM:-0600
TZOFFSETTO:-0600
TZNAME:CST
DTSTART:20250101T000000
END:STANDARD
END:VTIMEZONE
BEGIN:VEVENT
DTSTART;TZID=America/Mexico_City:20260423T200000
DTEND;TZID=America/Mexico_City:20260423T213000
DTSTAMP:20260423T131824
CREATED:20260409T111706Z
LAST-MODIFIED:20260409T111706Z
UID:39788-1776974400-1776979800@foroshakespeare.com
SUMMARY:Malas amistades
DESCRIPTION:Stand up Distrito Condesa 				\n				\n				\n				\n					Foro Principal				\n				\n				\n				\n									Viernes 15 de mayo\, 20:30hForo Principal / $300Entrada general Preventa $200 Compañía – MazTeatro La nueva ola de la comedia en México ya está aquí. Cinco comediantes con años de experiencia en hacer reír se reúnen en una sola función para presentar un show potente\, sin filtro y con estilos únicos. Voces frescas que están marcando el rumbo del stand-up actual.       								\n				\n				\n						\n					\n			\n						\n				\n									Elenco – Erik Zamora\, Isra Guzmán\, Marco Valencia\, Diego Gasca y Jahaziel Writhg Duración: 90 minutos aprox.Recomendada para adultos [+18]*jóvenes +15 acompañados de un adultos   								\n				\n				\n				\n							\n			\n		\n						\n				\n					\n		\n				\n			\n						\n				\n							\n			\n		\n						\n				\n				\n				\n									\n					\n						\n									Comprar
URL:https://foroshakespeare.com/evento/malas-amistades-3/
LOCATION:Foro Shakespeare\, Zamora 7\, Colonia Condesa\, Cuauhtémoc\, Ciudad de México.\, México
CATEGORIES:Comedia,Monólogo,Stand up
ATTACH;FMTTYPE=image/jpeg:https://foroshakespeare.com/wp-content/uploads/2025/11/malas-amistades-front-banner-2026-2.jpg
END:VEVENT
BEGIN:VEVENT
DTSTART;TZID=America/Mexico_City:20260423T203000
DTEND;TZID=America/Mexico_City:20260423T220000
DTSTAMP:20260423T131824
CREATED:20260409T112419Z
LAST-MODIFIED:20260409T112419Z
UID:39806-1776976200-1776981600@foroshakespeare.com
SUMMARY:Stand up Bar Comedy
DESCRIPTION:Stand up Distrito Condesa 				\n				\n				\n				\n					Foro Principal				\n				\n				\n				\n									Viernes 15 de mayo\, 20:30hForo Principal / $300Entrada general Preventa $200 Compañía – MazTeatro La nueva ola de la comedia en México ya está aquí. Cinco comediantes con años de experiencia en hacer reír se reúnen en una sola función para presentar un show potente\, sin filtro y con estilos únicos. Voces frescas que están marcando el rumbo del stand-up actual.       								\n				\n				\n						\n					\n			\n						\n				\n									Elenco – Erik Zamora\, Isra Guzmán\, Marco Valencia\, Diego Gasca y Jahaziel Writhg Duración: 90 minutos aprox.Recomendada para adultos [+18]*jóvenes +15 acompañados de un adultos   								\n				\n				\n				\n							\n			\n		\n						\n				\n					\n		\n				\n			\n						\n				\n							\n			\n		\n						\n				\n				\n				\n									\n					\n						\n									Comprar
URL:https://foroshakespeare.com/evento/stand-up-bar-comedy-11/
LOCATION:Foro Shakespeare\, Zamora 7\, Colonia Condesa\, Cuauhtémoc\, Ciudad de México.\, México
CATEGORIES:Comedia,Monólogo,Stand up
ATTACH;FMTTYPE=image/jpeg:https://foroshakespeare.com/wp-content/uploads/2023/02/evento-stand-up-bar-comedy-front-banner.jpg
END:VEVENT
BEGIN:VEVENT
DTSTART;TZID=America/Mexico_City:20260424T203000
DTEND;TZID=America/Mexico_City:20260424T220000
DTSTAMP:20260423T131824
CREATED:20260330T182530Z
LAST-MODIFIED:20260330T182530Z
UID:39587-1777062600-1777068000@foroshakespeare.com
SUMMARY:Risa & Tonic
DESCRIPTION:Stand up Distrito Condesa 				\n				\n				\n				\n					Foro Principal				\n				\n				\n				\n									Viernes 15 de mayo\, 20:30hForo Principal / $300Entrada general Preventa $200 Compañía – MazTeatro La nueva ola de la comedia en México ya está aquí. Cinco comediantes con años de experiencia en hacer reír se reúnen en una sola función para presentar un show potente\, sin filtro y con estilos únicos. Voces frescas que están marcando el rumbo del stand-up actual.       								\n				\n				\n						\n					\n			\n						\n				\n									Elenco – Erik Zamora\, Isra Guzmán\, Marco Valencia\, Diego Gasca y Jahaziel Writhg Duración: 90 minutos aprox.Recomendada para adultos [+18]*jóvenes +15 acompañados de un adultos   								\n				\n				\n				\n							\n			\n		\n						\n				\n					\n		\n				\n			\n						\n				\n							\n			\n		\n						\n				\n				\n				\n									\n					\n						\n									Comprar
URL:https://foroshakespeare.com/evento/risa-tonic-11/
LOCATION:Foro Shakespeare\, Zamora 7\, Colonia Condesa\, Cuauhtémoc\, Ciudad de México.\, México
CATEGORIES:Comedia,Monólogo,Stand up
ATTACH;FMTTYPE=image/jpeg:https://foroshakespeare.com/wp-content/uploads/2026/03/evento_risaandtonic_frontbanner-2.jpg
END:VEVENT
BEGIN:VEVENT
DTSTART;TZID=America/Mexico_City:20260424T203000
DTEND;TZID=America/Mexico_City:20260424T220000
DTSTAMP:20260423T131824
CREATED:20260331T055654Z
LAST-MODIFIED:20260331T055654Z
UID:39631-1777062600-1777068000@foroshakespeare.com
SUMMARY:Stand up Distrito Condesa
DESCRIPTION:Stand up Distrito Condesa 				\n				\n				\n				\n					Foro Principal				\n				\n				\n				\n									Viernes 15 de mayo\, 20:30hForo Principal / $300Entrada general Preventa $200 Compañía – MazTeatro La nueva ola de la comedia en México ya está aquí. Cinco comediantes con años de experiencia en hacer reír se reúnen en una sola función para presentar un show potente\, sin filtro y con estilos únicos. Voces frescas que están marcando el rumbo del stand-up actual.       								\n				\n				\n						\n					\n			\n						\n				\n									Elenco – Erik Zamora\, Isra Guzmán\, Marco Valencia\, Diego Gasca y Jahaziel Writhg Duración: 90 minutos aprox.Recomendada para adultos [+18]*jóvenes +15 acompañados de un adultos   								\n				\n				\n				\n							\n			\n		\n						\n				\n					\n		\n				\n			\n						\n				\n							\n			\n		\n						\n				\n				\n				\n									\n					\n						\n									Comprar
URL:https://foroshakespeare.com/evento/stand-up-distrito-condesa-5/
LOCATION:Foro Shakespeare\, Zamora 7\, Colonia Condesa\, Cuauhtémoc\, Ciudad de México.\, México
CATEGORIES:Stand up
ATTACH;FMTTYPE=image/jpeg:https://foroshakespeare.com/wp-content/uploads/2025/12/FrontBannerDistritoCondesa.jpeg
END:VEVENT
BEGIN:VEVENT
DTSTART;TZID=America/Mexico_City:20260424T203000
DTEND;TZID=America/Mexico_City:20260424T220000
DTSTAMP:20260423T131824
CREATED:20260409T112445Z
LAST-MODIFIED:20260409T112445Z
UID:39807-1777062600-1777068000@foroshakespeare.com
SUMMARY:Stand up Bar Comedy
DESCRIPTION:Stand up Distrito Condesa 				\n				\n				\n				\n					Foro Principal				\n				\n				\n				\n									Viernes 15 de mayo\, 20:30hForo Principal / $300Entrada general Preventa $200 Compañía – MazTeatro La nueva ola de la comedia en México ya está aquí. Cinco comediantes con años de experiencia en hacer reír se reúnen en una sola función para presentar un show potente\, sin filtro y con estilos únicos. Voces frescas que están marcando el rumbo del stand-up actual.       								\n				\n				\n						\n					\n			\n						\n				\n									Elenco – Erik Zamora\, Isra Guzmán\, Marco Valencia\, Diego Gasca y Jahaziel Writhg Duración: 90 minutos aprox.Recomendada para adultos [+18]*jóvenes +15 acompañados de un adultos   								\n				\n				\n				\n							\n			\n		\n						\n				\n					\n		\n				\n			\n						\n				\n							\n			\n		\n						\n				\n				\n				\n									\n					\n						\n									Comprar
URL:https://foroshakespeare.com/evento/stand-up-bar-comedy-12/
LOCATION:Foro Shakespeare\, Zamora 7\, Colonia Condesa\, Cuauhtémoc\, Ciudad de México.\, México
CATEGORIES:Comedia,Monólogo,Stand up
ATTACH;FMTTYPE=image/jpeg:https://foroshakespeare.com/wp-content/uploads/2023/02/evento-stand-up-bar-comedy-front-banner.jpg
END:VEVENT
BEGIN:VEVENT
DTSTART;TZID=America/Mexico_City:20260424T223000
DTEND;TZID=America/Mexico_City:20260424T235900
DTSTAMP:20260423T131824
CREATED:20260330T181735Z
LAST-MODIFIED:20260330T181735Z
UID:39544-1777069800-1777075140@foroshakespeare.com
SUMMARY:OPEN MIC / El Show
DESCRIPTION:Stand up Distrito Condesa 				\n				\n				\n				\n					Foro Principal				\n				\n				\n				\n									Viernes 15 de mayo\, 20:30hForo Principal / $300Entrada general Preventa $200 Compañía – MazTeatro La nueva ola de la comedia en México ya está aquí. Cinco comediantes con años de experiencia en hacer reír se reúnen en una sola función para presentar un show potente\, sin filtro y con estilos únicos. Voces frescas que están marcando el rumbo del stand-up actual.       								\n				\n				\n						\n					\n			\n						\n				\n									Elenco – Erik Zamora\, Isra Guzmán\, Marco Valencia\, Diego Gasca y Jahaziel Writhg Duración: 90 minutos aprox.Recomendada para adultos [+18]*jóvenes +15 acompañados de un adultos   								\n				\n				\n				\n							\n			\n		\n						\n				\n					\n		\n				\n			\n						\n				\n							\n			\n		\n						\n				\n				\n				\n									\n					\n						\n									Comprar
URL:https://foroshakespeare.com/evento/open-mic-el-show-4/
LOCATION:Foro Shakespeare\, Zamora 7\, Colonia Condesa\, Cuauhtémoc\, Ciudad de México.\, México
CATEGORIES:Comedia,Stand up
ATTACH;FMTTYPE=image/jpeg:https://foroshakespeare.com/wp-content/uploads/2025/01/Front-Banner-Open-Mic-El-Show.jpg
END:VEVENT
BEGIN:VEVENT
DTSTART;TZID=America/Mexico_City:20260424T223000
DTEND;TZID=America/Mexico_City:20260424T235900
DTSTAMP:20260423T131824
CREATED:20260330T182531Z
LAST-MODIFIED:20260330T182531Z
UID:39588-1777069800-1777075140@foroshakespeare.com
SUMMARY:Risa & Tonic
DESCRIPTION:Stand up Distrito Condesa 				\n				\n				\n				\n					Foro Principal				\n				\n				\n				\n									Viernes 15 de mayo\, 20:30hForo Principal / $300Entrada general Preventa $200 Compañía – MazTeatro La nueva ola de la comedia en México ya está aquí. Cinco comediantes con años de experiencia en hacer reír se reúnen en una sola función para presentar un show potente\, sin filtro y con estilos únicos. Voces frescas que están marcando el rumbo del stand-up actual.       								\n				\n				\n						\n					\n			\n						\n				\n									Elenco – Erik Zamora\, Isra Guzmán\, Marco Valencia\, Diego Gasca y Jahaziel Writhg Duración: 90 minutos aprox.Recomendada para adultos [+18]*jóvenes +15 acompañados de un adultos   								\n				\n				\n				\n							\n			\n		\n						\n				\n					\n		\n				\n			\n						\n				\n							\n			\n		\n						\n				\n				\n				\n									\n					\n						\n									Comprar
URL:https://foroshakespeare.com/evento/risa-tonic-12/
LOCATION:Foro Shakespeare\, Zamora 7\, Colonia Condesa\, Cuauhtémoc\, Ciudad de México.\, México
CATEGORIES:Comedia,Monólogo,Stand up
ATTACH;FMTTYPE=image/jpeg:https://foroshakespeare.com/wp-content/uploads/2026/03/evento_risaandtonic_frontbanner-2.jpg
END:VEVENT
BEGIN:VEVENT
DTSTART;TZID=America/Mexico_City:20260424T223000
DTEND;TZID=America/Mexico_City:20260424T235900
DTSTAMP:20260423T131824
CREATED:20260331T055655Z
LAST-MODIFIED:20260331T055655Z
UID:39632-1777069800-1777075140@foroshakespeare.com
SUMMARY:Stand up Distrito Condesa
DESCRIPTION:Stand up Distrito Condesa 				\n				\n				\n				\n					Foro Principal				\n				\n				\n				\n									Viernes 15 de mayo\, 20:30hForo Principal / $300Entrada general Preventa $200 Compañía – MazTeatro La nueva ola de la comedia en México ya está aquí. Cinco comediantes con años de experiencia en hacer reír se reúnen en una sola función para presentar un show potente\, sin filtro y con estilos únicos. Voces frescas que están marcando el rumbo del stand-up actual.       								\n				\n				\n						\n					\n			\n						\n				\n									Elenco – Erik Zamora\, Isra Guzmán\, Marco Valencia\, Diego Gasca y Jahaziel Writhg Duración: 90 minutos aprox.Recomendada para adultos [+18]*jóvenes +15 acompañados de un adultos   								\n				\n				\n				\n							\n			\n		\n						\n				\n					\n		\n				\n			\n						\n				\n							\n			\n		\n						\n				\n				\n				\n									\n					\n						\n									Comprar
URL:https://foroshakespeare.com/evento/stand-up-distrito-condesa-6/
LOCATION:Foro Shakespeare\, Zamora 7\, Colonia Condesa\, Cuauhtémoc\, Ciudad de México.\, México
CATEGORIES:Stand up
ATTACH;FMTTYPE=image/jpeg:https://foroshakespeare.com/wp-content/uploads/2025/12/FrontBannerDistritoCondesa.jpeg
END:VEVENT
BEGIN:VEVENT
DTSTART;TZID=America/Mexico_City:20260424T223000
DTEND;TZID=America/Mexico_City:20260424T235900
DTSTAMP:20260423T131824
CREATED:20260409T112504Z
LAST-MODIFIED:20260409T112504Z
UID:39808-1777069800-1777075140@foroshakespeare.com
SUMMARY:Stand up Bar Comedy
DESCRIPTION:Stand up Distrito Condesa 				\n				\n				\n				\n					Foro Principal				\n				\n				\n				\n									Viernes 15 de mayo\, 20:30hForo Principal / $300Entrada general Preventa $200 Compañía – MazTeatro La nueva ola de la comedia en México ya está aquí. Cinco comediantes con años de experiencia en hacer reír se reúnen en una sola función para presentar un show potente\, sin filtro y con estilos únicos. Voces frescas que están marcando el rumbo del stand-up actual.       								\n				\n				\n						\n					\n			\n						\n				\n									Elenco – Erik Zamora\, Isra Guzmán\, Marco Valencia\, Diego Gasca y Jahaziel Writhg Duración: 90 minutos aprox.Recomendada para adultos [+18]*jóvenes +15 acompañados de un adultos   								\n				\n				\n				\n							\n			\n		\n						\n				\n					\n		\n				\n			\n						\n				\n							\n			\n		\n						\n				\n				\n				\n									\n					\n						\n									Comprar
URL:https://foroshakespeare.com/evento/stand-up-bar-comedy-13/
LOCATION:Foro Shakespeare\, Zamora 7\, Colonia Condesa\, Cuauhtémoc\, Ciudad de México.\, México
CATEGORIES:Comedia,Monólogo,Stand up
ATTACH;FMTTYPE=image/jpeg:https://foroshakespeare.com/wp-content/uploads/2023/02/evento-stand-up-bar-comedy-front-banner.jpg
END:VEVENT
BEGIN:VEVENT
DTSTART;TZID=America/Mexico_City:20260425T200000
DTEND;TZID=America/Mexico_City:20260425T213000
DTSTAMP:20260423T131824
CREATED:20260203T104005Z
LAST-MODIFIED:20260203T104005Z
UID:38429-1777147200-1777152600@foroshakespeare.com
SUMMARY:Risas a granel
DESCRIPTION:Stand up Distrito Condesa 				\n				\n				\n				\n					Foro Principal				\n				\n				\n				\n									Viernes 15 de mayo\, 20:30hForo Principal / $300Entrada general Preventa $200 Compañía – MazTeatro La nueva ola de la comedia en México ya está aquí. Cinco comediantes con años de experiencia en hacer reír se reúnen en una sola función para presentar un show potente\, sin filtro y con estilos únicos. Voces frescas que están marcando el rumbo del stand-up actual.       								\n				\n				\n						\n					\n			\n						\n				\n									Elenco – Erik Zamora\, Isra Guzmán\, Marco Valencia\, Diego Gasca y Jahaziel Writhg Duración: 90 minutos aprox.Recomendada para adultos [+18]*jóvenes +15 acompañados de un adultos   								\n				\n				\n				\n							\n			\n		\n						\n				\n					\n		\n				\n			\n						\n				\n							\n			\n		\n						\n				\n				\n				\n									\n					\n						\n									Comprar
URL:https://foroshakespeare.com/evento/risas-a-granel-12/
LOCATION:Foro Shakespeare\, Zamora 7\, Colonia Condesa\, Cuauhtémoc\, Ciudad de México.\, México
CATEGORIES:Comedia,Monólogo,Stand up
ATTACH;FMTTYPE=image/jpeg:https://foroshakespeare.com/wp-content/uploads/2022/10/evento-risas-a-granel-2022-front-banner.jpg
END:VEVENT
BEGIN:VEVENT
DTSTART;TZID=America/Mexico_City:20260425T203000
DTEND;TZID=America/Mexico_City:20260425T220000
DTSTAMP:20260423T131824
CREATED:20260330T182600Z
LAST-MODIFIED:20260330T182600Z
UID:39591-1777149000-1777154400@foroshakespeare.com
SUMMARY:Risa & Tonic
DESCRIPTION:Stand up Distrito Condesa 				\n				\n				\n				\n					Foro Principal				\n				\n				\n				\n									Viernes 15 de mayo\, 20:30hForo Principal / $300Entrada general Preventa $200 Compañía – MazTeatro La nueva ola de la comedia en México ya está aquí. Cinco comediantes con años de experiencia en hacer reír se reúnen en una sola función para presentar un show potente\, sin filtro y con estilos únicos. Voces frescas que están marcando el rumbo del stand-up actual.       								\n				\n				\n						\n					\n			\n						\n				\n									Elenco – Erik Zamora\, Isra Guzmán\, Marco Valencia\, Diego Gasca y Jahaziel Writhg Duración: 90 minutos aprox.Recomendada para adultos [+18]*jóvenes +15 acompañados de un adultos   								\n				\n				\n				\n							\n			\n		\n						\n				\n					\n		\n				\n			\n						\n				\n							\n			\n		\n						\n				\n				\n				\n									\n					\n						\n									Comprar
URL:https://foroshakespeare.com/evento/risa-tonic-13/
LOCATION:Foro Shakespeare\, Zamora 7\, Colonia Condesa\, Cuauhtémoc\, Ciudad de México.\, México
CATEGORIES:Comedia,Monólogo,Stand up
ATTACH;FMTTYPE=image/jpeg:https://foroshakespeare.com/wp-content/uploads/2026/03/evento_risaandtonic_frontbanner-2.jpg
END:VEVENT
BEGIN:VEVENT
DTSTART;TZID=America/Mexico_City:20260425T203000
DTEND;TZID=America/Mexico_City:20260425T220000
DTSTAMP:20260423T131824
CREATED:20260409T112656Z
LAST-MODIFIED:20260409T112656Z
UID:39809-1777149000-1777154400@foroshakespeare.com
SUMMARY:Stand up Bar Comedy
DESCRIPTION:Stand up Distrito Condesa 				\n				\n				\n				\n					Foro Principal				\n				\n				\n				\n									Viernes 15 de mayo\, 20:30hForo Principal / $300Entrada general Preventa $200 Compañía – MazTeatro La nueva ola de la comedia en México ya está aquí. Cinco comediantes con años de experiencia en hacer reír se reúnen en una sola función para presentar un show potente\, sin filtro y con estilos únicos. Voces frescas que están marcando el rumbo del stand-up actual.       								\n				\n				\n						\n					\n			\n						\n				\n									Elenco – Erik Zamora\, Isra Guzmán\, Marco Valencia\, Diego Gasca y Jahaziel Writhg Duración: 90 minutos aprox.Recomendada para adultos [+18]*jóvenes +15 acompañados de un adultos   								\n				\n				\n				\n							\n			\n		\n						\n				\n					\n		\n				\n			\n						\n				\n							\n			\n		\n						\n				\n				\n				\n									\n					\n						\n									Comprar
URL:https://foroshakespeare.com/evento/stand-up-bar-comedy-14/
LOCATION:Foro Shakespeare\, Zamora 7\, Colonia Condesa\, Cuauhtémoc\, Ciudad de México.\, México
CATEGORIES:Comedia,Monólogo,Stand up
ATTACH;FMTTYPE=image/jpeg:https://foroshakespeare.com/wp-content/uploads/2023/02/evento-stand-up-bar-comedy-front-banner.jpg
END:VEVENT
BEGIN:VEVENT
DTSTART;TZID=America/Mexico_City:20260425T220000
DTEND;TZID=America/Mexico_City:20260425T235900
DTSTAMP:20260423T131824
CREATED:20260330T175442Z
LAST-MODIFIED:20260330T175442Z
UID:39518-1777154400-1777161540@foroshakespeare.com
SUMMARY:Late Night Comedy
DESCRIPTION:Stand up Distrito Condesa 				\n				\n				\n				\n					Foro Principal				\n				\n				\n				\n									Viernes 15 de mayo\, 20:30hForo Principal / $300Entrada general Preventa $200 Compañía – MazTeatro La nueva ola de la comedia en México ya está aquí. Cinco comediantes con años de experiencia en hacer reír se reúnen en una sola función para presentar un show potente\, sin filtro y con estilos únicos. Voces frescas que están marcando el rumbo del stand-up actual.       								\n				\n				\n						\n					\n			\n						\n				\n									Elenco – Erik Zamora\, Isra Guzmán\, Marco Valencia\, Diego Gasca y Jahaziel Writhg Duración: 90 minutos aprox.Recomendada para adultos [+18]*jóvenes +15 acompañados de un adultos   								\n				\n				\n				\n							\n			\n		\n						\n				\n					\n		\n				\n			\n						\n				\n							\n			\n		\n						\n				\n				\n				\n									\n					\n						\n									Comprar
URL:https://foroshakespeare.com/evento/late-night-comedy-4/
LOCATION:Foro Shakespeare\, Zamora 7\, Colonia Condesa\, Cuauhtémoc\, Ciudad de México.\, México
CATEGORIES:Comedia,Stand up
ATTACH;FMTTYPE=image/jpeg:https://foroshakespeare.com/wp-content/uploads/2024/05/late-night-comedy-front-banner.jpg
END:VEVENT
BEGIN:VEVENT
DTSTART;TZID=America/Mexico_City:20260425T223000
DTEND;TZID=America/Mexico_City:20260425T235900
DTSTAMP:20260423T131824
CREATED:20260330T182601Z
LAST-MODIFIED:20260330T182601Z
UID:39592-1777156200-1777161540@foroshakespeare.com
SUMMARY:Risa & Tonic
DESCRIPTION:Stand up Distrito Condesa 				\n				\n				\n				\n					Foro Principal				\n				\n				\n				\n									Viernes 15 de mayo\, 20:30hForo Principal / $300Entrada general Preventa $200 Compañía – MazTeatro La nueva ola de la comedia en México ya está aquí. Cinco comediantes con años de experiencia en hacer reír se reúnen en una sola función para presentar un show potente\, sin filtro y con estilos únicos. Voces frescas que están marcando el rumbo del stand-up actual.       								\n				\n				\n						\n					\n			\n						\n				\n									Elenco – Erik Zamora\, Isra Guzmán\, Marco Valencia\, Diego Gasca y Jahaziel Writhg Duración: 90 minutos aprox.Recomendada para adultos [+18]*jóvenes +15 acompañados de un adultos   								\n				\n				\n				\n							\n			\n		\n						\n				\n					\n		\n				\n			\n						\n				\n							\n			\n		\n						\n				\n				\n				\n									\n					\n						\n									Comprar
URL:https://foroshakespeare.com/evento/risa-tonic-14/
LOCATION:Foro Shakespeare\, Zamora 7\, Colonia Condesa\, Cuauhtémoc\, Ciudad de México.\, México
CATEGORIES:Comedia,Monólogo,Stand up
ATTACH;FMTTYPE=image/jpeg:https://foroshakespeare.com/wp-content/uploads/2026/03/evento_risaandtonic_frontbanner-2.jpg
END:VEVENT
BEGIN:VEVENT
DTSTART;TZID=America/Mexico_City:20260425T223000
DTEND;TZID=America/Mexico_City:20260425T235900
DTSTAMP:20260423T131824
CREATED:20260409T112704Z
LAST-MODIFIED:20260409T112704Z
UID:39810-1777156200-1777161540@foroshakespeare.com
SUMMARY:Stand up Bar Comedy
DESCRIPTION:Stand up Distrito Condesa 				\n				\n				\n				\n					Foro Principal				\n				\n				\n				\n									Viernes 15 de mayo\, 20:30hForo Principal / $300Entrada general Preventa $200 Compañía – MazTeatro La nueva ola de la comedia en México ya está aquí. Cinco comediantes con años de experiencia en hacer reír se reúnen en una sola función para presentar un show potente\, sin filtro y con estilos únicos. Voces frescas que están marcando el rumbo del stand-up actual.       								\n				\n				\n						\n					\n			\n						\n				\n									Elenco – Erik Zamora\, Isra Guzmán\, Marco Valencia\, Diego Gasca y Jahaziel Writhg Duración: 90 minutos aprox.Recomendada para adultos [+18]*jóvenes +15 acompañados de un adultos   								\n				\n				\n				\n							\n			\n		\n						\n				\n					\n		\n				\n			\n						\n				\n							\n			\n		\n						\n				\n				\n				\n									\n					\n						\n									Comprar
URL:https://foroshakespeare.com/evento/stand-up-bar-comedy-15/
LOCATION:Foro Shakespeare\, Zamora 7\, Colonia Condesa\, Cuauhtémoc\, Ciudad de México.\, México
CATEGORIES:Comedia,Monólogo,Stand up
ATTACH;FMTTYPE=image/jpeg:https://foroshakespeare.com/wp-content/uploads/2023/02/evento-stand-up-bar-comedy-front-banner.jpg
END:VEVENT
BEGIN:VEVENT
DTSTART;TZID=America/Mexico_City:20260426T180000
DTEND;TZID=America/Mexico_City:20260426T200000
DTSTAMP:20260423T131824
CREATED:20260405T223113Z
LAST-MODIFIED:20260405T223217Z
UID:39739-1777226400-1777233600@foroshakespeare.com
SUMMARY:Stand up Distrito Condesa
DESCRIPTION:Stand up Distrito Condesa 				\n				\n				\n				\n					Foro Principal				\n				\n				\n				\n									Viernes 15 de mayo\, 20:30hForo Principal / $300Entrada general Preventa $200 Compañía – MazTeatro La nueva ola de la comedia en México ya está aquí. Cinco comediantes con años de experiencia en hacer reír se reúnen en una sola función para presentar un show potente\, sin filtro y con estilos únicos. Voces frescas que están marcando el rumbo del stand-up actual.       								\n				\n				\n						\n					\n			\n						\n				\n									Elenco – Erik Zamora\, Isra Guzmán\, Marco Valencia\, Diego Gasca y Jahaziel Writhg Duración: 90 minutos aprox.Recomendada para adultos [+18]*jóvenes +15 acompañados de un adultos   								\n				\n				\n				\n							\n			\n		\n						\n				\n					\n		\n				\n			\n						\n				\n							\n			\n		\n						\n				\n				\n				\n									\n					\n						\n									Comprar
URL:https://foroshakespeare.com/evento/stand-up-distrito-condesa-22/
LOCATION:Foro Shakespeare\, Zamora 7\, Colonia Condesa\, Cuauhtémoc\, Ciudad de México.\, México
CATEGORIES:Stand up
ATTACH;FMTTYPE=image/jpeg:https://foroshakespeare.com/wp-content/uploads/2025/12/FrontBannerDistritoCondesa.jpeg
END:VEVENT
BEGIN:VEVENT
DTSTART;TZID=America/Mexico_City:20260430T200000
DTEND;TZID=America/Mexico_City:20260430T213000
DTSTAMP:20260423T131824
CREATED:20260409T111719Z
LAST-MODIFIED:20260409T111719Z
UID:39789-1777579200-1777584600@foroshakespeare.com
SUMMARY:Malas amistades
DESCRIPTION:Stand up Distrito Condesa 				\n				\n				\n				\n					Foro Principal				\n				\n				\n				\n									Viernes 15 de mayo\, 20:30hForo Principal / $300Entrada general Preventa $200 Compañía – MazTeatro La nueva ola de la comedia en México ya está aquí. Cinco comediantes con años de experiencia en hacer reír se reúnen en una sola función para presentar un show potente\, sin filtro y con estilos únicos. Voces frescas que están marcando el rumbo del stand-up actual.       								\n				\n				\n						\n					\n			\n						\n				\n									Elenco – Erik Zamora\, Isra Guzmán\, Marco Valencia\, Diego Gasca y Jahaziel Writhg Duración: 90 minutos aprox.Recomendada para adultos [+18]*jóvenes +15 acompañados de un adultos   								\n				\n				\n				\n							\n			\n		\n						\n				\n					\n		\n				\n			\n						\n				\n							\n			\n		\n						\n				\n				\n				\n									\n					\n						\n									Comprar
URL:https://foroshakespeare.com/evento/malas-amistades-4/
LOCATION:Foro Shakespeare\, Zamora 7\, Colonia Condesa\, Cuauhtémoc\, Ciudad de México.\, México
CATEGORIES:Comedia,Monólogo,Stand up
ATTACH;FMTTYPE=image/jpeg:https://foroshakespeare.com/wp-content/uploads/2025/11/malas-amistades-front-banner-2026-2.jpg
END:VEVENT
BEGIN:VEVENT
DTSTART;TZID=America/Mexico_City:20260430T203000
DTEND;TZID=America/Mexico_City:20260430T220000
DTSTAMP:20260423T131824
CREATED:20260409T112859Z
LAST-MODIFIED:20260409T112859Z
UID:39818-1777581000-1777586400@foroshakespeare.com
SUMMARY:Stand up Bar Comedy
DESCRIPTION:Stand up Distrito Condesa 				\n				\n				\n				\n					Foro Principal				\n				\n				\n				\n									Viernes 15 de mayo\, 20:30hForo Principal / $300Entrada general Preventa $200 Compañía – MazTeatro La nueva ola de la comedia en México ya está aquí. Cinco comediantes con años de experiencia en hacer reír se reúnen en una sola función para presentar un show potente\, sin filtro y con estilos únicos. Voces frescas que están marcando el rumbo del stand-up actual.       								\n				\n				\n						\n					\n			\n						\n				\n									Elenco – Erik Zamora\, Isra Guzmán\, Marco Valencia\, Diego Gasca y Jahaziel Writhg Duración: 90 minutos aprox.Recomendada para adultos [+18]*jóvenes +15 acompañados de un adultos   								\n				\n				\n				\n							\n			\n		\n						\n				\n					\n		\n				\n			\n						\n				\n							\n			\n		\n						\n				\n				\n				\n									\n					\n						\n									Comprar
URL:https://foroshakespeare.com/evento/stand-up-bar-comedy-21/
LOCATION:Foro Shakespeare\, Zamora 7\, Colonia Condesa\, Cuauhtémoc\, Ciudad de México.\, México
CATEGORIES:Comedia,Monólogo,Stand up
ATTACH;FMTTYPE=image/jpeg:https://foroshakespeare.com/wp-content/uploads/2023/02/evento-stand-up-bar-comedy-front-banner.jpg
END:VEVENT
END:VCALENDAR