BEGIN:VCALENDAR
VERSION:2.0
PRODID:-//Foro Shakespeare - ECPv6.15.16.1//NONSGML v1.0//EN
CALSCALE:GREGORIAN
METHOD:PUBLISH
X-WR-CALNAME:Foro Shakespeare
X-ORIGINAL-URL:https://foroshakespeare.com
X-WR-CALDESC:Eventos para Foro Shakespeare
REFRESH-INTERVAL;VALUE=DURATION:PT1H
X-Robots-Tag:noindex
X-PUBLISHED-TTL:PT1H
BEGIN:VTIMEZONE
TZID:America/Mexico_City
BEGIN:STANDARD
TZOFFSETFROM:-0600
TZOFFSETTO:-0600
TZNAME:CST
DTSTART:20250101T000000
END:STANDARD
END:VTIMEZONE
BEGIN:VEVENT
DTSTART;TZID=America/Mexico_City:20260420T203000
DTEND;TZID=America/Mexico_City:20260420T223000
DTSTAMP:20260423T173206
CREATED:20260203T091652Z
LAST-MODIFIED:20260203T091652Z
UID:38330-1776717000-1776724200@foroshakespeare.com
SUMMARY:Pase de lista
DESCRIPTION:La última paciente				\n				\n				\n				\n									Hasta el 11 de julioSábados 20:30hForo Principal / $600Entrada numeradaCompañía – Acto Segundo En un consultorio cualquiera de un pueblo cualquiera\, algo comienza a salirse de control. Lo que parecía una sesión más se convierte en una espiral de revelaciones\, heridas abiertas\, deseos peligrosos y voces que no se sabe si existen o son producto del dolor. La última paciente es un drama psicológico de dos actos que cuestiona la ética\, el deseo y la salud mental desde el corazón mismo del diván.       								\n				\n				\n						\n					\n			\n						\n				\n									Elenco – Alejandro Faugier\, Karla Caos y Xareni Aguilar Dirección – Alejandro FaugierDramaturgia – Miguel Angel Diaz Barriga N Vestuario – Ana BahenaDiseño e imagen – Miguel Angel Díaz B.Técnico de sonido – Zac Pichardo Olmedo Duración – 135 minutos aprox.Recomendado para jóvenes [+18] y adultos   								\n				\n				\n				\n							\n			\n		\n						\n				\n					\n		\n				\n			\n						\n				\n							\n			\n		\n						\n				\n				\n				\n									\n					\n						\n									Comprar
URL:https://foroshakespeare.com/evento/pase-de-lista-11/
LOCATION:Foro Shakespeare\, Zamora 7\, Colonia Condesa\, Cuauhtémoc\, Ciudad de México.\, México
CATEGORIES:Musical,Tragedia
ATTACH;FMTTYPE=image/png:https://foroshakespeare.com/wp-content/uploads/2026/01/Front-Banner-1.png
END:VEVENT
END:VCALENDAR